From mboxrd@z Thu Jan  1 00:00:00 1970
Return-Path: <test-report-bounces@dpdk.org>
Received: from mails.dpdk.org (mails.dpdk.org [217.70.189.124])
	by inbox.dpdk.org (Postfix) with ESMTP id 381CB4541A
	for <public@inbox.dpdk.org>; Thu, 13 Jun 2024 06:56:59 +0200 (CEST)
Received: from mails.dpdk.org (localhost [127.0.0.1])
	by mails.dpdk.org (Postfix) with ESMTP id 8455C43312;
	Thu, 13 Jun 2024 06:56:45 +0200 (CEST)
Received: from mail-yw1-f226.google.com (mail-yw1-f226.google.com
 [209.85.128.226])
 by mails.dpdk.org (Postfix) with ESMTP id 58635402B4
 for <test-report@dpdk.org>; Thu, 13 Jun 2024 06:34:45 +0200 (CEST)
Received: by mail-yw1-f226.google.com with SMTP id
 00721157ae682-62ffc495935so6577077b3.1
 for <test-report@dpdk.org>; Wed, 12 Jun 2024 21:34:45 -0700 (PDT)
DKIM-Signature: v=1; a=rsa-sha256; c=relaxed/relaxed;
 d=iol.unh.edu; s=unh-iol; t=1718253285; x=1718858085; darn=dpdk.org;
 h=references:in-reply-to:cc:to:from:subject:message-id:date:from:to
 :cc:subject:date:message-id:reply-to;
 bh=NTTIsNsawxc+jgyHgscVlfuE30JCDmoddIoVsWFlPr0=;
 b=jbhx+cN8XMM4Tdy81uJZU98+cUgS2GUoJ/m15eGoXFMZ+owrj3tikBP9S7LAl1m/Bg
 JH2XPejTIPKpuU1sx0xz3PLJX09LRo79LNwdE5LyliTa4icN0bFPsQ2ORZPoHOuujcaZ
 pqyecHXbIkZJgaR0elipvGO7se1citTCgxnxs=
X-Google-DKIM-Signature: v=1; a=rsa-sha256; c=relaxed/relaxed;
 d=1e100.net; s=20230601; t=1718253285; x=1718858085;
 h=references:in-reply-to:cc:to:from:subject:message-id:date
 :x-gm-message-state:from:to:cc:subject:date:message-id:reply-to;
 bh=NTTIsNsawxc+jgyHgscVlfuE30JCDmoddIoVsWFlPr0=;
 b=dEEqkBvfRNqS5w1W2t7cMlccl77GhhQunGpyGVGhkTYY6XoV0qvaqLe/vInjilrsyd
 hesa+9imdpPD8FrcdlA5vVUcK/VN7wCZhI+7V3EKWOH302iNF7RAn0lzutTBB6c4ING2
 cRn4clh2sg/wE+MmaRRj+WKxpS44irWrJvH62mNjOBVg9tz05CyiYtP+MThFXEDpjCL2
 x0XSuAzlBktuMA7viUtfYneYqlreQ/s5p8Y4c96WNYJrHrk1KvfJ4wuzCxBQA3gcAX5O
 YoDUTvVF7rF5ghiTlwr/CwmnWb2sBiVE9jvfdG3aR7Bt9fUhhwIeRqnoTwEECOA6WXt/
 W/gg==
X-Gm-Message-State: AOJu0YxNwtE9YhgEYbtC/Lll2+BDxCKsnOcfBkUpLtz4mUUqF0urbBuW
 ImttK+ZcCG/5smkLRCj1MbxM3xdQZzHSOUi12vcv5SzmcLLo2E8w40INVCnXdrvEv8OALp0qlBm
 sSFmctWAT6dVSN86IpdiGscONlcCRx4EG8GaN3JCI4n48+bNX+hPU7VOE
X-Google-Smtp-Source: AGHT+IHrG4pNubK03I8BRIbJFEODb2aMs02WbBwqUjnGIDDmzYBnIoiDGd6ii65b+lM/rpmcPrqHbXZJ0APY
X-Received: by 2002:a81:9152:0:b0:62c:de00:be55 with SMTP id
 00721157ae682-62fb8a5914fmr34990517b3.25.1718253284793; 
 Wed, 12 Jun 2024 21:34:44 -0700 (PDT)
Received: from postal.iol.unh.edu (postal.iol.unh.edu.
 [2606:4100:3880:1234::84]) by smtp-relay.gmail.com with ESMTPS id
 00721157ae682-6311a6392ffsm172157b3.63.2024.06.12.21.34.44
 (version=TLS1_2 cipher=ECDHE-ECDSA-AES128-GCM-SHA256 bits=128/128);
 Wed, 12 Jun 2024 21:34:44 -0700 (PDT)
X-Relaying-Domain: iol.unh.edu
Date: Wed, 12 Jun 2024 21:34:44 -0700 (PDT)
Message-ID: <666a76e4.050a0220.3a50a.13a6SMTPIN_ADDED_MISSING@mx.google.com>
Received: from [172.17.0.2] (unknown [172.18.0.217])
 by postal.iol.unh.edu (Postfix) with ESMTP id 6ECD6605C373;
 Thu, 13 Jun 2024 00:34:44 -0400 (EDT)
Subject: |SUCCESS| pw140960 [PATCH] [v2] r8125: add r8125 ethernet poll mode 
From: dpdklab@iol.unh.edu
To: Test Report <test-report@dpdk.org>
Cc: dpdk-test-reports@iol.unh.edu
In-Reply-To: <20240612095145.5760-1-howard_wang@realsil.com.cn>
References: <20240612095145.5760-1-howard_wang@realsil.com.cn>
Content-Type: text/plain
X-BeenThere: test-report@dpdk.org
X-Mailman-Version: 2.1.29
Precedence: list
List-Id: automatic DPDK test reports <test-report.dpdk.org>
List-Unsubscribe: <https://mails.dpdk.org/options/test-report>,
 <mailto:test-report-request@dpdk.org?subject=unsubscribe>
List-Archive: <http://mails.dpdk.org/archives/test-report/>
List-Post: <mailto:test-report@dpdk.org>
List-Help: <mailto:test-report-request@dpdk.org?subject=help>
List-Subscribe: <https://mails.dpdk.org/listinfo/test-report>,
 <mailto:test-report-request@dpdk.org?subject=subscribe>
Errors-To: test-report-bounces@dpdk.org

Test-Label: iol-abi-testing
Test-Status: SUCCESS
http://dpdk.org/patch/140960

_Testing PASS_

Submitter: Howard Wang <howard_wang@realsil.com.cn>
Date: Wednesday, June 12 2024 09:51:45 
DPDK git baseline: Repo:dpdk
  Branch: master
  CommitID:b1a6f8deeee2d30b6e25d9a5c8279dfc9401d9aa

140960 --> testing pass

Test environment and result as below:

+------------------+----------+
|   Environment    | abi_test |
+==================+==========+
| Debian Bullseye  | PASS     |
+------------------+----------+
| Fedora 38        | PASS     |
+------------------+----------+
| CentOS Stream 9  | PASS     |
+------------------+----------+
| Debian 12        | PASS     |
+------------------+----------+
| Fedora 37        | PASS     |
+------------------+----------+
| openSUSE Leap 15 | PASS     |
+------------------+----------+
| CentOS Stream 8  | PASS     |
+------------------+----------+
| Fedora 39        | PASS     |
+------------------+----------+
| RHEL8            | PASS     |
+------------------+----------+
| Ubuntu 24.04     | PASS     |
+------------------+----------+
| Ubuntu 22.04     | PASS     |
+------------------+----------+
| RHEL9            | PASS     |
+------------------+----------+


Debian Bullseye
	Kernel: 5.4.0-167-generic
	Compiler: gcc 10.2.1-6

Fedora 38
	Kernel: Depends on container host
	Compiler: clang 16.0.6

CentOS Stream 9
	Kernel: 5.4.0-167-generic
	Compiler: gcc 11.4.1 20230605

Debian 12
	Kernel: Container Host Kernel
	Compiler: gcc 12.2.0

Fedora 37
	Kernel: Depends on container host system
	Compiler: gcc 12.3.1

openSUSE Leap 15
	Kernel: 5.4.0-167-generic
	Compiler: gcc 7.5.0

CentOS Stream 8
	Kernel: 5.4.0-167-generic
	Compiler: gcc 8.5.0 20210514

Fedora 39
	Kernel: Depends on container host
	Compiler: clang 17.0.6

RHEL8
	Kernel: 5.4.0-167-generic
	Compiler: gcc 8.5.0 20210514 (Red Hat 8.5.0-20)

Ubuntu 24.04
	Kernel: 5.4.0-167-generic
	Compiler: gcc 13.2.0

Ubuntu 22.04
	Kernel: 5.4.0-167-generic
	Compiler: gcc 11.4.0

RHEL9
	Kernel: Depends on container host
	Compiler: gcc 11.4.1

To view detailed results, visit:
https://lab.dpdk.org/results/dashboard/patchsets/30172/

UNH-IOL DPDK Community Lab

To manage your email subscriptions, visit: 
https://lab.dpdk.org/results/dashboard/preferences/subscriptions/