From mboxrd@z Thu Jan  1 00:00:00 1970
Return-Path: <test-report-bounces@dpdk.org>
Received: from mails.dpdk.org (mails.dpdk.org [217.70.189.124])
	by inbox.dpdk.org (Postfix) with ESMTP id 581F14541C
	for <public@inbox.dpdk.org>; Thu, 13 Jun 2024 06:57:04 +0200 (CEST)
Received: from mails.dpdk.org (localhost [127.0.0.1])
	by mails.dpdk.org (Postfix) with ESMTP id B71AB433C8;
	Thu, 13 Jun 2024 06:56:47 +0200 (CEST)
Received: from mail-io1-f100.google.com (mail-io1-f100.google.com
 [209.85.166.100])
 by mails.dpdk.org (Postfix) with ESMTP id 584AE402B4
 for <test-report@dpdk.org>; Thu, 13 Jun 2024 06:38:28 +0200 (CEST)
Received: by mail-io1-f100.google.com with SMTP id
 ca18e2360f4ac-7eb0b9fa610so22758839f.3
 for <test-report@dpdk.org>; Wed, 12 Jun 2024 21:38:28 -0700 (PDT)
DKIM-Signature: v=1; a=rsa-sha256; c=relaxed/relaxed;
 d=iol.unh.edu; s=unh-iol; t=1718253507; x=1718858307; darn=dpdk.org;
 h=references:in-reply-to:cc:to:from:subject:message-id:date:from:to
 :cc:subject:date:message-id:reply-to;
 bh=NTTIsNsawxc+jgyHgscVlfuE30JCDmoddIoVsWFlPr0=;
 b=IKxdVUKAimERzEnyW2s5LPfETHFg1xnLpvb4I0ZPDgtCC2NEKQUltBPQ2jKVEvyniN
 GSvMXmamWOtIn0ma8I0g5FdkhuIUtv2nWxlAih++aFbw5/LXmP1Bbn382RNg39idK/ra
 tNIhch7fgJcVfBEOXKsV9tz+PIXFixmTMlTV0=
X-Google-DKIM-Signature: v=1; a=rsa-sha256; c=relaxed/relaxed;
 d=1e100.net; s=20230601; t=1718253507; x=1718858307;
 h=references:in-reply-to:cc:to:from:subject:message-id:date
 :x-gm-message-state:from:to:cc:subject:date:message-id:reply-to;
 bh=NTTIsNsawxc+jgyHgscVlfuE30JCDmoddIoVsWFlPr0=;
 b=POxHmNLYlihXRux44tXBx0Q4clwpJpB6Fk1p4wNR7z9qjXpeNgTB+4OXhagHQeUzR9
 ModrUOIbppOy76QBzx+tu+DLXU45SPBfKMqu4z7R01YcZe09CQ0uz0VPhDliRfs7icI0
 AXCJKbDd2NtFNS0+0tbQmZC2SZSia62h2k5kJvw3OGOt8XB4tbYRv7io+Cz/3TKvDzO+
 9dh8hjQCKIJqR3JT85kSE6K0nh/Umuajo9BKN48a8SWRMcvsZskd1hIwcHT6Hesj6sK/
 JHEFfmg8BBHLBq35RORZXK7Exrn5W2Dv0MI3yvP8HOa8VO4Gk/NfwG4w5Kg0dirpSufD
 MWvw==
X-Gm-Message-State: AOJu0YzZvWfZSZlXV01CbNZuM+tt7uAD7Z+uRXu7ZVR0LnolyudWla6V
 26W8eWy0LxWigOE92rUfbd4qsqUMk57NO25CAFQzCFb7/nYzeNRp+rWWt74mFpAgZ7GpNcwu47j
 sOopNIZw0JTTk/BmPMurIYs3QfLuqabj7UO/W1fNc
X-Google-Smtp-Source: AGHT+IFChbylp1mHJg7PRIyV6mwDoao3BbNDoHJTMzQq7YgrlMnpLPS9s7CxeUtvUUZ5M77kjjgX+cImKW8r
X-Received: by 2002:a05:6602:14cc:b0:7eb:7bc9:7fc5 with SMTP id
 ca18e2360f4ac-7ebcd190cdcmr488663139f.19.1718253507725; 
 Wed, 12 Jun 2024 21:38:27 -0700 (PDT)
Received: from postal.iol.unh.edu (postal.iol.unh.edu. [132.177.123.84])
 by smtp-relay.gmail.com with ESMTPS id
 ca18e2360f4ac-7ebdbad5a41sm1927139f.23.2024.06.12.21.38.27
 (version=TLS1_2 cipher=ECDHE-ECDSA-AES128-GCM-SHA256 bits=128/128);
 Wed, 12 Jun 2024 21:38:27 -0700 (PDT)
X-Relaying-Domain: iol.unh.edu
Date: Wed, 12 Jun 2024 21:38:27 -0700 (PDT)
Message-ID: <666a77c3.050a0220.60996.1592SMTPIN_ADDED_MISSING@mx.google.com>
Received: from [172.17.0.3] (unknown [172.18.0.217])
 by postal.iol.unh.edu (Postfix) with ESMTP id 330E6605C373;
 Thu, 13 Jun 2024 00:38:27 -0400 (EDT)
Subject: |SUCCESS| pw140960 [PATCH] [v2] r8125: add r8125 ethernet poll mode 
From: dpdklab@iol.unh.edu
To: Test Report <test-report@dpdk.org>
Cc: dpdk-test-reports@iol.unh.edu
In-Reply-To: <20240612095145.5760-1-howard_wang@realsil.com.cn>
References: <20240612095145.5760-1-howard_wang@realsil.com.cn>
Content-Type: text/plain
X-BeenThere: test-report@dpdk.org
X-Mailman-Version: 2.1.29
Precedence: list
List-Id: automatic DPDK test reports <test-report.dpdk.org>
List-Unsubscribe: <https://mails.dpdk.org/options/test-report>,
 <mailto:test-report-request@dpdk.org?subject=unsubscribe>
List-Archive: <http://mails.dpdk.org/archives/test-report/>
List-Post: <mailto:test-report@dpdk.org>
List-Help: <mailto:test-report-request@dpdk.org?subject=help>
List-Subscribe: <https://mails.dpdk.org/listinfo/test-report>,
 <mailto:test-report-request@dpdk.org?subject=subscribe>
Errors-To: test-report-bounces@dpdk.org

Test-Label: iol-abi-testing
Test-Status: SUCCESS
http://dpdk.org/patch/140960

_Testing PASS_

Submitter: Howard Wang <howard_wang@realsil.com.cn>
Date: Wednesday, June 12 2024 09:51:45 
DPDK git baseline: Repo:dpdk
  Branch: master
  CommitID:b1a6f8deeee2d30b6e25d9a5c8279dfc9401d9aa

140960 --> testing pass

Test environment and result as below:

+------------------+----------+
|   Environment    | abi_test |
+==================+==========+
| Debian Bullseye  | PASS     |
+------------------+----------+
| Fedora 38        | PASS     |
+------------------+----------+
| CentOS Stream 9  | PASS     |
+------------------+----------+
| Debian 12        | PASS     |
+------------------+----------+
| Fedora 37        | PASS     |
+------------------+----------+
| openSUSE Leap 15 | PASS     |
+------------------+----------+
| CentOS Stream 8  | PASS     |
+------------------+----------+
| Fedora 39        | PASS     |
+------------------+----------+
| RHEL8            | PASS     |
+------------------+----------+
| Ubuntu 24.04     | PASS     |
+------------------+----------+
| Ubuntu 22.04     | PASS     |
+------------------+----------+
| RHEL9            | PASS     |
+------------------+----------+


Debian Bullseye
	Kernel: 5.4.0-167-generic
	Compiler: gcc 10.2.1-6

Fedora 38
	Kernel: Depends on container host
	Compiler: clang 16.0.6

CentOS Stream 9
	Kernel: 5.4.0-167-generic
	Compiler: gcc 11.4.1 20230605

Debian 12
	Kernel: Container Host Kernel
	Compiler: gcc 12.2.0

Fedora 37
	Kernel: Depends on container host system
	Compiler: gcc 12.3.1

openSUSE Leap 15
	Kernel: 5.4.0-167-generic
	Compiler: gcc 7.5.0

CentOS Stream 8
	Kernel: 5.4.0-167-generic
	Compiler: gcc 8.5.0 20210514

Fedora 39
	Kernel: Depends on container host
	Compiler: clang 17.0.6

RHEL8
	Kernel: 5.4.0-167-generic
	Compiler: gcc 8.5.0 20210514 (Red Hat 8.5.0-20)

Ubuntu 24.04
	Kernel: 5.4.0-167-generic
	Compiler: gcc 13.2.0

Ubuntu 22.04
	Kernel: 5.4.0-167-generic
	Compiler: gcc 11.4.0

RHEL9
	Kernel: Depends on container host
	Compiler: gcc 11.4.1

To view detailed results, visit:
https://lab.dpdk.org/results/dashboard/patchsets/30172/

UNH-IOL DPDK Community Lab

To manage your email subscriptions, visit: 
https://lab.dpdk.org/results/dashboard/preferences/subscriptions/