From mboxrd@z Thu Jan  1 00:00:00 1970
Return-Path: <test-report-bounces@dpdk.org>
Received: from mails.dpdk.org (mails.dpdk.org [217.70.189.124])
	by inbox.dpdk.org (Postfix) with ESMTP id 8C6924541A
	for <public@inbox.dpdk.org>; Thu, 13 Jun 2024 06:57:04 +0200 (CEST)
Received: from mails.dpdk.org (localhost [127.0.0.1])
	by mails.dpdk.org (Postfix) with ESMTP id C2BD7433CA;
	Thu, 13 Jun 2024 06:56:47 +0200 (CEST)
Received: from mail-pj1-f97.google.com (mail-pj1-f97.google.com
 [209.85.216.97]) by mails.dpdk.org (Postfix) with ESMTP id BF52A402B4
 for <test-report@dpdk.org>; Thu, 13 Jun 2024 06:38:35 +0200 (CEST)
Received: by mail-pj1-f97.google.com with SMTP id
 98e67ed59e1d1-2c2c74d9be0so427192a91.1
 for <test-report@dpdk.org>; Wed, 12 Jun 2024 21:38:35 -0700 (PDT)
DKIM-Signature: v=1; a=rsa-sha256; c=relaxed/relaxed;
 d=iol.unh.edu; s=unh-iol; t=1718253515; x=1718858315; darn=dpdk.org;
 h=references:in-reply-to:cc:to:from:subject:message-id:date:from:to
 :cc:subject:date:message-id:reply-to;
 bh=ITYElS+927Hf2pSrTE9eT3khZyeaTQBB/sWjHC1OLdo=;
 b=O5p+wRuhbu+AGH31xc3yFpHMqNp+JqIrlJ5x7DOnmJf2zb0iZUuWS7Q/b6PXKWl/aj
 xB2ontLvuxueYtLXG5OccF9sn76yVLmAPo7Qm0vi39j7Cota9qfN+Nh2ZErN5MYKvHID
 Xo06lyGD7YhUo3u7Q696qwfSCQRXKCd+5Z6AA=
X-Google-DKIM-Signature: v=1; a=rsa-sha256; c=relaxed/relaxed;
 d=1e100.net; s=20230601; t=1718253515; x=1718858315;
 h=references:in-reply-to:cc:to:from:subject:message-id:date
 :x-gm-message-state:from:to:cc:subject:date:message-id:reply-to;
 bh=ITYElS+927Hf2pSrTE9eT3khZyeaTQBB/sWjHC1OLdo=;
 b=FGq3qVO0f7+6PhNahZaTLJZty6gEHhQKCnF1URoRvTB33Pn921BTJ9urtqfjYBGNWy
 ASJP36gjGjBgbIQAGvWpB9dkNGW5u0JRoqkAmdDVoB0juCw2dPXbtqTAE1BlADUOaCOR
 ye0VVg9gagINQaNkEVZ3rd2nTPDm1f+VYuoLCw0JPEiqoPIiMOTyzZsDm+rLLv83cfyJ
 u9joZ2Sw/jNBNnzJpXf1VazbuXPB/2qyPDh7yaVipIpkCMg8BbKTCLmCpX/ESmM5dPT2
 3sc7rljYzLcHjMKlOM4GgqqU557HDjLh5l0VBgrzQCHe2GZ6TIgw9Cn5hSXfn6F/qH+y
 C/Zg==
X-Gm-Message-State: AOJu0YyWNCFOJUFGOwnQ72B46UieDYUwj6DZXpSAQgYlvGZBLC8tPOvx
 uoOPUysBOU65o9hSlwDuOP/fVWeqy8FETIjcjRXADcvX3q4IWe2Hq7YyPNU7233+cTSarC08c5i
 SHwfyRQpnWgSrhfax78zW7u3/kgugPkPl69ULElmt
X-Google-Smtp-Source: AGHT+IFcY7oj27N8F9C6iOZ/PWdbXQalLtMUqWczA672/J0L6Z77S/AAPwGShxnOMJqqE6pwuPMpJVh5t3uW
X-Received: by 2002:a17:90a:d34a:b0:2c2:f4f9:2021 with SMTP id
 98e67ed59e1d1-2c4a76f6873mr4171189a91.43.1718253514880; 
 Wed, 12 Jun 2024 21:38:34 -0700 (PDT)
Received: from postal.iol.unh.edu (postal.iol.unh.edu. [132.177.123.84])
 by smtp-relay.gmail.com with ESMTPS id
 98e67ed59e1d1-2c4a7608bb9sm217312a91.10.2024.06.12.21.38.34
 (version=TLS1_2 cipher=ECDHE-ECDSA-AES128-GCM-SHA256 bits=128/128);
 Wed, 12 Jun 2024 21:38:34 -0700 (PDT)
X-Relaying-Domain: iol.unh.edu
Date: Wed, 12 Jun 2024 21:38:34 -0700 (PDT)
Message-ID: <666a77ca.170a0220.efb84.f03dSMTPIN_ADDED_MISSING@mx.google.com>
Received: from [172.17.0.2] (unknown [172.18.0.217])
 by postal.iol.unh.edu (Postfix) with ESMTP id EEF95605C373;
 Thu, 13 Jun 2024 00:38:33 -0400 (EDT)
Subject: |SUCCESS| pw140960 [PATCH] [v2] r8125: add r8125 ethernet poll mode 
From: dpdklab@iol.unh.edu
To: Test Report <test-report@dpdk.org>
Cc: dpdk-test-reports@iol.unh.edu
In-Reply-To: <20240612095145.5760-1-howard_wang@realsil.com.cn>
References: <20240612095145.5760-1-howard_wang@realsil.com.cn>
Content-Type: text/plain
X-BeenThere: test-report@dpdk.org
X-Mailman-Version: 2.1.29
Precedence: list
List-Id: automatic DPDK test reports <test-report.dpdk.org>
List-Unsubscribe: <https://mails.dpdk.org/options/test-report>,
 <mailto:test-report-request@dpdk.org?subject=unsubscribe>
List-Archive: <http://mails.dpdk.org/archives/test-report/>
List-Post: <mailto:test-report@dpdk.org>
List-Help: <mailto:test-report-request@dpdk.org?subject=help>
List-Subscribe: <https://mails.dpdk.org/listinfo/test-report>,
 <mailto:test-report-request@dpdk.org?subject=subscribe>
Errors-To: test-report-bounces@dpdk.org

Test-Label: iol-compile-arm64-testing
Test-Status: SUCCESS
http://dpdk.org/patch/140960

_Testing PASS_

Submitter: Howard Wang <howard_wang@realsil.com.cn>
Date: Wednesday, June 12 2024 09:51:45 
DPDK git baseline: Repo:dpdk
  Branch: master
  CommitID:b1a6f8deeee2d30b6e25d9a5c8279dfc9401d9aa

140960 --> testing pass

Test environment and result as below:

+----------------------------------------+--------------------+
|              Environment               | dpdk_meson_compile |
+========================================+====================+
| Ubuntu 20.04 ARM SVE                   | PASS               |
+----------------------------------------+--------------------+
| Debian 12 with MUSDK                   | PASS               |
+----------------------------------------+--------------------+
| Fedora 38 (ARM)                        | PASS               |
+----------------------------------------+--------------------+
| RHEL9 (ARM)                            | PASS               |
+----------------------------------------+--------------------+
| Fedora 37 (ARM)                        | PASS               |
+----------------------------------------+--------------------+
| Ubuntu 22.04 (ARM)                     | PASS               |
+----------------------------------------+--------------------+
| Ubuntu 24.04 (ARM)                     | PASS               |
+----------------------------------------+--------------------+
| CentOS Stream 9 (ARM)                  | PASS               |
+----------------------------------------+--------------------+
| Fedora 39 (ARM)                        | PASS               |
+----------------------------------------+--------------------+
| Debian 12 (arm)                        | PASS               |
+----------------------------------------+--------------------+
| Ubuntu 20.04 ARM GCC Cross Compile     | PASS               |
+----------------------------------------+--------------------+
| Ubuntu 20.04 aarch32 GCC Cross Compile | PASS               |
+----------------------------------------+--------------------+
| Ubuntu 20.04 ARM Clang Cross Compile   | PASS               |
+----------------------------------------+--------------------+
| Debian 11 (Buster) (ARM)               | PASS               |
+----------------------------------------+--------------------+
| Ubuntu 20.04 (ARM)                     | PASS               |
+----------------------------------------+--------------------+
| Fedora 39 (ARM Clang)                  | PASS               |
+----------------------------------------+--------------------+
| Fedora 38 (ARM Clang)                  | PASS               |
+----------------------------------------+--------------------+


Ubuntu 20.04 ARM SVE
	Kernel: 5.4.0-167-generic
	Compiler: gcc (Ubuntu 10.5.0-1ubuntu1~20.04) 10.5.0

Debian 12 with MUSDK
	Kernel: Container Host Kernel
	Compiler: gcc 12.2.0

Fedora 38 (ARM)
	Kernel: Depends on container host
	Compiler: gcc 13.2.1

RHEL9 (ARM)
	Kernel: Depends on container host
	Compiler: gcc 11.4.1

Fedora 37 (ARM)
	Kernel: Depends on container host
	Compiler: gcc 12.3.1

Ubuntu 22.04 (ARM)
	Kernel: Container Host Kernel
	Compiler: gcc 11.4.0

Ubuntu 24.04 (ARM)
	Kernel: 5.4.0-167-generic
	Compiler: gcc 13.2.0

CentOS Stream 9 (ARM)
	Kernel: Container Host Kernel
	Compiler: gcc 11.4.1

Fedora 39 (ARM)
	Kernel: Depends on container host
	Compiler: gcc 13.2.1

Debian 12 (arm)
	Kernel: Container Host Kernel
	Compiler: gcc 12.2.0

Ubuntu 20.04 ARM GCC Cross Compile
	Kernel: 5.4.0-167-generic
	Compiler: aarch64-linux-gnu-gcc (Ubuntu 9.4.0-1ubuntu1~20.04.2) 9.4.0

Ubuntu 20.04 aarch32 GCC Cross Compile
	Kernel: 5.4.0-167-generic
	Compiler: gcc 9.4.0

Ubuntu 20.04 ARM Clang Cross Compile
	Kernel: 5.4.0-72-generic
	Compiler: clang 10.0.0-4ubuntu1

Debian 11 (Buster) (ARM)
	Kernel: Container Host Kernel
	Compiler: gcc 10.2.1

Ubuntu 20.04 (ARM)
	Kernel: Container Host Kernel
	Compiler: gcc 9.4.0

Fedora 39 (ARM Clang)
	Kernel: Depends on container host
	Compiler: clang 17.0.6

Fedora 38 (ARM Clang)
	Kernel: Depends on container host
	Compiler: clang 16.0.6

To view detailed results, visit:
https://lab.dpdk.org/results/dashboard/patchsets/30172/

UNH-IOL DPDK Community Lab

To manage your email subscriptions, visit: 
https://lab.dpdk.org/results/dashboard/preferences/subscriptions/