From mboxrd@z Thu Jan  1 00:00:00 1970
Return-Path: <test-report-bounces@dpdk.org>
Received: from mails.dpdk.org (mails.dpdk.org [217.70.189.124])
	by inbox.dpdk.org (Postfix) with ESMTP id 9C12A4541A
	for <public@inbox.dpdk.org>; Thu, 13 Jun 2024 06:57:19 +0200 (CEST)
Received: from mails.dpdk.org (localhost [127.0.0.1])
	by mails.dpdk.org (Postfix) with ESMTP id 3511D434D3;
	Thu, 13 Jun 2024 06:56:53 +0200 (CEST)
Received: from mail-qv1-f99.google.com (mail-qv1-f99.google.com
 [209.85.219.99]) by mails.dpdk.org (Postfix) with ESMTP id DD2B5402B4
 for <test-report@dpdk.org>; Thu, 13 Jun 2024 06:47:59 +0200 (CEST)
Received: by mail-qv1-f99.google.com with SMTP id
 6a1803df08f44-6a3652a732fso3060456d6.3
 for <test-report@dpdk.org>; Wed, 12 Jun 2024 21:47:59 -0700 (PDT)
DKIM-Signature: v=1; a=rsa-sha256; c=relaxed/relaxed;
 d=iol.unh.edu; s=unh-iol; t=1718254079; x=1718858879; darn=dpdk.org;
 h=references:in-reply-to:cc:to:from:subject:message-id:date:from:to
 :cc:subject:date:message-id:reply-to;
 bh=kPrkURqmCPZiHhXbiYwGyxkXVyUYRXPCedtJyVpiGVk=;
 b=VRpuyoSW/K6Dj96pQzbkMKxJVfJ59n4rbg7qpLX8YGv8QV/3cJJlD/qnQoczNeBfkQ
 /bnBugLrX7Cem6ECpOYjpzOIcoSfPT+0bmCMsp3cCimlP+h+6ZaQdcUT+Mf80/iqGI5s
 bwVPg9CIXyi7Xm9+BSb4sH9spomP50MJjroRY=
X-Google-DKIM-Signature: v=1; a=rsa-sha256; c=relaxed/relaxed;
 d=1e100.net; s=20230601; t=1718254079; x=1718858879;
 h=references:in-reply-to:cc:to:from:subject:message-id:date
 :x-gm-message-state:from:to:cc:subject:date:message-id:reply-to;
 bh=kPrkURqmCPZiHhXbiYwGyxkXVyUYRXPCedtJyVpiGVk=;
 b=HfdL4WfdoDeYQC1q0dHU+v+JFMsUThAz7SNreQott3ZiCqHra1Fx7iIeM2xp7O/nzU
 Rgi8XMdsAZRO1+uUct0BTKyt7hclTaU8FvGsN7Zu14bEG3Jlg3bo1DbvQv91L0sLhXzV
 hShfoDxEmplwNIYzqYek8rsXwtA39VISVwD1fZgjW8OBJQPPkoxreQ3Gv8xVflo+gUSm
 74rHrkBV7/7mJiXcRhjLtaO/IcDstAzRVZmM6TscWklyWZFma6OHpX5STpnaeDaPVpA9
 tp6uim8+LqPZ5wKLLnMKDWKXUyoQ9nOdX/Ib8kVty0TmE5YFAy5LZp3CSYJCeiGyx/iX
 8otA==
X-Gm-Message-State: AOJu0YwjAPgETHMw34KrDv33p0dETmHYf2VBXYt8IwmqmSe9gWMqTpuk
 KNCEFyF7LzX1UUqeDQG4fc6U3rquefUSZDc2TA/76I/+2zp/tlKGMrnnCa4uWiOmB0sVHgmzLOn
 6Evo9RixEUJ4qEpdtGEq+8Y94LY1pZKNPdq/Fh5zd
X-Google-Smtp-Source: AGHT+IF5a6YFZMrmyIwNjtH3w/8WFZz1g1hnkVhVpCFzEY9n0GivnkY4TikssyvuatM5RvTx3Z1UbaDKj5IX
X-Received: by 2002:a05:6214:3da0:b0:6b0:729c:5efc with SMTP id
 6a1803df08f44-6b1a7130348mr40379136d6.56.1718254079320; 
 Wed, 12 Jun 2024 21:47:59 -0700 (PDT)
Received: from postal.iol.unh.edu (postal.iol.unh.edu. [132.177.123.84])
 by smtp-relay.gmail.com with ESMTPS id
 6a1803df08f44-6b2a5a9ac8asm118076d6.46.2024.06.12.21.47.59
 (version=TLS1_2 cipher=ECDHE-ECDSA-AES128-GCM-SHA256 bits=128/128);
 Wed, 12 Jun 2024 21:47:59 -0700 (PDT)
X-Relaying-Domain: iol.unh.edu
Date: Wed, 12 Jun 2024 21:47:59 -0700 (PDT)
Message-ID: <666a79ff.050a0220.3d3a0c.0bdeSMTPIN_ADDED_MISSING@mx.google.com>
Received: from [172.17.0.2] (unknown [172.18.0.217])
 by postal.iol.unh.edu (Postfix) with ESMTP id 04CEF605C373;
 Thu, 13 Jun 2024 00:47:59 -0400 (EDT)
Subject: |SUCCESS| pw140959 [PATCH] [v2] r8126: add r8126 ethernet poll mode 
From: dpdklab@iol.unh.edu
To: Test Report <test-report@dpdk.org>
Cc: dpdk-test-reports@iol.unh.edu
In-Reply-To: <20240612094032.5500-1-howard_wang@realsil.com.cn>
References: <20240612094032.5500-1-howard_wang@realsil.com.cn>
Content-Type: text/plain
X-BeenThere: test-report@dpdk.org
X-Mailman-Version: 2.1.29
Precedence: list
List-Id: automatic DPDK test reports <test-report.dpdk.org>
List-Unsubscribe: <https://mails.dpdk.org/options/test-report>,
 <mailto:test-report-request@dpdk.org?subject=unsubscribe>
List-Archive: <http://mails.dpdk.org/archives/test-report/>
List-Post: <mailto:test-report@dpdk.org>
List-Help: <mailto:test-report-request@dpdk.org?subject=help>
List-Subscribe: <https://mails.dpdk.org/listinfo/test-report>,
 <mailto:test-report-request@dpdk.org?subject=subscribe>
Errors-To: test-report-bounces@dpdk.org

Test-Label: iol-unit-amd64-testing
Test-Status: SUCCESS
http://dpdk.org/patch/140959

_Testing PASS_

Submitter: Howard Wang <howard_wang@realsil.com.cn>
Date: Wednesday, June 12 2024 09:40:32 
DPDK git baseline: Repo:dpdk
  Branch: master
  CommitID:b1a6f8deeee2d30b6e25d9a5c8279dfc9401d9aa

140959 --> testing pass

Test environment and result as below:

+---------------------+----------------+
|     Environment     | dpdk_unit_test |
+=====================+================+
| Windows Server 2019 | PASS           |
+---------------------+----------------+
| CentOS Stream 8     | PASS           |
+---------------------+----------------+
| CentOS Stream 9     | PASS           |
+---------------------+----------------+
| Debian Bullseye     | PASS           |
+---------------------+----------------+
| Fedora 37           | PASS           |
+---------------------+----------------+
| Debian 12           | PASS           |
+---------------------+----------------+
| Fedora 39           | PASS           |
+---------------------+----------------+
| Windows Server 2022 | PASS           |
+---------------------+----------------+
| RHEL9               | PASS           |
+---------------------+----------------+
| Fedora 38           | PASS           |
+---------------------+----------------+
| Ubuntu 22.04        | PASS           |
+---------------------+----------------+
| openSUSE Leap 15    | PASS           |
+---------------------+----------------+
| Ubuntu 20.04        | PASS           |
+---------------------+----------------+
| RHEL8               | PASS           |
+---------------------+----------------+
| Ubuntu 24.04        | PASS           |
+---------------------+----------------+


Windows Server 2019
	Kernel: 10.0.17763
	Compiler: clang 14.0 and gcc 8.1.0 (MinGW)

CentOS Stream 8
	Kernel: 5.4.0-167-generic
	Compiler: gcc 8.5.0 20210514

CentOS Stream 9
	Kernel: 5.4.0-167-generic
	Compiler: gcc 11.4.1 20230605

Debian Bullseye
	Kernel: 5.4.0-167-generic
	Compiler: gcc 10.2.1-6

Fedora 37
	Kernel: Depends on container host system
	Compiler: gcc 12.3.1

Debian 12
	Kernel: Container Host Kernel
	Compiler: gcc 12.2.0

Fedora 39
	Kernel: Depends on container host
	Compiler: gcc 13.2.1

Windows Server 2022
	Kernel: 10.0.20348.2031
	Compiler: clang 15.0.7, gcc 8.1.0 (MinGW), and MSVC VS 17.9

RHEL9
	Kernel: Depends on container host
	Compiler: gcc 11.4.1

Fedora 38
	Kernel: Depends on container host
	Compiler: clang 16.0.6

Ubuntu 22.04
	Kernel: 5.4.0-167-generic
	Compiler: gcc 11.4.0

openSUSE Leap 15
	Kernel: 5.4.0-167-generic
	Compiler: gcc 7.5.0

Ubuntu 20.04
	Kernel: 5.4.0-167-generic
	Compiler: gcc 9.4.0-1ubuntu1~20.04.1

RHEL8
	Kernel: 5.4.0-167-generic
	Compiler: gcc 8.5.0 20210514 (Red Hat 8.5.0-20)

Ubuntu 24.04
	Kernel: 5.4.0-167-generic
	Compiler: gcc 13.2.0

To view detailed results, visit:
https://lab.dpdk.org/results/dashboard/patchsets/30171/

UNH-IOL DPDK Community Lab

To manage your email subscriptions, visit: 
https://lab.dpdk.org/results/dashboard/preferences/subscriptions/