From mboxrd@z Thu Jan  1 00:00:00 1970
Return-Path: <test-report-bounces@dpdk.org>
Received: from mails.dpdk.org (mails.dpdk.org [217.70.189.124])
	by inbox.dpdk.org (Postfix) with ESMTP id 8F4784541E
	for <public@inbox.dpdk.org>; Thu, 13 Jun 2024 14:37:28 +0200 (CEST)
Received: from mails.dpdk.org (localhost [127.0.0.1])
	by mails.dpdk.org (Postfix) with ESMTP id 89938402F0;
	Thu, 13 Jun 2024 14:37:28 +0200 (CEST)
Received: from mail-oo1-f99.google.com (mail-oo1-f99.google.com
 [209.85.161.99]) by mails.dpdk.org (Postfix) with ESMTP id AF451402CB
 for <test-report@dpdk.org>; Thu, 13 Jun 2024 14:37:26 +0200 (CEST)
Received: by mail-oo1-f99.google.com with SMTP id
 006d021491bc7-5b9794dad09so472723eaf.3
 for <test-report@dpdk.org>; Thu, 13 Jun 2024 05:37:26 -0700 (PDT)
DKIM-Signature: v=1; a=rsa-sha256; c=relaxed/relaxed;
 d=iol.unh.edu; s=unh-iol; t=1718282246; x=1718887046; darn=dpdk.org;
 h=references:in-reply-to:cc:to:from:subject:message-id:date:from:to
 :cc:subject:date:message-id:reply-to;
 bh=ow4BDDl0td/jw/fIIiI1mjsqJDrj2IFRUE6VSzVk+/Q=;
 b=VXYI7WGbQfNm9DxA4oiAWaqg9sM7xcmDda24Qm7Hsra7WkTuO3UrNkZmwaqzHw6XZQ
 CxmgRo2hQ1w72dSlivmW8HnFWrr5ZuD3Ev/4rw4Lf7IHDPOiC0BgagNj0Yvd/EHsAjCb
 vomsOm/eAryaVeM0QOEPtCOGVYn4wCmN/4DjM=
X-Google-DKIM-Signature: v=1; a=rsa-sha256; c=relaxed/relaxed;
 d=1e100.net; s=20230601; t=1718282246; x=1718887046;
 h=references:in-reply-to:cc:to:from:subject:message-id:date
 :x-gm-message-state:from:to:cc:subject:date:message-id:reply-to;
 bh=ow4BDDl0td/jw/fIIiI1mjsqJDrj2IFRUE6VSzVk+/Q=;
 b=PbjmNhbINWjbU29pUyB9yuws40bHZGp2Ao65SQhmvMxXFUQMoSnkapQ6CdVcC3kp9g
 r9OCRE15mokqwR6vQ8L7GUhtGtKpymof6N5Vzw9PX4Q/bb8UFkQEdeQS7fjyK9JdtDNI
 8g5/U9c+BoeugTl8S++PQaW9iEn0RkJSDDLgAN9edGLvsKNIUSBd5pCtTq1+RTZyeVPg
 xJnWmWqHWtoLHVLMU4QN7Y75Vmbmm8SyM/j5wcG8XXqJIZnj75gEtZ7SUDj055YWfogy
 3jrTw/ZGhMvtuVEjJWSTDnxonpWwPriLSjPjONB6jfqur2DPLL+uwOwfI8ghPBwcwf4B
 4hSQ==
X-Gm-Message-State: AOJu0Yz2mmgrAjMYEzmEqYWSuBZoDR6L6I5sBA2Tzq/mQXoynWM9xxj3
 jMFsgiEcs+ERiHpLxHCl8gGh3l4zaH5WyBeGTKgxYL5NVOPy/z211/oWfatDYDMR417US8ZDa6V
 wYmlM9VGQrfNgB+43yQIg4iwB3HSi716+PuvUeuxs9oI3jkIRvq2H6Z00
X-Google-Smtp-Source: AGHT+IHMHbWlnN4za9NgAIppfVM8TrZKwCT7fXPAkHo4surhWP0EmHAEdU1NnKn8oVNRZgiNnn07jYjdxmFy
X-Received: by 2002:a05:6820:220a:b0:5bb:1bed:31a7 with SMTP id
 006d021491bc7-5bb3ba4c798mr5451681eaf.6.1718282245744; 
 Thu, 13 Jun 2024 05:37:25 -0700 (PDT)
Received: from postal.iol.unh.edu (postal.iol.unh.edu.
 [2606:4100:3880:1234::84]) by smtp-relay.gmail.com with ESMTPS id
 006d021491bc7-5bd5e1d03e6sm41984eaf.15.2024.06.13.05.37.25
 (version=TLS1_2 cipher=ECDHE-ECDSA-AES128-GCM-SHA256 bits=128/128);
 Thu, 13 Jun 2024 05:37:25 -0700 (PDT)
X-Relaying-Domain: iol.unh.edu
Date: Thu, 13 Jun 2024 05:37:25 -0700 (PDT)
Message-ID: <666ae805.4a0a0220.f81b0.2f44SMTPIN_ADDED_MISSING@mx.google.com>
Received: from [172.21.0.6] (unknown [172.18.0.240])
 by postal.iol.unh.edu (Postfix) with ESMTP id D3D03605C373;
 Thu, 13 Jun 2024 08:37:24 -0400 (EDT)
Subject: |SUCCESS| pw141119 [PATCH] [v1] Initial implementation queue start s
From: dpdklab@iol.unh.edu
To: Test Report <test-report@dpdk.org>
Cc: dpdk-test-reports@iol.unh.edu
In-Reply-To: <20240612200337.19338-2-dmarx@iol.unh.edu>
References: <20240612200337.19338-2-dmarx@iol.unh.edu>
Content-Type: text/plain
X-BeenThere: test-report@dpdk.org
X-Mailman-Version: 2.1.29
Precedence: list
List-Id: automatic DPDK test reports <test-report.dpdk.org>
List-Unsubscribe: <https://mails.dpdk.org/options/test-report>,
 <mailto:test-report-request@dpdk.org?subject=unsubscribe>
List-Archive: <http://mails.dpdk.org/archives/test-report/>
List-Post: <mailto:test-report@dpdk.org>
List-Help: <mailto:test-report-request@dpdk.org?subject=help>
List-Subscribe: <https://mails.dpdk.org/listinfo/test-report>,
 <mailto:test-report-request@dpdk.org?subject=subscribe>
Errors-To: test-report-bounces@dpdk.org

Test-Label: iol-abi-testing
Test-Status: SUCCESS
http://dpdk.org/patch/141119

_Testing PASS_

Submitter: Dean Marx <dmarx@iol.unh.edu>
Date: Wednesday, June 12 2024 20:03:38 
DPDK git baseline: Repo:dpdk
  Branch: master
  CommitID:d7fcf40e1f8946e2d1ac8870df53b5d1f8d0b3c9

141119 --> testing pass

Test environment and result as below:

+------------------+----------+
|   Environment    | abi_test |
+==================+==========+
| Fedora 39        | PASS     |
+------------------+----------+
| Ubuntu 22.04     | PASS     |
+------------------+----------+
| RHEL9            | PASS     |
+------------------+----------+
| openSUSE Leap 15 | PASS     |
+------------------+----------+
| Fedora 38        | PASS     |
+------------------+----------+
| Debian Bullseye  | PASS     |
+------------------+----------+
| CentOS Stream 8  | PASS     |
+------------------+----------+


Fedora 39
	Kernel: Depends on container host
	Compiler: clang 17.0.6

Ubuntu 22.04
	Kernel: 5.4.0-167-generic
	Compiler: gcc 11.4.0

RHEL9
	Kernel: Depends on container host
	Compiler: gcc 11.4.1

openSUSE Leap 15
	Kernel: 5.4.0-167-generic
	Compiler: gcc 7.5.0

Fedora 38
	Kernel: Depends on container host
	Compiler: clang 16.0.6

Debian Bullseye
	Kernel: 5.4.0-167-generic
	Compiler: gcc 10.2.1-6

CentOS Stream 8
	Kernel: 5.4.0-167-generic
	Compiler: gcc 8.5.0 20210514

To view detailed results, visit:
https://lab.dpdk.org/results/dashboard/patchsets/30177/

UNH-IOL DPDK Community Lab

To manage your email subscriptions, visit: 
https://lab.dpdk.org/results/dashboard/preferences/subscriptions/