From mboxrd@z Thu Jan  1 00:00:00 1970
Return-Path: <test-report-bounces@dpdk.org>
Received: from mails.dpdk.org (mails.dpdk.org [217.70.189.124])
	by inbox.dpdk.org (Postfix) with ESMTP id 63D784541E
	for <public@inbox.dpdk.org>; Thu, 13 Jun 2024 14:53:48 +0200 (CEST)
Received: from mails.dpdk.org (localhost [127.0.0.1])
	by mails.dpdk.org (Postfix) with ESMTP id 60F4040E44;
	Thu, 13 Jun 2024 14:53:48 +0200 (CEST)
Received: from mail-il1-f227.google.com (mail-il1-f227.google.com
 [209.85.166.227])
 by mails.dpdk.org (Postfix) with ESMTP id 74A9940E3E
 for <test-report@dpdk.org>; Thu, 13 Jun 2024 14:53:47 +0200 (CEST)
Received: by mail-il1-f227.google.com with SMTP id
 e9e14a558f8ab-37588517095so3696555ab.2
 for <test-report@dpdk.org>; Thu, 13 Jun 2024 05:53:47 -0700 (PDT)
DKIM-Signature: v=1; a=rsa-sha256; c=relaxed/relaxed;
 d=iol.unh.edu; s=unh-iol; t=1718283227; x=1718888027; darn=dpdk.org;
 h=references:in-reply-to:cc:to:from:subject:message-id:date:from:to
 :cc:subject:date:message-id:reply-to;
 bh=AA5hixW5//bR4L0fZs8Anpv8H4zS0hLqQP+yGz5Io1M=;
 b=iBrFAvgEbGnDhzv7KKmcVET5R6hL0sVmYomrqX/AxAl7pHjhVl9ubgbEuE/YbUUwpS
 YQRTKW7H/qkcHkbforXE3Fn/2VkyoPiij8SjepreDsohI4GHmGjsKOHj6KDFO9UVYxfM
 YYxx/i9AV3P+HK5I97adx1+lBgbIrq6wJ3/VU=
X-Google-DKIM-Signature: v=1; a=rsa-sha256; c=relaxed/relaxed;
 d=1e100.net; s=20230601; t=1718283227; x=1718888027;
 h=references:in-reply-to:cc:to:from:subject:message-id:date
 :x-gm-message-state:from:to:cc:subject:date:message-id:reply-to;
 bh=AA5hixW5//bR4L0fZs8Anpv8H4zS0hLqQP+yGz5Io1M=;
 b=spkSJ+/M9nxVMulrJfozPI9PVXkiU67wDRcwXEgc/tVviZV/QCI+T3fa9BTV8ElJRa
 8gZE5eupcSBGOvmpjAKuDqTrRNCK7ftq93sreJHjB2+6J0ToXZ3DEX9PDG1NPfiAxpg2
 qqdybU+ngAx++ozEn8GkBenffeWBJYdHpEq5yGlvQ+3VIHE+vLNDDOhWcTLkNEJzfxZf
 rEQFYJc1GIsUNgEbVkmU/yanux68Mj+nC5tqkclK7PYZ8dhBMOrYN1CmAQy+yFEmg/Z8
 WCStS8YtSRUrt5NND5KF1LTars5a6GI0WWZ0tmb6PiLkE6DMuGvNIglHf26A3V1KxEUM
 MaTw==
X-Gm-Message-State: AOJu0YwBMPDhZOgof3z7YsXxMTkpVXe7GQxqR5PKqByJ+IqyieEQ8jUH
 2HUfUKTywJcdt2wo7PRNkvh9V+ztLj/2OMXpvjApepPE2KkYzr7gvpJmW+KYLhfg7SI8lVdE6Wj
 JpKRFIqC6g1gYkSk2pOv7c0RqScTxug+yqPGxVUU/Fg/zLSyQj2Eshqs4
X-Google-Smtp-Source: AGHT+IHStERu9YzSh/X8Ko7jPlfJ4JC7r0yuvmD5dOHkcjO9zvj+apnCWlr+1e6QW7wP5f3mApuPNFPaXxhU
X-Received: by 2002:a05:6e02:1c06:b0:375:c240:e7a6 with SMTP id
 e9e14a558f8ab-375cd1bc892mr47387495ab.24.1718283226508; 
 Thu, 13 Jun 2024 05:53:46 -0700 (PDT)
Received: from postal.iol.unh.edu (postal.iol.unh.edu.
 [2606:4100:3880:1234::84]) by smtp-relay.gmail.com with ESMTPS id
 e9e14a558f8ab-375d85c1470sm477435ab.3.2024.06.13.05.53.46
 (version=TLS1_2 cipher=ECDHE-ECDSA-AES128-GCM-SHA256 bits=128/128);
 Thu, 13 Jun 2024 05:53:46 -0700 (PDT)
X-Relaying-Domain: iol.unh.edu
Date: Thu, 13 Jun 2024 05:53:46 -0700 (PDT)
Message-ID: <666aebda.050a0220.7caab.3d9eSMTPIN_ADDED_MISSING@mx.google.com>
Received: from [172.21.0.7] (unknown [172.18.0.240])
 by postal.iol.unh.edu (Postfix) with ESMTP id 2B1D4605C373;
 Thu, 13 Jun 2024 08:53:46 -0400 (EDT)
Subject: |SUCCESS| pw141119 [PATCH] [v1] Initial implementation queue start s
From: dpdklab@iol.unh.edu
To: Test Report <test-report@dpdk.org>
Cc: dpdk-test-reports@iol.unh.edu
In-Reply-To: <20240612200337.19338-2-dmarx@iol.unh.edu>
References: <20240612200337.19338-2-dmarx@iol.unh.edu>
Content-Type: text/plain
X-BeenThere: test-report@dpdk.org
X-Mailman-Version: 2.1.29
Precedence: list
List-Id: automatic DPDK test reports <test-report.dpdk.org>
List-Unsubscribe: <https://mails.dpdk.org/options/test-report>,
 <mailto:test-report-request@dpdk.org?subject=unsubscribe>
List-Archive: <http://mails.dpdk.org/archives/test-report/>
List-Post: <mailto:test-report@dpdk.org>
List-Help: <mailto:test-report-request@dpdk.org?subject=help>
List-Subscribe: <https://mails.dpdk.org/listinfo/test-report>,
 <mailto:test-report-request@dpdk.org?subject=subscribe>
Errors-To: test-report-bounces@dpdk.org

Test-Label: iol-abi-testing
Test-Status: SUCCESS
http://dpdk.org/patch/141119

_Testing PASS_

Submitter: Dean Marx <dmarx@iol.unh.edu>
Date: Wednesday, June 12 2024 20:03:38 
DPDK git baseline: Repo:dpdk
  Branch: master
  CommitID:d7fcf40e1f8946e2d1ac8870df53b5d1f8d0b3c9

141119 --> testing pass

Test environment and result as below:

+------------------+----------+
|   Environment    | abi_test |
+==================+==========+
| Fedora 39        | PASS     |
+------------------+----------+
| Ubuntu 22.04     | PASS     |
+------------------+----------+
| RHEL9            | PASS     |
+------------------+----------+
| openSUSE Leap 15 | PASS     |
+------------------+----------+
| Fedora 38        | PASS     |
+------------------+----------+
| Debian Bullseye  | PASS     |
+------------------+----------+
| CentOS Stream 8  | PASS     |
+------------------+----------+
| CentOS Stream 9  | PASS     |
+------------------+----------+
| Debian 12        | PASS     |
+------------------+----------+
| RHEL8            | PASS     |
+------------------+----------+
| Fedora 37        | PASS     |
+------------------+----------+
| Ubuntu 24.04     | PASS     |
+------------------+----------+


Fedora 39
	Kernel: Depends on container host
	Compiler: clang 17.0.6

Ubuntu 22.04
	Kernel: 5.4.0-167-generic
	Compiler: gcc 11.4.0

RHEL9
	Kernel: Depends on container host
	Compiler: gcc 11.4.1

openSUSE Leap 15
	Kernel: 5.4.0-167-generic
	Compiler: gcc 7.5.0

Fedora 38
	Kernel: Depends on container host
	Compiler: clang 16.0.6

Debian Bullseye
	Kernel: 5.4.0-167-generic
	Compiler: gcc 10.2.1-6

CentOS Stream 8
	Kernel: 5.4.0-167-generic
	Compiler: gcc 8.5.0 20210514

CentOS Stream 9
	Kernel: 5.4.0-167-generic
	Compiler: gcc 11.4.1 20230605

Debian 12
	Kernel: Container Host Kernel
	Compiler: gcc 12.2.0

RHEL8
	Kernel: 5.4.0-167-generic
	Compiler: gcc 8.5.0 20210514 (Red Hat 8.5.0-20)

Fedora 37
	Kernel: Depends on container host system
	Compiler: gcc 12.3.1

Ubuntu 24.04
	Kernel: 5.4.0-167-generic
	Compiler: gcc 13.2.0

To view detailed results, visit:
https://lab.dpdk.org/results/dashboard/patchsets/30177/

UNH-IOL DPDK Community Lab

To manage your email subscriptions, visit: 
https://lab.dpdk.org/results/dashboard/preferences/subscriptions/