From mboxrd@z Thu Jan  1 00:00:00 1970
Return-Path: <test-report-bounces@dpdk.org>
Received: from mails.dpdk.org (mails.dpdk.org [217.70.189.124])
	by inbox.dpdk.org (Postfix) with ESMTP id C7B0045455
	for <public@inbox.dpdk.org>; Fri, 14 Jun 2024 02:33:19 +0200 (CEST)
Received: from mails.dpdk.org (localhost [127.0.0.1])
	by mails.dpdk.org (Postfix) with ESMTP id C3CDF410E4;
	Fri, 14 Jun 2024 02:33:19 +0200 (CEST)
Received: from mail-pg1-f227.google.com (mail-pg1-f227.google.com
 [209.85.215.227])
 by mails.dpdk.org (Postfix) with ESMTP id 8FDD6402C6
 for <test-report@dpdk.org>; Fri, 14 Jun 2024 02:33:18 +0200 (CEST)
Received: by mail-pg1-f227.google.com with SMTP id
 41be03b00d2f7-6e40ee57f45so1259124a12.0
 for <test-report@dpdk.org>; Thu, 13 Jun 2024 17:33:18 -0700 (PDT)
DKIM-Signature: v=1; a=rsa-sha256; c=relaxed/relaxed;
 d=iol.unh.edu; s=unh-iol; t=1718325198; x=1718929998; darn=dpdk.org;
 h=references:in-reply-to:cc:to:from:subject:message-id:date:from:to
 :cc:subject:date:message-id:reply-to;
 bh=vkVWuWfpi12YCXYOVKzfeeFtRq3fInoN68J8XiQSQg0=;
 b=H5H17MNgarlH8Ph5SKNXkvip5s3MqFD1M/3UkSJ+KbbTY38F34zTmyA24bqIC0PHA4
 lum6OeKVlr46HF1PXpCBzgj3Vq7Ur4o5Qx4N5QyriwKDGdaEIlaunrOuHOS5LZJTGpJo
 Nz0FVqlUWIGMFk+CvibHkhKPdIlI/RQx8b3xo=
X-Google-DKIM-Signature: v=1; a=rsa-sha256; c=relaxed/relaxed;
 d=1e100.net; s=20230601; t=1718325198; x=1718929998;
 h=references:in-reply-to:cc:to:from:subject:message-id:date
 :x-gm-message-state:from:to:cc:subject:date:message-id:reply-to;
 bh=vkVWuWfpi12YCXYOVKzfeeFtRq3fInoN68J8XiQSQg0=;
 b=CyOMBuWR/S0JfOFXbgNlflsBbNSEdJWUo50r9nR34QMAO0ZIUZ3SYoCvSjdlR4XNnA
 c9xQ6caF8I81DUMa01Wut3Py8pzRUzO8Xq9yHRJ3OSunD447zcs2aYdeJfd9ADMBHO57
 QElK1Z+eH2vI8WerLIVRTkhYpB5dbec8S5dGDyFxKiejGpdZmxJuwRsyUgqdxCYMkTtr
 FcAoGo87D+nZtClkgn8uPClugzwJFBnjTHnL8ofg9gu6jFLfHXp4iE2tROqKMPmYYHzm
 LryE1PoqK86owmX82wDCEbNKQTc7xq5uZ14Nd75xEK9uB1p/iwkOrLiPqH5nB0HXJhzC
 hh7A==
X-Gm-Message-State: AOJu0YzYf34Mr2PLWjM8oKkoYgT6nwQeAc+m2DD7qBAl6OnguLc9Arto
 WoBUvV0qQVAXG9qak+TzWKEXgU6UQQj+r3B1PQ+H2oazoN9PRUqXDYQuZF34sy8Yjhp4oYJ9F0k
 8WUI2Jj/aDijp9KCb3SulyoshvoW9g1US7SbF1GwnEk3wJ1s6zcVRYVK3
X-Google-Smtp-Source: AGHT+IEsankQxnc265OgthV6fAvr2EBag2MirTRtuN5jUX08tzGWkJ/XL0Jyc9gJmbV7LrL+wYewHjymAk5q
X-Received: by 2002:a17:903:1105:b0:1f8:5a64:b468 with SMTP id
 d9443c01a7336-1f862806063mr13515775ad.47.1718325197803; 
 Thu, 13 Jun 2024 17:33:17 -0700 (PDT)
Received: from postal.iol.unh.edu (postal.iol.unh.edu.
 [2606:4100:3880:1234::84]) by smtp-relay.gmail.com with ESMTPS id
 d9443c01a7336-1f855eddad7sm772575ad.131.2024.06.13.17.33.17
 (version=TLS1_2 cipher=ECDHE-ECDSA-AES128-GCM-SHA256 bits=128/128);
 Thu, 13 Jun 2024 17:33:17 -0700 (PDT)
X-Relaying-Domain: iol.unh.edu
Date: Thu, 13 Jun 2024 17:33:17 -0700 (PDT)
Message-ID: <666b8fcd.170a0220.afd30.5c0dSMTPIN_ADDED_MISSING@mx.google.com>
Received: from [172.21.0.6] (unknown [172.18.0.240])
 by postal.iol.unh.edu (Postfix) with ESMTP id EA2E2605C373;
 Thu, 13 Jun 2024 20:33:16 -0400 (EDT)
Subject: |SUCCESS| pw141135 [PATCH] net/gve: change QPLs to be queue resource
From: dpdklab@iol.unh.edu
To: Test Report <test-report@dpdk.org>
Cc: dpdk-test-reports@iol.unh.edu
In-Reply-To: <20240613225953.610732-1-joshwash@google.com>
References: <20240613225953.610732-1-joshwash@google.com>
Content-Type: text/plain
X-BeenThere: test-report@dpdk.org
X-Mailman-Version: 2.1.29
Precedence: list
List-Id: automatic DPDK test reports <test-report.dpdk.org>
List-Unsubscribe: <https://mails.dpdk.org/options/test-report>,
 <mailto:test-report-request@dpdk.org?subject=unsubscribe>
List-Archive: <http://mails.dpdk.org/archives/test-report/>
List-Post: <mailto:test-report@dpdk.org>
List-Help: <mailto:test-report-request@dpdk.org?subject=help>
List-Subscribe: <https://mails.dpdk.org/listinfo/test-report>,
 <mailto:test-report-request@dpdk.org?subject=subscribe>
Errors-To: test-report-bounces@dpdk.org

Test-Label: iol-abi-testing
Test-Status: SUCCESS
http://dpdk.org/patch/141135

_Testing PASS_

Submitter: Joshua Washington <joshwash@google.com>
Date: Thursday, June 13 2024 22:59:53 
DPDK git baseline: Repo:dpdk
  Branch: master
  CommitID:fbba6db3640f9f623c29c452e1a6b057073e81d2

141135 --> testing pass

Test environment and result as below:

+------------------+----------+
|   Environment    | abi_test |
+==================+==========+
| Fedora 38        | PASS     |
+------------------+----------+
| Fedora 39        | PASS     |
+------------------+----------+
| Debian Bullseye  | PASS     |
+------------------+----------+
| openSUSE Leap 15 | PASS     |
+------------------+----------+
| Debian 12        | PASS     |
+------------------+----------+
| CentOS Stream 9  | PASS     |
+------------------+----------+
| CentOS Stream 8  | PASS     |
+------------------+----------+
| RHEL8            | PASS     |
+------------------+----------+
| Fedora 37        | PASS     |
+------------------+----------+
| Ubuntu 22.04     | PASS     |
+------------------+----------+
| Ubuntu 24.04     | PASS     |
+------------------+----------+


Fedora 38
	Kernel: Depends on container host
	Compiler: gcc 13.2.1

Fedora 39
	Kernel: Depends on container host
	Compiler: clang 17.0.6

Debian Bullseye
	Kernel: 5.4.0-167-generic
	Compiler: gcc 10.2.1-6

openSUSE Leap 15
	Kernel: 5.4.0-167-generic
	Compiler: gcc 7.5.0

Debian 12
	Kernel: Container Host Kernel
	Compiler: gcc 12.2.0

CentOS Stream 9
	Kernel: 5.4.0-167-generic
	Compiler: gcc 11.4.1 20230605

CentOS Stream 8
	Kernel: 5.4.0-167-generic
	Compiler: gcc 8.5.0 20210514

RHEL8
	Kernel: 5.4.0-167-generic
	Compiler: gcc 8.5.0 20210514 (Red Hat 8.5.0-20)

Fedora 37
	Kernel: Depends on container host system
	Compiler: gcc 12.3.1

Ubuntu 22.04
	Kernel: 5.4.0-167-generic
	Compiler: gcc 11.4.0

Ubuntu 24.04
	Kernel: 5.4.0-167-generic
	Compiler: gcc 13.2.0

To view detailed results, visit:
https://lab.dpdk.org/results/dashboard/patchsets/30186/

UNH-IOL DPDK Community Lab

To manage your email subscriptions, visit: 
https://lab.dpdk.org/results/dashboard/preferences/subscriptions/