From mboxrd@z Thu Jan  1 00:00:00 1970
Return-Path: <test-report-bounces@dpdk.org>
Received: from mails.dpdk.org (mails.dpdk.org [217.70.189.124])
	by inbox.dpdk.org (Postfix) with ESMTP id E625045455
	for <public@inbox.dpdk.org>; Fri, 14 Jun 2024 03:33:55 +0200 (CEST)
Received: from mails.dpdk.org (localhost [127.0.0.1])
	by mails.dpdk.org (Postfix) with ESMTP id E223D410E4;
	Fri, 14 Jun 2024 03:33:55 +0200 (CEST)
Received: from mail-ot1-f97.google.com (mail-ot1-f97.google.com
 [209.85.210.97]) by mails.dpdk.org (Postfix) with ESMTP id AA512402C6
 for <test-report@dpdk.org>; Fri, 14 Jun 2024 03:33:54 +0200 (CEST)
Received: by mail-ot1-f97.google.com with SMTP id
 46e09a7af769-6f99555c922so901890a34.3
 for <test-report@dpdk.org>; Thu, 13 Jun 2024 18:33:54 -0700 (PDT)
DKIM-Signature: v=1; a=rsa-sha256; c=relaxed/relaxed;
 d=iol.unh.edu; s=unh-iol; t=1718328834; x=1718933634; darn=dpdk.org;
 h=references:in-reply-to:cc:to:from:subject:message-id:date:from:to
 :cc:subject:date:message-id:reply-to;
 bh=cNkmPG1FZZvbI/WlLfnHHEwo3P/3NXvxZ69kqickoHc=;
 b=dFZU6cZ2se9uor1DGbCtiPCfmh9QS8Hj7+IxUE7hlX8VCo5EMz4IhbQxIu99ZnCXM7
 eCzX67i+A3t8KoJfKQuka42rmkHeV8py0Y42UsaMmFqKJNADuzFcpOlsid/MzQGez6Yk
 grCoTO2W+yA5xAf2+us6PezCCj12OPrzexEa4=
X-Google-DKIM-Signature: v=1; a=rsa-sha256; c=relaxed/relaxed;
 d=1e100.net; s=20230601; t=1718328834; x=1718933634;
 h=references:in-reply-to:cc:to:from:subject:message-id:date
 :x-gm-message-state:from:to:cc:subject:date:message-id:reply-to;
 bh=cNkmPG1FZZvbI/WlLfnHHEwo3P/3NXvxZ69kqickoHc=;
 b=eWMsDPBaTT9x/W6TCLFPdeoIfgCEXoXcO7rkgOSE1pbsHYnQzYCR82ZIPRo8L5m8vs
 rPe3GLdOY7IMfoqDhCehvePFHpmyQVp6Aecv0TMk6pm0vTrxDGEhQgRKeoD6fr6K9Bel
 /MxoSwSGR6esX90wcKPS57JoJKKPOMIsXyB1AqszCc5i2NWt9E7PxcBUW6bYyv0kmS62
 qzL6O1zsJ2Vl6J0vs5R+DdujVE3iFB92iEgmvYJOVyUKhMBiBj+5511Cop+mNo3tOEhk
 FE0EcyRvNzDSiJ7cK74wwQ0pEsvdUgGSACCtQxnnyu8WA4AIP4duQlB47J6Rh2NV/tes
 lGmg==
X-Gm-Message-State: AOJu0Yzauca7bAcpeY60+5yIHfweUai8f+0cxqHi0YxsoJaqMF/4pYVT
 F7I9j5kuic0DXe6eYzcYRdGyy7Nhn9NDDaBT56o6ZAf3fog0LxqDhPsOL55/H0RTtF6anRhIij4
 TC6UsCzBzsFdnjriDqIrKB1qXoj/7pLN9kGmEiYzn4a/qrqtiGJK0KeK1
X-Google-Smtp-Source: AGHT+IHrn1xauezUFn6uAjTa63k85JKzrBA/SsgFEmB8g40uO967YVnPWPUce1G63kH8aePJnEGyyEik2gAb
X-Received: by 2002:a05:6871:890:b0:24f:f282:2411 with SMTP id
 586e51a60fabf-25842b0aaf4mr1398818fac.47.1718328833937; 
 Thu, 13 Jun 2024 18:33:53 -0700 (PDT)
Received: from postal.iol.unh.edu (postal.iol.unh.edu.
 [2606:4100:3880:1234::84]) by smtp-relay.gmail.com with ESMTPS id
 586e51a60fabf-256992e01f7sm85211fac.41.2024.06.13.18.33.53
 (version=TLS1_2 cipher=ECDHE-ECDSA-AES128-GCM-SHA256 bits=128/128);
 Thu, 13 Jun 2024 18:33:53 -0700 (PDT)
X-Relaying-Domain: iol.unh.edu
Date: Thu, 13 Jun 2024 18:33:53 -0700 (PDT)
Message-ID: <666b9e01.050a0220.c8e57.6887SMTPIN_ADDED_MISSING@mx.google.com>
Received: from [172.21.0.6] (unknown [172.18.0.240])
 by postal.iol.unh.edu (Postfix) with ESMTP id 69A50605C373;
 Thu, 13 Jun 2024 21:33:53 -0400 (EDT)
Subject: |SUCCESS| pw141131-141134 [PATCH] [4/4] dts: Rework DPDK Attributes 
From: dpdklab@iol.unh.edu
To: Test Report <test-report@dpdk.org>
Cc: dpdk-test-reports@iol.unh.edu
In-Reply-To: <20240613201831.9748-11-npratte@iol.unh.edu>
References: <20240613201831.9748-11-npratte@iol.unh.edu>
Content-Type: text/plain
X-BeenThere: test-report@dpdk.org
X-Mailman-Version: 2.1.29
Precedence: list
List-Id: automatic DPDK test reports <test-report.dpdk.org>
List-Unsubscribe: <https://mails.dpdk.org/options/test-report>,
 <mailto:test-report-request@dpdk.org?subject=unsubscribe>
List-Archive: <http://mails.dpdk.org/archives/test-report/>
List-Post: <mailto:test-report@dpdk.org>
List-Help: <mailto:test-report-request@dpdk.org?subject=help>
List-Subscribe: <https://mails.dpdk.org/listinfo/test-report>,
 <mailto:test-report-request@dpdk.org?subject=subscribe>
Errors-To: test-report-bounces@dpdk.org

Test-Label: iol-compile-amd64-testing
Test-Status: SUCCESS
http://dpdk.org/patch/141134

_Testing PASS_

Submitter: Nicholas Pratte <npratte@iol.unh.edu>
Date: Thursday, June 13 2024 20:18:34 
DPDK git baseline: Repo:dpdk
  Branch: master
  CommitID:6484c847d4e48386904841d6b7062007f837dfb4

141131-141134 --> testing pass

Test environment and result as below:

+---------------------+--------------------+-------------------+----------------------+
|     Environment     | dpdk_meson_compile | dpdk_msvc_compile | dpdk_mingw64_compile |
+=====================+====================+===================+======================+
| FreeBSD 13.3        | PASS               | SKIPPED           | SKIPPED              |
+---------------------+--------------------+-------------------+----------------------+
| Windows Server 2022 | PASS               | PASS              | PASS                 |
+---------------------+--------------------+-------------------+----------------------+
| FreeBSD 14.1        | PASS               | SKIPPED           | SKIPPED              |
+---------------------+--------------------+-------------------+----------------------+
| Windows Server 2019 | PASS               | SKIPPED           | PASS                 |
+---------------------+--------------------+-------------------+----------------------+


FreeBSD 13.3
	Kernel: 13.3-RELEASE-p1
	Compiler: clang 17.0.6

Windows Server 2022
	Kernel: 10.0.20348.2031
	Compiler: clang 15.0.7, gcc 8.1.0 (MinGW), and MSVC VS 17.9

FreeBSD 14.1
	Kernel: 14.1
	Compiler: clang 18.1.5

Windows Server 2019
	Kernel: 10.0.17763
	Compiler: clang 14.0 and gcc 8.1.0 (MinGW)

To view detailed results, visit:
https://lab.dpdk.org/results/dashboard/patchsets/30185/

UNH-IOL DPDK Community Lab

To manage your email subscriptions, visit: 
https://lab.dpdk.org/results/dashboard/preferences/subscriptions/