From mboxrd@z Thu Jan  1 00:00:00 1970
Return-Path: <test-report-bounces@dpdk.org>
Received: from mails.dpdk.org (mails.dpdk.org [217.70.189.124])
	by inbox.dpdk.org (Postfix) with ESMTP id 9BDE045455
	for <public@inbox.dpdk.org>; Fri, 14 Jun 2024 03:51:13 +0200 (CEST)
Received: from mails.dpdk.org (localhost [127.0.0.1])
	by mails.dpdk.org (Postfix) with ESMTP id 97D04410E4;
	Fri, 14 Jun 2024 03:51:13 +0200 (CEST)
Received: from mail-yw1-f226.google.com (mail-yw1-f226.google.com
 [209.85.128.226])
 by mails.dpdk.org (Postfix) with ESMTP id DD4A1402C6
 for <test-report@dpdk.org>; Fri, 14 Jun 2024 03:51:11 +0200 (CEST)
Received: by mail-yw1-f226.google.com with SMTP id
 00721157ae682-63267c30eaaso1595417b3.1
 for <test-report@dpdk.org>; Thu, 13 Jun 2024 18:51:11 -0700 (PDT)
DKIM-Signature: v=1; a=rsa-sha256; c=relaxed/relaxed;
 d=iol.unh.edu; s=unh-iol; t=1718329871; x=1718934671; darn=dpdk.org;
 h=references:in-reply-to:cc:to:from:subject:message-id:date:from:to
 :cc:subject:date:message-id:reply-to;
 bh=HRDaN9fdGpj6h1aH4znoHbHzdIXLCDiCmHRi0FkAEB8=;
 b=TXspKiAGjcbka7sHdLgJmtj0XmI1zWKP0lAfwD27A24aSIsFD+ZRtEscUop5QpqMHW
 UOd6iSORawZkfQ8bBVNSiUewGQzf72gBlQmMqJjJOG+CY+E6jeaJLEfEE+Ga9Iunu53v
 9HXYKPZ9SeGRrrTbK9ZujmRZzFtN8C66vVYkM=
X-Google-DKIM-Signature: v=1; a=rsa-sha256; c=relaxed/relaxed;
 d=1e100.net; s=20230601; t=1718329871; x=1718934671;
 h=references:in-reply-to:cc:to:from:subject:message-id:date
 :x-gm-message-state:from:to:cc:subject:date:message-id:reply-to;
 bh=HRDaN9fdGpj6h1aH4znoHbHzdIXLCDiCmHRi0FkAEB8=;
 b=WDevdyVLbbQi1uzEnOe9f7lMenSGbxpPed5zixD6GwmmPiYThFC7YHvlGRt/r7mJ5D
 0qdRqkG8sHc8731RvB1huTsXfzanwTZu5TETIlIYHlFi4M5D0bJ8BlHCJeXoYn/lStrm
 D/4bzFNa+N8q2RauKHPb4sAWPc0R4I/1kX8Q8JprGSlDODv5po3GwcPyhmicdHY4dwc9
 naJ6lp77NCDVGHnYkKO1pfyINp6CcWlVfbQaAEHSG1QIobEIk0qKEBXt6rkm6PDWdbws
 36YHQ3HdmaVkoKO+z78Jshg6sNhF5l5i/UN3NpYFzeSH2B0/wqKz+5tJqkBcCkCnxKAX
 DS/Q==
X-Gm-Message-State: AOJu0YzD+asT88X1vO0BMvk+0+YLx/MEm7RskNSm1DObMLh3WQAQgt8+
 poHh6lSRaMryWMpSDpVUAszCivYLCy8V7Jp6D+k2c/tv4nkZw3l1WvErDRg7aT2ckaxsDJeqaeh
 6PjhY/BSZlwEXXgc7O6Zv86lM5AZuBEspO0s3mR36
X-Google-Smtp-Source: AGHT+IEYMXD4Y3sg2a51vBl2GiPJYu6b35i/i4E+FR5nUD6zoZ8v5gnNfPG0zXZOKXbkb4uAD4RxiEB3ox/j
X-Received: by 2002:a81:b1c8:0:b0:610:e9b2:f84a with SMTP id
 00721157ae682-63222f56977mr12850247b3.26.1718329871272; 
 Thu, 13 Jun 2024 18:51:11 -0700 (PDT)
Received: from postal.iol.unh.edu (postal.iol.unh.edu. [132.177.123.84])
 by smtp-relay.gmail.com with ESMTPS id
 00721157ae682-631183d7de9sm783407b3.4.2024.06.13.18.51.11
 (version=TLS1_2 cipher=ECDHE-ECDSA-AES128-GCM-SHA256 bits=128/128);
 Thu, 13 Jun 2024 18:51:11 -0700 (PDT)
X-Relaying-Domain: iol.unh.edu
Date: Thu, 13 Jun 2024 18:51:11 -0700 (PDT)
Message-ID: <666ba20f.050a0220.f2587.6484SMTPIN_ADDED_MISSING@mx.google.com>
Received: from [172.21.0.7] (unknown [172.18.0.240])
 by postal.iol.unh.edu (Postfix) with ESMTP id D9ECB605C373;
 Thu, 13 Jun 2024 21:51:10 -0400 (EDT)
Subject: |SUCCESS| pw141131-141134 [PATCH] [4/4] dts: Rework DPDK Attributes 
From: dpdklab@iol.unh.edu
To: Test Report <test-report@dpdk.org>
Cc: dpdk-test-reports@iol.unh.edu
In-Reply-To: <20240613201831.9748-11-npratte@iol.unh.edu>
References: <20240613201831.9748-11-npratte@iol.unh.edu>
Content-Type: text/plain
X-BeenThere: test-report@dpdk.org
X-Mailman-Version: 2.1.29
Precedence: list
List-Id: automatic DPDK test reports <test-report.dpdk.org>
List-Unsubscribe: <https://mails.dpdk.org/options/test-report>,
 <mailto:test-report-request@dpdk.org?subject=unsubscribe>
List-Archive: <http://mails.dpdk.org/archives/test-report/>
List-Post: <mailto:test-report@dpdk.org>
List-Help: <mailto:test-report-request@dpdk.org?subject=help>
List-Subscribe: <https://mails.dpdk.org/listinfo/test-report>,
 <mailto:test-report-request@dpdk.org?subject=subscribe>
Errors-To: test-report-bounces@dpdk.org

Test-Label: iol-compile-arm64-testing
Test-Status: SUCCESS
http://dpdk.org/patch/141134

_Testing PASS_

Submitter: Nicholas Pratte <npratte@iol.unh.edu>
Date: Thursday, June 13 2024 20:18:34 
DPDK git baseline: Repo:dpdk
  Branch: master
  CommitID:6484c847d4e48386904841d6b7062007f837dfb4

141131-141134 --> testing pass

Test environment and result as below:

+--------------------------+--------------------+
|       Environment        | dpdk_meson_compile |
+==========================+====================+
| Ubuntu 20.04 ARM SVE     | PASS               |
+--------------------------+--------------------+
| Fedora 38 (ARM)          | PASS               |
+--------------------------+--------------------+
| Ubuntu 22.04 (ARM)       | PASS               |
+--------------------------+--------------------+
| Debian 12 with MUSDK     | PASS               |
+--------------------------+--------------------+
| Ubuntu 20.04 (ARM)       | PASS               |
+--------------------------+--------------------+
| Debian 11 (Buster) (ARM) | PASS               |
+--------------------------+--------------------+
| CentOS Stream 9 (ARM)    | PASS               |
+--------------------------+--------------------+
| Debian 12 (arm)          | PASS               |
+--------------------------+--------------------+


Ubuntu 20.04 ARM SVE
	Kernel: 5.4.0-167-generic
	Compiler: gcc (Ubuntu 10.5.0-1ubuntu1~20.04) 10.5.0

Fedora 38 (ARM)
	Kernel: Depends on container host
	Compiler: gcc 13.2.1

Ubuntu 22.04 (ARM)
	Kernel: Container Host Kernel
	Compiler: gcc 11.4.0

Debian 12 with MUSDK
	Kernel: Container Host Kernel
	Compiler: gcc 12.2.0

Ubuntu 20.04 (ARM)
	Kernel: Container Host Kernel
	Compiler: gcc 9.4.0

Debian 11 (Buster) (ARM)
	Kernel: Container Host Kernel
	Compiler: gcc 10.2.1

CentOS Stream 9 (ARM)
	Kernel: Container Host Kernel
	Compiler: gcc 11.4.1

Debian 12 (arm)
	Kernel: Container Host Kernel
	Compiler: gcc 12.2.0

To view detailed results, visit:
https://lab.dpdk.org/results/dashboard/patchsets/30185/

UNH-IOL DPDK Community Lab

To manage your email subscriptions, visit: 
https://lab.dpdk.org/results/dashboard/preferences/subscriptions/