From mboxrd@z Thu Jan  1 00:00:00 1970
Return-Path: <test-report-bounces@dpdk.org>
Received: from mails.dpdk.org (mails.dpdk.org [217.70.189.124])
	by inbox.dpdk.org (Postfix) with ESMTP id D27DF4412A
	for <public@inbox.dpdk.org>; Fri, 14 Jun 2024 04:21:03 +0200 (CEST)
Received: from mails.dpdk.org (localhost [127.0.0.1])
	by mails.dpdk.org (Postfix) with ESMTP id CD957410E4;
	Fri, 14 Jun 2024 04:21:03 +0200 (CEST)
Received: from mail-pf1-f227.google.com (mail-pf1-f227.google.com
 [209.85.210.227])
 by mails.dpdk.org (Postfix) with ESMTP id 4E9E6402C6
 for <test-report@dpdk.org>; Fri, 14 Jun 2024 04:21:03 +0200 (CEST)
Received: by mail-pf1-f227.google.com with SMTP id
 d2e1a72fcca58-705bf368037so1522937b3a.0
 for <test-report@dpdk.org>; Thu, 13 Jun 2024 19:21:03 -0700 (PDT)
DKIM-Signature: v=1; a=rsa-sha256; c=relaxed/relaxed;
 d=iol.unh.edu; s=unh-iol; t=1718331662; x=1718936462; darn=dpdk.org;
 h=references:in-reply-to:cc:to:from:subject:message-id:date:from:to
 :cc:subject:date:message-id:reply-to;
 bh=U+RZYcWGPDSM+lYwB5n8lEODgArfEnpECVQf1I4d8Q0=;
 b=Wn6e6pxDSXjLA+fagC1CKkmO5PA/dUWuWmM4sjAYwvNhpxFEjXfVfdzcvmG3WQjQsP
 uvYJlwzY1hwcK6IX25kCFLVv4TSYmDHGZkjJhD/K6DGNat/d1+/ESponbznhs60lNwc9
 baKvastJc6WuyI+ptt3RtGFRR4bY4WXRamGoE=
X-Google-DKIM-Signature: v=1; a=rsa-sha256; c=relaxed/relaxed;
 d=1e100.net; s=20230601; t=1718331662; x=1718936462;
 h=references:in-reply-to:cc:to:from:subject:message-id:date
 :x-gm-message-state:from:to:cc:subject:date:message-id:reply-to;
 bh=U+RZYcWGPDSM+lYwB5n8lEODgArfEnpECVQf1I4d8Q0=;
 b=t/5n0SBZPDHwQ9a9mVUmy/qnWP78SFcrmy7Hv69emiQRzQv5FanKzX+ChWl78/+hND
 QX/Lwsd9PbEybYeLRngGEH649RAvcaMveo6ABwF43lmU+FGpbsl5sOTRvrOM8yMvl42O
 N4diAiO6iavr0jJobW+iKpqbOeismSToUVc3E5DP1kUi7nVTCEfIh8EAoRnbsMFnyoyX
 x3ZM+7KriwhDqRVdMaLh7UWilWAG7fJDntr14slY6qSaWrQRrdaCXAWFJnrHzikCTwUc
 7uavaYyIL9JQ36vKtgDlTzyW4pCZlWEf400syJN+os9mtMsgarXEUhabW4gbGdXeVXlr
 01hQ==
X-Gm-Message-State: AOJu0YwW9/LzUA4Kte2YrM1xydYxOD2mvRCWXZ2sY2bLxb3Gj8H2UjGL
 jfSVBJneiB5i2zGjLaecvkXnyL0rsEfDWSQtLLOop+2xUVu2Zc9k7wtTwfmbyNSJHfzIRDtusUM
 EVnbIsbPlfgLvYiC8G5JNa6pTareP72wR9YhSELzzfD0kk5qdsd4p63FI
X-Google-Smtp-Source: AGHT+IHXWOBJtoGcx6QcPQbdM7PWOgnCwvTkoy7tm+bXu5E+LPk1+872dQsYK9JwnYZsKyQzqnLb8oqaNTSD
X-Received: by 2002:a05:6a20:12d5:b0:1b7:77ef:b125 with SMTP id
 adf61e73a8af0-1bae7eaf230mr1652085637.21.1718331662474; 
 Thu, 13 Jun 2024 19:21:02 -0700 (PDT)
Received: from postal.iol.unh.edu (postal.iol.unh.edu.
 [2606:4100:3880:1234::84]) by smtp-relay.gmail.com with ESMTPS id
 d9443c01a7336-1f855ef0025sm864545ad.146.2024.06.13.19.21.02
 (version=TLS1_2 cipher=ECDHE-ECDSA-AES128-GCM-SHA256 bits=128/128);
 Thu, 13 Jun 2024 19:21:02 -0700 (PDT)
X-Relaying-Domain: iol.unh.edu
Date: Thu, 13 Jun 2024 19:21:02 -0700 (PDT)
Message-ID: <666ba90e.170a0220.3d813.6761SMTPIN_ADDED_MISSING@mx.google.com>
Received: from [172.21.0.6] (unknown [172.18.0.240])
 by postal.iol.unh.edu (Postfix) with ESMTP id 9F4E5605C373;
 Thu, 13 Jun 2024 22:21:01 -0400 (EDT)
Subject: |SUCCESS| pw141131-141134 [PATCH] [4/4] dts: Rework DPDK Attributes 
From: dpdklab@iol.unh.edu
To: Test Report <test-report@dpdk.org>
Cc: dpdk-test-reports@iol.unh.edu
In-Reply-To: <20240613201831.9748-11-npratte@iol.unh.edu>
References: <20240613201831.9748-11-npratte@iol.unh.edu>
Content-Type: text/plain
X-BeenThere: test-report@dpdk.org
X-Mailman-Version: 2.1.29
Precedence: list
List-Id: automatic DPDK test reports <test-report.dpdk.org>
List-Unsubscribe: <https://mails.dpdk.org/options/test-report>,
 <mailto:test-report-request@dpdk.org?subject=unsubscribe>
List-Archive: <http://mails.dpdk.org/archives/test-report/>
List-Post: <mailto:test-report@dpdk.org>
List-Help: <mailto:test-report-request@dpdk.org?subject=help>
List-Subscribe: <https://mails.dpdk.org/listinfo/test-report>,
 <mailto:test-report-request@dpdk.org?subject=subscribe>
Errors-To: test-report-bounces@dpdk.org

Test-Label: iol-unit-amd64-testing
Test-Status: SUCCESS
http://dpdk.org/patch/141134

_Testing PASS_

Submitter: Nicholas Pratte <npratte@iol.unh.edu>
Date: Thursday, June 13 2024 20:18:34 
DPDK git baseline: Repo:dpdk
  Branch: master
  CommitID:6484c847d4e48386904841d6b7062007f837dfb4

141131-141134 --> testing pass

Test environment and result as below:

+---------------------+----------------+
|     Environment     | dpdk_unit_test |
+=====================+================+
| Windows Server 2019 | PASS           |
+---------------------+----------------+
| CentOS Stream 9     | PASS           |
+---------------------+----------------+
| CentOS Stream 8     | PASS           |
+---------------------+----------------+
| Debian Bullseye     | PASS           |
+---------------------+----------------+
| Debian 12           | PASS           |
+---------------------+----------------+
| Fedora 37           | PASS           |
+---------------------+----------------+
| Fedora 38           | PASS           |
+---------------------+----------------+
| Windows Server 2022 | PASS           |
+---------------------+----------------+
| Fedora 39           | PASS           |
+---------------------+----------------+
| RHEL8               | PASS           |
+---------------------+----------------+
| openSUSE Leap 15    | PASS           |
+---------------------+----------------+
| RHEL9               | PASS           |
+---------------------+----------------+
| Ubuntu 22.04        | PASS           |
+---------------------+----------------+
| Ubuntu 20.04        | PASS           |
+---------------------+----------------+


Windows Server 2019
	Kernel: 10.0.17763
	Compiler: clang 14.0 and gcc 8.1.0 (MinGW)

CentOS Stream 9
	Kernel: 5.4.0-167-generic
	Compiler: gcc 11.4.1 20230605

CentOS Stream 8
	Kernel: 5.4.0-167-generic
	Compiler: gcc 8.5.0 20210514

Debian Bullseye
	Kernel: 5.4.0-167-generic
	Compiler: gcc 10.2.1-6

Debian 12
	Kernel: Container Host Kernel
	Compiler: gcc 12.2.0

Fedora 37
	Kernel: Depends on container host system
	Compiler: gcc 12.3.1

Fedora 38
	Kernel: Depends on container host
	Compiler: gcc 13.2.1

Windows Server 2022
	Kernel: 10.0.20348.2031
	Compiler: clang 15.0.7, gcc 8.1.0 (MinGW), and MSVC VS 17.9

Fedora 39
	Kernel: Depends on container host
	Compiler: clang 17.0.6

RHEL8
	Kernel: 5.4.0-167-generic
	Compiler: gcc 8.5.0 20210514 (Red Hat 8.5.0-20)

openSUSE Leap 15
	Kernel: 5.4.0-167-generic
	Compiler: gcc 7.5.0

RHEL9
	Kernel: Depends on container host
	Compiler: gcc 11.4.1

Ubuntu 22.04
	Kernel: 5.4.0-167-generic
	Compiler: gcc 11.4.0

Ubuntu 20.04
	Kernel: 5.4.0-167-generic
	Compiler: gcc 9.4.0-1ubuntu1~20.04.1

To view detailed results, visit:
https://lab.dpdk.org/results/dashboard/patchsets/30185/

UNH-IOL DPDK Community Lab

To manage your email subscriptions, visit: 
https://lab.dpdk.org/results/dashboard/preferences/subscriptions/