From mboxrd@z Thu Jan  1 00:00:00 1970
Return-Path: <test-report-bounces@dpdk.org>
Received: from mails.dpdk.org (mails.dpdk.org [217.70.189.124])
	by inbox.dpdk.org (Postfix) with ESMTP id 2D6D145451
	for <public@inbox.dpdk.org>; Fri, 14 Jun 2024 04:35:14 +0200 (CEST)
Received: from mails.dpdk.org (localhost [127.0.0.1])
	by mails.dpdk.org (Postfix) with ESMTP id 28B1B427A3;
	Fri, 14 Jun 2024 04:35:14 +0200 (CEST)
Received: from mail-io1-f99.google.com (mail-io1-f99.google.com
 [209.85.166.99]) by mails.dpdk.org (Postfix) with ESMTP id 916A0410E4
 for <test-report@dpdk.org>; Fri, 14 Jun 2024 04:35:12 +0200 (CEST)
Received: by mail-io1-f99.google.com with SMTP id
 ca18e2360f4ac-7ea0b5e0977so78550139f.2
 for <test-report@dpdk.org>; Thu, 13 Jun 2024 19:35:12 -0700 (PDT)
DKIM-Signature: v=1; a=rsa-sha256; c=relaxed/relaxed;
 d=iol.unh.edu; s=unh-iol; t=1718332512; x=1718937312; darn=dpdk.org;
 h=references:in-reply-to:cc:to:from:subject:message-id:date:from:to
 :cc:subject:date:message-id:reply-to;
 bh=ML9TdltwzC1rG3j4Ye7hifuwQjfxNQIc01lH3OVEMmY=;
 b=CH8qVC+viuQvHeU9pY39s07MjQAbBbu0ZXDoI6Wg9r1jbMqHvr6OAjGMMHNvtdiO9n
 P6psM110dT89X04ii3mXyLnVgHs5V5m9UZN+qp8z9J4vIdVhoubq6BDlit0AK5ku+SC6
 oJanCozKT06UtKRaLY9dmeWyCRpte7inZkkAg=
X-Google-DKIM-Signature: v=1; a=rsa-sha256; c=relaxed/relaxed;
 d=1e100.net; s=20230601; t=1718332512; x=1718937312;
 h=references:in-reply-to:cc:to:from:subject:message-id:date
 :x-gm-message-state:from:to:cc:subject:date:message-id:reply-to;
 bh=ML9TdltwzC1rG3j4Ye7hifuwQjfxNQIc01lH3OVEMmY=;
 b=NwG7I02Wvjs6qBIdZyYCSHWGJKZbFWHCZZKjYI9mldjEcscKFfs0EGxEWQQj7uiqo9
 rJ+b9S3nnSVAaL4DZs02rj+Wz0HBhsa1j7IdLF/EvDF6CuzodAi58dHF/Hw2XrkSCwed
 Dkj04AQmcLWIi7aC9/3jZmkc0Ip398wcKJ1hZJKZBw49vPzcBQzWhNjYttlV02CY5Lrb
 4kI4SS/OwexbMXi5MncmGJeWlQxgQmTHcTFidr3e++hk4yjIIbeRX/dP+ssZKbfoaNy/
 YKRacwIqufMf9RMWH00sxXMnf6s8rvvkIo3sDbK4Q67uPDOsiEAdxT1EhqHZfX1/Do40
 WlNw==
X-Gm-Message-State: AOJu0Yy/0fpqw/QXw2scYFzprZWHXxF6Qi7F6l38CiLaMo1sxrUenenp
 5uuc0bKrGWTUqEN+OX7c8UE+/PIGFO5bw2/5gq0K2cf0qZUYPExBqQkeqE1OG5fcx2QHFlDDYlZ
 YIur9aMtvruhcpzdcKec65Zvc1I4e0TiV3LdPUrwqsRixxqDwAFxvopJD
X-Google-Smtp-Source: AGHT+IG5vEu52PoBA1Jr2ctfs3q65IxOOxlCEzttLt6rmYgaSVsPjA9jeoDthFHNIvgpt9UP7oigDaSp9K+7
X-Received: by 2002:a05:6602:3fcf:b0:7eb:8a0f:1f32 with SMTP id
 ca18e2360f4ac-7ebeb643d6fmr140987639f.15.1718332511703; 
 Thu, 13 Jun 2024 19:35:11 -0700 (PDT)
Received: from postal.iol.unh.edu (postal.iol.unh.edu.
 [2606:4100:3880:1234::84]) by smtp-relay.gmail.com with ESMTPS id
 ca18e2360f4ac-7ebdba6216esm8703039f.18.2024.06.13.19.35.11
 (version=TLS1_2 cipher=ECDHE-ECDSA-AES128-GCM-SHA256 bits=128/128);
 Thu, 13 Jun 2024 19:35:11 -0700 (PDT)
X-Relaying-Domain: iol.unh.edu
Date: Thu, 13 Jun 2024 19:35:11 -0700 (PDT)
Message-ID: <666bac5f.050a0220.404db.6298SMTPIN_ADDED_MISSING@mx.google.com>
Received: from [172.21.0.8] (unknown [172.18.0.240])
 by postal.iol.unh.edu (Postfix) with ESMTP id 2CE27605C373;
 Thu, 13 Jun 2024 22:35:11 -0400 (EDT)
Subject: |SUCCESS| pw141131-141134 [PATCH] [4/4] dts: Rework DPDK Attributes 
From: dpdklab@iol.unh.edu
To: Test Report <test-report@dpdk.org>
Cc: dpdk-test-reports@iol.unh.edu
In-Reply-To: <20240613201831.9748-11-npratte@iol.unh.edu>
References: <20240613201831.9748-11-npratte@iol.unh.edu>
Content-Type: text/plain
X-BeenThere: test-report@dpdk.org
X-Mailman-Version: 2.1.29
Precedence: list
List-Id: automatic DPDK test reports <test-report.dpdk.org>
List-Unsubscribe: <https://mails.dpdk.org/options/test-report>,
 <mailto:test-report-request@dpdk.org?subject=unsubscribe>
List-Archive: <http://mails.dpdk.org/archives/test-report/>
List-Post: <mailto:test-report@dpdk.org>
List-Help: <mailto:test-report-request@dpdk.org?subject=help>
List-Subscribe: <https://mails.dpdk.org/listinfo/test-report>,
 <mailto:test-report-request@dpdk.org?subject=subscribe>
Errors-To: test-report-bounces@dpdk.org

Test-Label: iol-unit-amd64-testing
Test-Status: SUCCESS
http://dpdk.org/patch/141134

_Testing PASS_

Submitter: Nicholas Pratte <npratte@iol.unh.edu>
Date: Thursday, June 13 2024 20:18:34 
DPDK git baseline: Repo:dpdk
  Branch: master
  CommitID:6484c847d4e48386904841d6b7062007f837dfb4

141131-141134 --> testing pass

Test environment and result as below:

+---------------------+----------------+
|     Environment     | dpdk_unit_test |
+=====================+================+
| Windows Server 2019 | PASS           |
+---------------------+----------------+
| CentOS Stream 9     | PASS           |
+---------------------+----------------+
| CentOS Stream 8     | PASS           |
+---------------------+----------------+
| Debian Bullseye     | PASS           |
+---------------------+----------------+
| Debian 12           | PASS           |
+---------------------+----------------+
| Fedora 37           | PASS           |
+---------------------+----------------+
| Fedora 38           | PASS           |
+---------------------+----------------+
| Windows Server 2022 | PASS           |
+---------------------+----------------+
| Fedora 39           | PASS           |
+---------------------+----------------+
| RHEL8               | PASS           |
+---------------------+----------------+
| openSUSE Leap 15    | PASS           |
+---------------------+----------------+
| RHEL9               | PASS           |
+---------------------+----------------+
| Ubuntu 22.04        | PASS           |
+---------------------+----------------+
| Ubuntu 20.04        | PASS           |
+---------------------+----------------+
| Ubuntu 24.04        | PASS           |
+---------------------+----------------+


Windows Server 2019
	Kernel: 10.0.17763
	Compiler: clang 14.0 and gcc 8.1.0 (MinGW)

CentOS Stream 9
	Kernel: 5.4.0-167-generic
	Compiler: gcc 11.4.1 20230605

CentOS Stream 8
	Kernel: 5.4.0-167-generic
	Compiler: gcc 8.5.0 20210514

Debian Bullseye
	Kernel: 5.4.0-167-generic
	Compiler: gcc 10.2.1-6

Debian 12
	Kernel: Container Host Kernel
	Compiler: gcc 12.2.0

Fedora 37
	Kernel: Depends on container host system
	Compiler: gcc 12.3.1

Fedora 38
	Kernel: Depends on container host
	Compiler: gcc 13.2.1

Windows Server 2022
	Kernel: 10.0.20348.2031
	Compiler: clang 15.0.7, gcc 8.1.0 (MinGW), and MSVC VS 17.9

Fedora 39
	Kernel: Depends on container host
	Compiler: clang 17.0.6

RHEL8
	Kernel: 5.4.0-167-generic
	Compiler: gcc 8.5.0 20210514 (Red Hat 8.5.0-20)

openSUSE Leap 15
	Kernel: 5.4.0-167-generic
	Compiler: gcc 7.5.0

RHEL9
	Kernel: Depends on container host
	Compiler: gcc 11.4.1

Ubuntu 22.04
	Kernel: 5.4.0-167-generic
	Compiler: gcc 11.4.0

Ubuntu 20.04
	Kernel: 5.4.0-167-generic
	Compiler: gcc 9.4.0-1ubuntu1~20.04.1

Ubuntu 24.04
	Kernel: 5.4.0-167-generic
	Compiler: gcc 13.2.0

To view detailed results, visit:
https://lab.dpdk.org/results/dashboard/patchsets/30185/

UNH-IOL DPDK Community Lab

To manage your email subscriptions, visit: 
https://lab.dpdk.org/results/dashboard/preferences/subscriptions/