From mboxrd@z Thu Jan  1 00:00:00 1970
Return-Path: <test-report-bounces@dpdk.org>
Received: from mails.dpdk.org (mails.dpdk.org [217.70.189.124])
	by inbox.dpdk.org (Postfix) with ESMTP id D89FA45451
	for <public@inbox.dpdk.org>; Fri, 14 Jun 2024 04:37:18 +0200 (CEST)
Received: from mails.dpdk.org (localhost [127.0.0.1])
	by mails.dpdk.org (Postfix) with ESMTP id D54EB427A3;
	Fri, 14 Jun 2024 04:37:18 +0200 (CEST)
Received: from mail-io1-f99.google.com (mail-io1-f99.google.com
 [209.85.166.99]) by mails.dpdk.org (Postfix) with ESMTP id 96753410E4
 for <test-report@dpdk.org>; Fri, 14 Jun 2024 04:37:17 +0200 (CEST)
Received: by mail-io1-f99.google.com with SMTP id
 ca18e2360f4ac-7ebde93bf79so58753639f.1
 for <test-report@dpdk.org>; Thu, 13 Jun 2024 19:37:17 -0700 (PDT)
DKIM-Signature: v=1; a=rsa-sha256; c=relaxed/relaxed;
 d=iol.unh.edu; s=unh-iol; t=1718332637; x=1718937437; darn=dpdk.org;
 h=references:in-reply-to:cc:to:from:subject:message-id:date:from:to
 :cc:subject:date:message-id:reply-to;
 bh=csMGLktN93g8e/kr4kVO1jJqSL8s0bIoPkxQwQ/v8TM=;
 b=SPBT1ctoXqCR1SAaXlNbvsw12i43HGORd5S6LzBPnxJhuNLBggYruVHji3d5Ble7yc
 wS/oms4Xot7dhSIU36yM6eOn7/xJ+psyZepqi1xVw00GalI6K8H4BCgkgMfAmu8FUi6x
 gToxLzf4aT15ZaMqXi0Y51XWd50JwVc29jN+s=
X-Google-DKIM-Signature: v=1; a=rsa-sha256; c=relaxed/relaxed;
 d=1e100.net; s=20230601; t=1718332637; x=1718937437;
 h=references:in-reply-to:cc:to:from:subject:message-id:date
 :x-gm-message-state:from:to:cc:subject:date:message-id:reply-to;
 bh=csMGLktN93g8e/kr4kVO1jJqSL8s0bIoPkxQwQ/v8TM=;
 b=nY5OC8SLtjzU+82EjGLWyePj5YOdsDghmmjg6ezBsPKefhmUcU83+F7W3jgf2bGehg
 /XgbCtUAnlhOsnlWV/tK2DZWJILiBdToPADuEyUKMYpozDiBnYYcMYDRtpH2BG51J959
 cydUOLe1lztWp3yFVN3brF2GcDtPGhdd8wz7z2vC+Ve+yWJxiFJ0WrtVOKkOyws7XCGy
 3RuMDVN9/8uouQzlYR3HyBbZGNdalrDz0T/jRTNRYlgvcnwWb6tIbbBCU0wDIYmyOXi2
 ScMid2gxkg76nLp2lOSDccKNQnpt7pi28cjdEDkoM3HNJFsNU6BjJ45Ba1dXVwQMzD9y
 FXFQ==
X-Gm-Message-State: AOJu0Yyls8Hlu0SUlPUNYK3jMtdA/Koj4AXgJfmwhIHZ6BH7b/ih91Xj
 X73aCbsRdx4Frm8eWUnZtJyJGEsaSNBpFjZS6maxX4xakNgIDj55ykJf4jqZfsTxNMB24nTvKg6
 Dm2pytvGcQy9xDLI7q6dx4UOXjMW2XRV7bc7tACyt
X-Google-Smtp-Source: AGHT+IGo6OXlLfVE+9TzfXTQ0+InvH+g0Un57fympoudmF4WvPhxQQErXC4NXtWeocqKX92X6LxrdHTppPa4
X-Received: by 2002:a05:6602:1607:b0:7eb:eeba:5e92 with SMTP id
 ca18e2360f4ac-7ebeeba69afmr77344639f.13.1718332636845; 
 Thu, 13 Jun 2024 19:37:16 -0700 (PDT)
Received: from postal.iol.unh.edu (postal.iol.unh.edu. [132.177.123.84])
 by smtp-relay.gmail.com with ESMTPS id
 ca18e2360f4ac-7ebdba5e0c4sm8667839f.14.2024.06.13.19.37.16
 (version=TLS1_2 cipher=ECDHE-ECDSA-AES128-GCM-SHA256 bits=128/128);
 Thu, 13 Jun 2024 19:37:16 -0700 (PDT)
X-Relaying-Domain: iol.unh.edu
Date: Thu, 13 Jun 2024 19:37:16 -0700 (PDT)
Message-ID: <666bacdc.050a0220.997d.6675SMTPIN_ADDED_MISSING@mx.google.com>
Received: from [172.21.0.6] (unknown [172.18.0.240])
 by postal.iol.unh.edu (Postfix) with ESMTP id 4642E605C373;
 Thu, 13 Jun 2024 22:37:16 -0400 (EDT)
Subject: |SUCCESS| pw141131-141134 [PATCH] [4/4] dts: Rework DPDK Attributes 
From: dpdklab@iol.unh.edu
To: Test Report <test-report@dpdk.org>
Cc: dpdk-test-reports@iol.unh.edu
In-Reply-To: <20240613201831.9748-11-npratte@iol.unh.edu>
References: <20240613201831.9748-11-npratte@iol.unh.edu>
Content-Type: text/plain
X-BeenThere: test-report@dpdk.org
X-Mailman-Version: 2.1.29
Precedence: list
List-Id: automatic DPDK test reports <test-report.dpdk.org>
List-Unsubscribe: <https://mails.dpdk.org/options/test-report>,
 <mailto:test-report-request@dpdk.org?subject=unsubscribe>
List-Archive: <http://mails.dpdk.org/archives/test-report/>
List-Post: <mailto:test-report@dpdk.org>
List-Help: <mailto:test-report-request@dpdk.org?subject=help>
List-Subscribe: <https://mails.dpdk.org/listinfo/test-report>,
 <mailto:test-report-request@dpdk.org?subject=subscribe>
Errors-To: test-report-bounces@dpdk.org

Test-Label: iol-compile-amd64-testing
Test-Status: SUCCESS
http://dpdk.org/patch/141134

_Testing PASS_

Submitter: Nicholas Pratte <npratte@iol.unh.edu>
Date: Thursday, June 13 2024 20:18:34 
DPDK git baseline: Repo:dpdk
  Branch: master
  CommitID:6484c847d4e48386904841d6b7062007f837dfb4

141131-141134 --> testing pass

Test environment and result as below:

+---------------------+--------------------+-------------------+----------------------+------------------+-------------------+
|     Environment     | dpdk_meson_compile | dpdk_msvc_compile | dpdk_mingw64_compile | dpdk_compile_ovs | dpdk_compile_spdk |
+=====================+====================+===================+======================+==================+===================+
| FreeBSD 13.3        | PASS               | SKIPPED           | SKIPPED              | SKIPPED          | SKIPPED           |
+---------------------+--------------------+-------------------+----------------------+------------------+-------------------+
| Windows Server 2022 | PASS               | PASS              | PASS                 | SKIPPED          | SKIPPED           |
+---------------------+--------------------+-------------------+----------------------+------------------+-------------------+
| FreeBSD 14.1        | PASS               | SKIPPED           | SKIPPED              | SKIPPED          | SKIPPED           |
+---------------------+--------------------+-------------------+----------------------+------------------+-------------------+
| Windows Server 2019 | PASS               | SKIPPED           | PASS                 | SKIPPED          | SKIPPED           |
+---------------------+--------------------+-------------------+----------------------+------------------+-------------------+
| Fedora 38           | PASS               | SKIPPED           | SKIPPED              | PASS             | PASS              |
+---------------------+--------------------+-------------------+----------------------+------------------+-------------------+
| CentOS Stream 8     | PASS               | SKIPPED           | SKIPPED              | PASS             | PASS              |
+---------------------+--------------------+-------------------+----------------------+------------------+-------------------+
| Debian Bullseye     | PASS               | SKIPPED           | SKIPPED              | PASS             | PASS              |
+---------------------+--------------------+-------------------+----------------------+------------------+-------------------+
| Fedora 37           | PASS               | SKIPPED           | SKIPPED              | PASS             | PASS              |
+---------------------+--------------------+-------------------+----------------------+------------------+-------------------+
| Debian 12           | PASS               | SKIPPED           | SKIPPED              | PASS             | SKIPPED           |
+---------------------+--------------------+-------------------+----------------------+------------------+-------------------+
| openSUSE Leap 15    | PASS               | SKIPPED           | SKIPPED              | PASS             | SKIPPED           |
+---------------------+--------------------+-------------------+----------------------+------------------+-------------------+
| Ubuntu 22.04        | PASS               | SKIPPED           | SKIPPED              | PASS             | PASS              |
+---------------------+--------------------+-------------------+----------------------+------------------+-------------------+
| CentOS Stream 9     | PASS               | SKIPPED           | SKIPPED              | PASS             | PASS              |
+---------------------+--------------------+-------------------+----------------------+------------------+-------------------+
| Ubuntu 20.04        | PASS               | SKIPPED           | SKIPPED              | PASS             | SKIPPED           |
+---------------------+--------------------+-------------------+----------------------+------------------+-------------------+
| Fedora 39           | PASS               | SKIPPED           | SKIPPED              | PASS             | PASS              |
+---------------------+--------------------+-------------------+----------------------+------------------+-------------------+
| RHEL9               | PASS               | SKIPPED           | SKIPPED              | PASS             | SKIPPED           |
+---------------------+--------------------+-------------------+----------------------+------------------+-------------------+
| RHEL8               | PASS               | SKIPPED           | SKIPPED              | PASS             | SKIPPED           |
+---------------------+--------------------+-------------------+----------------------+------------------+-------------------+
| Ubuntu 24.04        | PASS               | SKIPPED           | SKIPPED              | PASS             | PASS              |
+---------------------+--------------------+-------------------+----------------------+------------------+-------------------+


FreeBSD 13.3
	Kernel: 13.3-RELEASE-p1
	Compiler: clang 17.0.6

Windows Server 2022
	Kernel: 10.0.20348.2031
	Compiler: clang 15.0.7, gcc 8.1.0 (MinGW), and MSVC VS 17.9

FreeBSD 14.1
	Kernel: 14.1
	Compiler: clang 18.1.5

Windows Server 2019
	Kernel: 10.0.17763
	Compiler: clang 14.0 and gcc 8.1.0 (MinGW)

Fedora 38
	Kernel: Depends on container host
	Compiler: gcc 13.2.1

CentOS Stream 8
	Kernel: 5.4.0-167-generic
	Compiler: gcc 8.5.0 20210514

Debian Bullseye
	Kernel: 5.4.0-167-generic
	Compiler: gcc 10.2.1-6

Fedora 37
	Kernel: Depends on container host system
	Compiler: gcc 12.3.1

Debian 12
	Kernel: Container Host Kernel
	Compiler: gcc 12.2.0

openSUSE Leap 15
	Kernel: 5.4.0-167-generic
	Compiler: gcc 7.5.0

Ubuntu 22.04
	Kernel: 5.4.0-167-generic
	Compiler: gcc 11.4.0

CentOS Stream 9
	Kernel: 5.4.0-167-generic
	Compiler: gcc 11.4.1 20230605

Ubuntu 20.04
	Kernel: 5.4.0-167-generic
	Compiler: gcc 9.4.0-1ubuntu1~20.04.1

Fedora 39
	Kernel: Depends on container host
	Compiler: clang 17.0.6

RHEL9
	Kernel: Depends on container host
	Compiler: gcc 11.4.1

RHEL8
	Kernel: 5.4.0-167-generic
	Compiler: gcc 8.5.0 20210514 (Red Hat 8.5.0-20)

Ubuntu 24.04
	Kernel: 5.4.0-167-generic
	Compiler: gcc 13.2.0

To view detailed results, visit:
https://lab.dpdk.org/results/dashboard/patchsets/30185/

UNH-IOL DPDK Community Lab

To manage your email subscriptions, visit: 
https://lab.dpdk.org/results/dashboard/preferences/subscriptions/