From mboxrd@z Thu Jan  1 00:00:00 1970
Return-Path: <test-report-bounces@dpdk.org>
Received: from mails.dpdk.org (mails.dpdk.org [217.70.189.124])
	by inbox.dpdk.org (Postfix) with ESMTP id 37DDB45451
	for <public@inbox.dpdk.org>; Fri, 14 Jun 2024 11:51:43 +0200 (CEST)
Received: from mails.dpdk.org (localhost [127.0.0.1])
	by mails.dpdk.org (Postfix) with ESMTP id 32920402DD;
	Fri, 14 Jun 2024 11:51:43 +0200 (CEST)
Received: from mail-ot1-f97.google.com (mail-ot1-f97.google.com
 [209.85.210.97]) by mails.dpdk.org (Postfix) with ESMTP id 601BA402D3
 for <test-report@dpdk.org>; Fri, 14 Jun 2024 11:51:41 +0200 (CEST)
Received: by mail-ot1-f97.google.com with SMTP id
 46e09a7af769-6f124e97d31so494772a34.1
 for <test-report@dpdk.org>; Fri, 14 Jun 2024 02:51:41 -0700 (PDT)
DKIM-Signature: v=1; a=rsa-sha256; c=relaxed/relaxed;
 d=iol.unh.edu; s=unh-iol; t=1718358700; x=1718963500; darn=dpdk.org;
 h=references:in-reply-to:cc:to:from:subject:message-id:date:from:to
 :cc:subject:date:message-id:reply-to;
 bh=w4aFSOD6hv2IDuXh1+OBgzRkLBM3ZwN/0N6mvwWyHhg=;
 b=AMIKlqxJn//YDt6WP3TX5zcZE2Jj64dfMMA1iWiihBb+5MOb16854G7wzXcxGR9zaR
 ZLHGaYBZhcKGOGAFCG+VOIIxYk1jjV0/YUFzqwWfTsFd/IYHFMKFODBQjtKE/hD6dbJZ
 x8qvNiozEOztz5TI8QBL0pBXNr5kBtbYy6S6E=
X-Google-DKIM-Signature: v=1; a=rsa-sha256; c=relaxed/relaxed;
 d=1e100.net; s=20230601; t=1718358700; x=1718963500;
 h=references:in-reply-to:cc:to:from:subject:message-id:date
 :x-gm-message-state:from:to:cc:subject:date:message-id:reply-to;
 bh=w4aFSOD6hv2IDuXh1+OBgzRkLBM3ZwN/0N6mvwWyHhg=;
 b=LIsDnVUIPrlWJhEU3xCzZ/QHpCLPvXrUimqKzAT4qAla015JWjMU9aJr6GAEyu/IzF
 ynm9QOJ1mT3qjUAF8QPgey3cO4PoK5l6jpRd72ZnNvHepxw+j+ev7HQtMoApSmI4zmnU
 0wQsg3Naf/ytcIWRg+AarbrBvDqcp2w5FAM9mxQq6JcdkY2SEiz9n3R/Rmpne2X/8B1+
 CaKSlpKWA4fuZy5vUvApnzMN2IuPQHyySkcVvuI3QsuTUma9WCDZMY7r+Wae6+1PM6K8
 lKaGWsUrFwchiZfmcSSrzZ5sILb2wt0DUaaBTwKIjqfhI55uhiJWDyEIihb/6R6RSquf
 UAvQ==
X-Gm-Message-State: AOJu0Yynq6HGsEPiXggMh+EumVOVZBLeqXUTpSxluLNMfKZZJJtGtmSc
 35fDE8ZE5OQS3sil06IS8RwkO/wYFUYpC7WkAL6NWkUhxgsUxDINPlolv4Ip/zuf+zH6EWYUKWH
 cNxWcxtkTj2fDFbncdsav3Noloow0OSg2ovvMwN+YtXVgdOML05vD5HVZ
X-Google-Smtp-Source: AGHT+IHYNYyVGUEs/YPqkkkO2+eNdUNYXwRCPgMltgOaO7SpC+63rsNKfO59Kn0TqDCPt8kWzIXNlF3+s9IJ
X-Received: by 2002:a05:6870:96a4:b0:254:c777:6334 with SMTP id
 586e51a60fabf-25842b7ac61mr2196472fac.42.1718358700414; 
 Fri, 14 Jun 2024 02:51:40 -0700 (PDT)
Received: from postal.iol.unh.edu (postal.iol.unh.edu.
 [2606:4100:3880:1234::84]) by smtp-relay.gmail.com with ESMTPS id
 586e51a60fabf-2567a94a1besm99449fac.2.2024.06.14.02.51.40
 (version=TLS1_2 cipher=ECDHE-ECDSA-AES128-GCM-SHA256 bits=128/128);
 Fri, 14 Jun 2024 02:51:40 -0700 (PDT)
X-Relaying-Domain: iol.unh.edu
Date: Fri, 14 Jun 2024 02:51:40 -0700 (PDT)
Message-ID: <666c12ac.050a0220.ff371.7305SMTPIN_ADDED_MISSING@mx.google.com>
Received: from [172.21.0.8] (unknown [172.18.0.240])
 by postal.iol.unh.edu (Postfix) with ESMTP id DA7D6605C373;
 Fri, 14 Jun 2024 05:51:39 -0400 (EDT)
Subject: |SUCCESS| pw141138-141139 [PATCH] [v2,2/2] crypto/mlx5: add out of p
From: dpdklab@iol.unh.edu
To: Test Report <test-report@dpdk.org>
Cc: dpdk-test-reports@iol.unh.edu
In-Reply-To: <20240614003031.2006131-3-suanmingm@nvidia.com>
References: <20240614003031.2006131-3-suanmingm@nvidia.com>
Content-Type: text/plain
X-BeenThere: test-report@dpdk.org
X-Mailman-Version: 2.1.29
Precedence: list
List-Id: automatic DPDK test reports <test-report.dpdk.org>
List-Unsubscribe: <https://mails.dpdk.org/options/test-report>,
 <mailto:test-report-request@dpdk.org?subject=unsubscribe>
List-Archive: <http://mails.dpdk.org/archives/test-report/>
List-Post: <mailto:test-report@dpdk.org>
List-Help: <mailto:test-report-request@dpdk.org?subject=help>
List-Subscribe: <https://mails.dpdk.org/listinfo/test-report>,
 <mailto:test-report-request@dpdk.org?subject=subscribe>
Errors-To: test-report-bounces@dpdk.org

Test-Label: iol-abi-testing
Test-Status: SUCCESS
http://dpdk.org/patch/141139

_Testing PASS_

Submitter: Suanming Mou <suanmingm@nvidia.com>
Date: Friday, June 14 2024 00:30:31 
DPDK git baseline: Repo:dpdk
  Branch: master
  CommitID:6909b48776badc05542a410ebd34bcfec4c248bf

141138-141139 --> testing pass

Test environment and result as below:

+------------------+----------+
|   Environment    | abi_test |
+==================+==========+
| Debian Bullseye  | PASS     |
+------------------+----------+
| CentOS Stream 8  | PASS     |
+------------------+----------+
| CentOS Stream 9  | PASS     |
+------------------+----------+
| Fedora 37        | PASS     |
+------------------+----------+
| Ubuntu 22.04     | PASS     |
+------------------+----------+
| Fedora 38        | PASS     |
+------------------+----------+
| Fedora 39        | PASS     |
+------------------+----------+
| RHEL8            | PASS     |
+------------------+----------+
| Debian 12        | PASS     |
+------------------+----------+
| openSUSE Leap 15 | PASS     |
+------------------+----------+
| RHEL9            | PASS     |
+------------------+----------+
| Ubuntu 24.04     | PASS     |
+------------------+----------+


Debian Bullseye
	Kernel: 5.4.0-167-generic
	Compiler: gcc 10.2.1-6

CentOS Stream 8
	Kernel: 5.4.0-167-generic
	Compiler: gcc 8.5.0 20210514

CentOS Stream 9
	Kernel: 5.4.0-167-generic
	Compiler: gcc 11.4.1 20230605

Fedora 37
	Kernel: Depends on container host system
	Compiler: gcc 12.3.1

Ubuntu 22.04
	Kernel: 5.4.0-167-generic
	Compiler: gcc 11.4.0

Fedora 38
	Kernel: Depends on container host
	Compiler: clang 16.0.6

Fedora 39
	Kernel: Depends on container host
	Compiler: clang 17.0.6

RHEL8
	Kernel: 5.4.0-167-generic
	Compiler: gcc 8.5.0 20210514 (Red Hat 8.5.0-20)

Debian 12
	Kernel: Container Host Kernel
	Compiler: gcc 12.2.0

openSUSE Leap 15
	Kernel: 5.4.0-167-generic
	Compiler: gcc 7.5.0

RHEL9
	Kernel: Depends on container host
	Compiler: gcc 11.4.1

Ubuntu 24.04
	Kernel: 5.4.0-167-generic
	Compiler: gcc 13.2.0

To view detailed results, visit:
https://lab.dpdk.org/results/dashboard/patchsets/30189/

UNH-IOL DPDK Community Lab

To manage your email subscriptions, visit: 
https://lab.dpdk.org/results/dashboard/preferences/subscriptions/