From mboxrd@z Thu Jan  1 00:00:00 1970
Return-Path: <test-report-bounces@dpdk.org>
Received: from mails.dpdk.org (mails.dpdk.org [217.70.189.124])
	by inbox.dpdk.org (Postfix) with ESMTP id 1C64F4545A
	for <public@inbox.dpdk.org>; Fri, 14 Jun 2024 12:53:06 +0200 (CEST)
Received: from mails.dpdk.org (localhost [127.0.0.1])
	by mails.dpdk.org (Postfix) with ESMTP id 16EA0402D3;
	Fri, 14 Jun 2024 12:53:06 +0200 (CEST)
Received: from mail-yb1-f225.google.com (mail-yb1-f225.google.com
 [209.85.219.225])
 by mails.dpdk.org (Postfix) with ESMTP id E600240264
 for <test-report@dpdk.org>; Fri, 14 Jun 2024 12:53:04 +0200 (CEST)
Received: by mail-yb1-f225.google.com with SMTP id
 3f1490d57ef6-dff0067a263so2320493276.0
 for <test-report@dpdk.org>; Fri, 14 Jun 2024 03:53:04 -0700 (PDT)
DKIM-Signature: v=1; a=rsa-sha256; c=relaxed/relaxed;
 d=iol.unh.edu; s=unh-iol; t=1718362384; x=1718967184; darn=dpdk.org;
 h=references:in-reply-to:cc:to:from:subject:message-id:date:from:to
 :cc:subject:date:message-id:reply-to;
 bh=SSR5xuLC5TKVcyTTc2YHpQl78MB4CBF656RHusW1x+I=;
 b=RRweUP/Js8Ul9XnxC7A6bluZe/s7WcJkiIwcAdlJxHPPoiCufW1Z1tpAk8EnpJgiaP
 IP+/52xN6cFihwFdXHbvJNKI0OKeP6PNsMeqPjFnbdqfgEV75xZ29RTvI41skM4/qeLa
 3nEcEqCmZAOeQN6AgtYWdDEKrA8BWVZEQgLf8=
X-Google-DKIM-Signature: v=1; a=rsa-sha256; c=relaxed/relaxed;
 d=1e100.net; s=20230601; t=1718362384; x=1718967184;
 h=references:in-reply-to:cc:to:from:subject:message-id:date
 :x-gm-message-state:from:to:cc:subject:date:message-id:reply-to;
 bh=SSR5xuLC5TKVcyTTc2YHpQl78MB4CBF656RHusW1x+I=;
 b=cRB4+iJU+GV92w2pf8cHAFPoODLwWqbgB6U4MJOVFXa9H/chc/q4RXTSVH7bVlJ10M
 cuIwoGKrnucFaf3NqowVrig39QiK2Kp7xWKtRQec5tn3Swf2b1cegKMO8bATlTe+uDrh
 VWeeJPVdB/JZs3wi31FGdY3aQUb1PVWam8g2a19HYYjSO72H+JgnrIBQz0iJjGysz69V
 8/RY++XrNtvyeUmZikfGp3QK/lNvzcIhGN5OzarhU0QXpXhq5+Q8l1RYrMU4Fb+Q/eUf
 dVtG7KssOUqD+AFSFswCogylakv6S3Mfkm9ABGa2CNkex6ov7mUBHhGEYEwR9yzD5e6H
 flMQ==
X-Gm-Message-State: AOJu0YzN4otUH+N66emJYstgtYvmM/I4GIpnn+NPEe0Y9LWprgVBspGc
 HkJGagKPxcYvZWi/3jt0XyA3oN8JWoh01guEQQF7EO86BB7kIA54ho9FtH7UMkTelE25112HxbP
 8gI2oGxG/JYa57KzPLzwo/OTGZUQhP2vnmGnkRmVGjhuVLFY6jJJZt8Kn
X-Google-Smtp-Source: AGHT+IHqCaq83BxSeKV/y8+byVtebszsGRFvkwautM4wPygOnk9zaGOol1FDwW0MLpEuG0eqG6mfNQtbnHdp
X-Received: by 2002:a25:2c7:0:b0:dfe:2739:348 with SMTP id
 3f1490d57ef6-dff15342800mr2069287276.11.1718362384280; 
 Fri, 14 Jun 2024 03:53:04 -0700 (PDT)
Received: from postal.iol.unh.edu (postal.iol.unh.edu.
 [2606:4100:3880:1234::84]) by smtp-relay.gmail.com with ESMTPS id
 3f1490d57ef6-dff048a61e7sm125414276.24.2024.06.14.03.53.04
 (version=TLS1_2 cipher=ECDHE-ECDSA-AES128-GCM-SHA256 bits=128/128);
 Fri, 14 Jun 2024 03:53:04 -0700 (PDT)
X-Relaying-Domain: iol.unh.edu
Date: Fri, 14 Jun 2024 03:53:04 -0700 (PDT)
Message-ID: <666c2110.050a0220.975ba.94e8SMTPIN_ADDED_MISSING@mx.google.com>
Received: from [172.21.0.7] (unknown [172.18.0.240])
 by postal.iol.unh.edu (Postfix) with ESMTP id E4457605C373;
 Fri, 14 Jun 2024 06:53:03 -0400 (EDT)
Subject: |SUCCESS| pw141138-141139 [PATCH] [v2,2/2] crypto/mlx5: add out of p
From: dpdklab@iol.unh.edu
To: Test Report <test-report@dpdk.org>
Cc: dpdk-test-reports@iol.unh.edu
In-Reply-To: <20240614003031.2006131-3-suanmingm@nvidia.com>
References: <20240614003031.2006131-3-suanmingm@nvidia.com>
Content-Type: text/plain
X-BeenThere: test-report@dpdk.org
X-Mailman-Version: 2.1.29
Precedence: list
List-Id: automatic DPDK test reports <test-report.dpdk.org>
List-Unsubscribe: <https://mails.dpdk.org/options/test-report>,
 <mailto:test-report-request@dpdk.org?subject=unsubscribe>
List-Archive: <http://mails.dpdk.org/archives/test-report/>
List-Post: <mailto:test-report@dpdk.org>
List-Help: <mailto:test-report-request@dpdk.org?subject=help>
List-Subscribe: <https://mails.dpdk.org/listinfo/test-report>,
 <mailto:test-report-request@dpdk.org?subject=subscribe>
Errors-To: test-report-bounces@dpdk.org

Test-Label: iol-unit-arm64-testing
Test-Status: SUCCESS
http://dpdk.org/patch/141139

_Testing PASS_

Submitter: Suanming Mou <suanmingm@nvidia.com>
Date: Friday, June 14 2024 00:30:31 
DPDK git baseline: Repo:dpdk
  Branch: master
  CommitID:6909b48776badc05542a410ebd34bcfec4c248bf

141138-141139 --> testing pass

Test environment and result as below:

+-----------------------------+----------------+------------------------------+---------------------------+
|         Environment         | dpdk_unit_test | cryptodev_sw_snow3g_autotest | cryptodev_sw_zuc_autotest |
+=============================+================+==============================+===========================+
| Debian 11 (Buster) (ARM)    | PASS           | SKIPPED                      | SKIPPED                   |
+-----------------------------+----------------+------------------------------+---------------------------+
| Debian 12 (arm)             | PASS           | PASS                         | PASS                      |
+-----------------------------+----------------+------------------------------+---------------------------+
| CentOS Stream 9 (ARM)       | PASS           | SKIPPED                      | SKIPPED                   |
+-----------------------------+----------------+------------------------------+---------------------------+
| Fedora 38 (ARM)             | PASS           | SKIPPED                      | SKIPPED                   |
+-----------------------------+----------------+------------------------------+---------------------------+
| Fedora 38 (ARM Clang)       | PASS           | SKIPPED                      | SKIPPED                   |
+-----------------------------+----------------+------------------------------+---------------------------+
| RHEL9 (ARM)                 | PASS           | SKIPPED                      | SKIPPED                   |
+-----------------------------+----------------+------------------------------+---------------------------+
| Fedora 39 (ARM Clang)       | PASS           | SKIPPED                      | SKIPPED                   |
+-----------------------------+----------------+------------------------------+---------------------------+
| 32-bit Ubuntu 20.04.4 (ARM) | PASS           | SKIPPED                      | SKIPPED                   |
+-----------------------------+----------------+------------------------------+---------------------------+
| Ubuntu 20.04 (ARM)          | PASS           | SKIPPED                      | SKIPPED                   |
+-----------------------------+----------------+------------------------------+---------------------------+
| Fedora 37 (ARM)             | PASS           | SKIPPED                      | SKIPPED                   |
+-----------------------------+----------------+------------------------------+---------------------------+
| Ubuntu 22.04 (ARM)          | PASS           | SKIPPED                      | SKIPPED                   |
+-----------------------------+----------------+------------------------------+---------------------------+
| Ubuntu 24.04 (ARM)          | PASS           | SKIPPED                      | SKIPPED                   |
+-----------------------------+----------------+------------------------------+---------------------------+
| Fedora 39 (ARM)             | PASS           | SKIPPED                      | SKIPPED                   |
+-----------------------------+----------------+------------------------------+---------------------------+


Debian 11 (Buster) (ARM)
	Kernel: Container Host Kernel
	Compiler: gcc 10.2.1

Debian 12 (arm)
	Kernel: Container Host Kernel
	Compiler: gcc 12.2.0

CentOS Stream 9 (ARM)
	Kernel: Container Host Kernel
	Compiler: gcc 11.4.1

Fedora 38 (ARM)
	Kernel: Depends on container host
	Compiler: gcc 13.2.1

Fedora 38 (ARM Clang)
	Kernel: Depends on container host
	Compiler: clang 16.0.6

RHEL9 (ARM)
	Kernel: Depends on container host
	Compiler: gcc 11.4.1

Fedora 39 (ARM Clang)
	Kernel: Depends on container host
	Compiler: clang 17.0.6

32-bit Ubuntu 20.04.4 (ARM)
	Kernel: 5.4.0-155-generic aarch64
	Compiler: gcc 9.4

Ubuntu 20.04 (ARM)
	Kernel: Container Host Kernel
	Compiler: gcc 9.4.0

Fedora 37 (ARM)
	Kernel: Depends on container host
	Compiler: gcc 12.3.1

Ubuntu 22.04 (ARM)
	Kernel: Container Host Kernel
	Compiler: gcc 11.4.0

Ubuntu 24.04 (ARM)
	Kernel: 5.4.0-167-generic
	Compiler: gcc 13.2.0

Fedora 39 (ARM)
	Kernel: Depends on container host
	Compiler: gcc 13.2.1

To view detailed results, visit:
https://lab.dpdk.org/results/dashboard/patchsets/30189/

UNH-IOL DPDK Community Lab

To manage your email subscriptions, visit: 
https://lab.dpdk.org/results/dashboard/preferences/subscriptions/