From mboxrd@z Thu Jan  1 00:00:00 1970
Return-Path: <test-report-bounces@dpdk.org>
Received: from mails.dpdk.org (mails.dpdk.org [217.70.189.124])
	by inbox.dpdk.org (Postfix) with ESMTP id 5C0684545A
	for <public@inbox.dpdk.org>; Fri, 14 Jun 2024 12:55:02 +0200 (CEST)
Received: from mails.dpdk.org (localhost [127.0.0.1])
	by mails.dpdk.org (Postfix) with ESMTP id 573AA402D3;
	Fri, 14 Jun 2024 12:55:02 +0200 (CEST)
Received: from mail-qt1-f228.google.com (mail-qt1-f228.google.com
 [209.85.160.228])
 by mails.dpdk.org (Postfix) with ESMTP id 2EEFE40264
 for <test-report@dpdk.org>; Fri, 14 Jun 2024 12:55:01 +0200 (CEST)
Received: by mail-qt1-f228.google.com with SMTP id
 d75a77b69052e-4421cbba106so2178181cf.2
 for <test-report@dpdk.org>; Fri, 14 Jun 2024 03:55:01 -0700 (PDT)
DKIM-Signature: v=1; a=rsa-sha256; c=relaxed/relaxed;
 d=iol.unh.edu; s=unh-iol; t=1718362500; x=1718967300; darn=dpdk.org;
 h=references:in-reply-to:cc:to:from:subject:message-id:date:from:to
 :cc:subject:date:message-id:reply-to;
 bh=ZvtgdjPplzw2dFMO+P0462Y9eUquLywGNCHqWSszv5E=;
 b=ZU2PrjYbk1w8+wN6cohe4ezW+OWdq8jArVW1ZoW7+w+uYxMeP2XIQAg6nSM7ScUSl9
 Oin1j+fV+XhJp8/oFnkYULelC5QSPoTkFEyzClZ28zoNhgs9K2GY+bsZHsVzZ4Q9zurU
 b75HsnLgSFaGD8CP5I9pR1pYSjAAoFMRjEPMU=
X-Google-DKIM-Signature: v=1; a=rsa-sha256; c=relaxed/relaxed;
 d=1e100.net; s=20230601; t=1718362500; x=1718967300;
 h=references:in-reply-to:cc:to:from:subject:message-id:date
 :x-gm-message-state:from:to:cc:subject:date:message-id:reply-to;
 bh=ZvtgdjPplzw2dFMO+P0462Y9eUquLywGNCHqWSszv5E=;
 b=Eaa+nlqKHyHgdzy2/nWHhq7sHAkW6G/tYjrUNl9wM5n0Ye0K7nEreWSF51h0bMJBuk
 uhbjdPtGYsKWUQ+0OmAIlPwqpAqLkRAPnjdCg57/2CtdvuXYMQXK1vRWT70p01hhvmYG
 yrZn1nMUqQ7nQvxG0vx1gU9f1N7KDIihZ85MULuUWUuhcOpUYfRLq1Bs0/CRQPCBH0CH
 ogvUCyzu4L7mUr/5OpjDGSNSBL2BnbtiHElQL25Fb5dpmSMqIl3AUTkLoMJv9JOqKM/H
 ANoXGA6nBahQMCU38VuddICu43ggeMp01VaPYiOswHx7gBrlJbHsoUagso4ni9sqluWw
 a/cw==
X-Gm-Message-State: AOJu0Yx/JMw1fXh+ZWuy+btBrAplspNSU6dGhyLqHKgfLxsz79EDpRr8
 plY4bDROfWW+teDpg3xviiOpCWC3eIsSNi+crBRJ+d79nJafbWgoG5SLs2ka0mbUbaymUWcnxNB
 DTdPNoxAICpbvyNoR+2DFfU4Gv/l3MWPdSkNbBsRWSgt/gEL7zH5LrTvb
X-Google-Smtp-Source: AGHT+IHwtJ3WgkpmiyQYp7iKnVegDdArsSYYNXKMCBJEze3cdIuV7M0knJHLoDthLx72Dv8lk50dBSL7mPLf
X-Received: by 2002:a05:622a:1791:b0:440:5ea5:7161 with SMTP id
 d75a77b69052e-44216b040f1mr26284201cf.45.1718362500458; 
 Fri, 14 Jun 2024 03:55:00 -0700 (PDT)
Received: from postal.iol.unh.edu (postal.iol.unh.edu.
 [2606:4100:3880:1234::84]) by smtp-relay.gmail.com with ESMTPS id
 d75a77b69052e-441eebb6215sm875911cf.0.2024.06.14.03.55.00
 (version=TLS1_2 cipher=ECDHE-ECDSA-AES128-GCM-SHA256 bits=128/128);
 Fri, 14 Jun 2024 03:55:00 -0700 (PDT)
X-Relaying-Domain: iol.unh.edu
Date: Fri, 14 Jun 2024 03:55:00 -0700 (PDT)
Message-ID: <666c2184.c80a0220.b934b.6358SMTPIN_ADDED_MISSING@mx.google.com>
Received: from [172.21.0.8] (unknown [172.18.0.240])
 by postal.iol.unh.edu (Postfix) with ESMTP id 2D244605C373;
 Fri, 14 Jun 2024 06:55:00 -0400 (EDT)
Subject: |SUCCESS| pw141138-141139 [PATCH] [v2,2/2] crypto/mlx5: add out of p
From: dpdklab@iol.unh.edu
To: Test Report <test-report@dpdk.org>
Cc: dpdk-test-reports@iol.unh.edu
In-Reply-To: <20240614003031.2006131-3-suanmingm@nvidia.com>
References: <20240614003031.2006131-3-suanmingm@nvidia.com>
Content-Type: text/plain
X-BeenThere: test-report@dpdk.org
X-Mailman-Version: 2.1.29
Precedence: list
List-Id: automatic DPDK test reports <test-report.dpdk.org>
List-Unsubscribe: <https://mails.dpdk.org/options/test-report>,
 <mailto:test-report-request@dpdk.org?subject=unsubscribe>
List-Archive: <http://mails.dpdk.org/archives/test-report/>
List-Post: <mailto:test-report@dpdk.org>
List-Help: <mailto:test-report-request@dpdk.org?subject=help>
List-Subscribe: <https://mails.dpdk.org/listinfo/test-report>,
 <mailto:test-report-request@dpdk.org?subject=subscribe>
Errors-To: test-report-bounces@dpdk.org

Test-Label: iol-unit-amd64-testing
Test-Status: SUCCESS
http://dpdk.org/patch/141139

_Testing PASS_

Submitter: Suanming Mou <suanmingm@nvidia.com>
Date: Friday, June 14 2024 00:30:31 
DPDK git baseline: Repo:dpdk
  Branch: master
  CommitID:6909b48776badc05542a410ebd34bcfec4c248bf

141138-141139 --> testing pass

Test environment and result as below:

+---------------------+----------------+
|     Environment     | dpdk_unit_test |
+=====================+================+
| Windows Server 2019 | PASS           |
+---------------------+----------------+
| CentOS Stream 8     | PASS           |
+---------------------+----------------+
| Debian Bullseye     | PASS           |
+---------------------+----------------+
| CentOS Stream 9     | PASS           |
+---------------------+----------------+
| Fedora 37           | PASS           |
+---------------------+----------------+
| Fedora 39           | PASS           |
+---------------------+----------------+
| Fedora 38           | PASS           |
+---------------------+----------------+
| Debian 12           | PASS           |
+---------------------+----------------+
| openSUSE Leap 15    | PASS           |
+---------------------+----------------+
| Ubuntu 22.04        | PASS           |
+---------------------+----------------+
| Windows Server 2022 | PASS           |
+---------------------+----------------+
| Ubuntu 20.04        | PASS           |
+---------------------+----------------+
| RHEL8               | PASS           |
+---------------------+----------------+
| RHEL9               | PASS           |
+---------------------+----------------+
| Ubuntu 24.04        | PASS           |
+---------------------+----------------+


Windows Server 2019
	Kernel: 10.0.17763
	Compiler: clang 14.0 and gcc 8.1.0 (MinGW)

CentOS Stream 8
	Kernel: 5.4.0-167-generic
	Compiler: gcc 8.5.0 20210514

Debian Bullseye
	Kernel: 5.4.0-167-generic
	Compiler: gcc 10.2.1-6

CentOS Stream 9
	Kernel: 5.4.0-167-generic
	Compiler: gcc 11.4.1 20230605

Fedora 37
	Kernel: Depends on container host system
	Compiler: gcc 12.3.1

Fedora 39
	Kernel: Depends on container host
	Compiler: gcc 13.2.1

Fedora 38
	Kernel: Depends on container host
	Compiler: gcc 13.2.1

Debian 12
	Kernel: Container Host Kernel
	Compiler: gcc 12.2.0

openSUSE Leap 15
	Kernel: 5.4.0-167-generic
	Compiler: gcc 7.5.0

Ubuntu 22.04
	Kernel: 5.4.0-167-generic
	Compiler: gcc 11.4.0

Windows Server 2022
	Kernel: 10.0.20348.2031
	Compiler: clang 15.0.7, gcc 8.1.0 (MinGW), and MSVC VS 17.9

Ubuntu 20.04
	Kernel: 5.4.0-167-generic
	Compiler: gcc 9.4.0-1ubuntu1~20.04.1

RHEL8
	Kernel: 5.4.0-167-generic
	Compiler: gcc 8.5.0 20210514 (Red Hat 8.5.0-20)

RHEL9
	Kernel: Depends on container host
	Compiler: gcc 11.4.1

Ubuntu 24.04
	Kernel: 5.4.0-167-generic
	Compiler: gcc 13.2.0

To view detailed results, visit:
https://lab.dpdk.org/results/dashboard/patchsets/30189/

UNH-IOL DPDK Community Lab

To manage your email subscriptions, visit: 
https://lab.dpdk.org/results/dashboard/preferences/subscriptions/