From mboxrd@z Thu Jan  1 00:00:00 1970
Return-Path: <test-report-bounces@dpdk.org>
Received: from mails.dpdk.org (mails.dpdk.org [217.70.189.124])
	by inbox.dpdk.org (Postfix) with ESMTP id 407DD4545A
	for <public@inbox.dpdk.org>; Fri, 14 Jun 2024 13:04:44 +0200 (CEST)
Received: from mails.dpdk.org (localhost [127.0.0.1])
	by mails.dpdk.org (Postfix) with ESMTP id 3B4F7402D3;
	Fri, 14 Jun 2024 13:04:44 +0200 (CEST)
Received: from mail-pf1-f228.google.com (mail-pf1-f228.google.com
 [209.85.210.228])
 by mails.dpdk.org (Postfix) with ESMTP id 5B3ED40264
 for <test-report@dpdk.org>; Fri, 14 Jun 2024 13:04:37 +0200 (CEST)
Received: by mail-pf1-f228.google.com with SMTP id
 d2e1a72fcca58-70432d3406bso1757793b3a.1
 for <test-report@dpdk.org>; Fri, 14 Jun 2024 04:04:37 -0700 (PDT)
DKIM-Signature: v=1; a=rsa-sha256; c=relaxed/relaxed;
 d=iol.unh.edu; s=unh-iol; t=1718363076; x=1718967876; darn=dpdk.org;
 h=references:in-reply-to:cc:to:from:subject:message-id:date:from:to
 :cc:subject:date:message-id:reply-to;
 bh=ZvtgdjPplzw2dFMO+P0462Y9eUquLywGNCHqWSszv5E=;
 b=Cq+wOT0BsYGesWymmhi5uWJmFJjpaZvUBLp72z8PsVeDDLthEZSYOtTASBJVMl8ANQ
 C2uyZR4ds4ZHw2L18dIFlx1i6J8REK/Ykmm9k8LpOy7xTaMPJPp2O8Zd2nOQupIkvn/A
 HNfMKjHbCfE3YRDzTBSsAHt+EV3t6tKqIbSI4=
X-Google-DKIM-Signature: v=1; a=rsa-sha256; c=relaxed/relaxed;
 d=1e100.net; s=20230601; t=1718363076; x=1718967876;
 h=references:in-reply-to:cc:to:from:subject:message-id:date
 :x-gm-message-state:from:to:cc:subject:date:message-id:reply-to;
 bh=ZvtgdjPplzw2dFMO+P0462Y9eUquLywGNCHqWSszv5E=;
 b=S6A8SHd5t6ICQdQr+z2myh7YMc4N0fX6xfBJ+kFXdOvAPApsILwsGLbvYyIu4P9BHM
 vgLlv3AIyPKC2BhgyW04qd/nWbULobv25k5bYbtL/siYB5X0a/WpnSnI/aCDd/o8eqaW
 WczV6RwDng7c2+WAXJaMaEP1HfnB6CMBxaXVWuKzFxlT3+fXTop0sTbJA/nvIE9dA6vk
 ib0nwrPJC8ZDZqTDOniRLgfbA8Ob4XDCr87brhqrQ5NJwhZ7KRiI8pPcOp5f22JoN7Rf
 CIptICq6ww54YUDHgeNAUopt+EX8IkiEpIkhbVfUtQl1lm/B/804++3r9ybGshXS9L0o
 XXYw==
X-Gm-Message-State: AOJu0YyQdsMMkhA7wdnn63bKHOjlZ7bWZN/H3yCUpxE4rQK5dwoFYNpe
 FlFDg2hu/62naDV7c6OEOdtH+yxPxWzfD/oBDbO7KkEa33CszStgXV8UgUHSuOmnCA38IPWb7C7
 8G8W7wx7SZWsrKqybfrkUZRsSrx9KdU739TH2aVK1qha0N/V0J3CD/418
X-Google-Smtp-Source: AGHT+IFhgpROn38zo1r3zDKODDzCWGrDyBmAwW8rvRLBGvnFfcZHcEvXYrZsP8+l3hfE4huCws4VZIdQJ5XK
X-Received: by 2002:a05:6a00:b:b0:705:98d4:6220 with SMTP id
 d2e1a72fcca58-705d71ceacdmr2153967b3a.30.1718363076537; 
 Fri, 14 Jun 2024 04:04:36 -0700 (PDT)
Received: from postal.iol.unh.edu (postal.iol.unh.edu.
 [2606:4100:3880:1234::84]) by smtp-relay.gmail.com with ESMTPS id
 41be03b00d2f7-6fee39a7aa5sm123285a12.30.2024.06.14.04.04.36
 (version=TLS1_2 cipher=ECDHE-ECDSA-AES128-GCM-SHA256 bits=128/128);
 Fri, 14 Jun 2024 04:04:36 -0700 (PDT)
X-Relaying-Domain: iol.unh.edu
Date: Fri, 14 Jun 2024 04:04:36 -0700 (PDT)
Message-ID: <666c23c4.630a0220.3d25a.93a3SMTPIN_ADDED_MISSING@mx.google.com>
Received: from [172.21.0.9] (unknown [172.18.0.240])
 by postal.iol.unh.edu (Postfix) with ESMTP id C65E4605C373;
 Fri, 14 Jun 2024 07:04:35 -0400 (EDT)
Subject: |SUCCESS| pw141138-141139 [PATCH] [v2,2/2] crypto/mlx5: add out of p
From: dpdklab@iol.unh.edu
To: Test Report <test-report@dpdk.org>
Cc: dpdk-test-reports@iol.unh.edu
In-Reply-To: <20240614003031.2006131-3-suanmingm@nvidia.com>
References: <20240614003031.2006131-3-suanmingm@nvidia.com>
Content-Type: text/plain
X-BeenThere: test-report@dpdk.org
X-Mailman-Version: 2.1.29
Precedence: list
List-Id: automatic DPDK test reports <test-report.dpdk.org>
List-Unsubscribe: <https://mails.dpdk.org/options/test-report>,
 <mailto:test-report-request@dpdk.org?subject=unsubscribe>
List-Archive: <http://mails.dpdk.org/archives/test-report/>
List-Post: <mailto:test-report@dpdk.org>
List-Help: <mailto:test-report-request@dpdk.org?subject=help>
List-Subscribe: <https://mails.dpdk.org/listinfo/test-report>,
 <mailto:test-report-request@dpdk.org?subject=subscribe>
Errors-To: test-report-bounces@dpdk.org

Test-Label: iol-unit-amd64-testing
Test-Status: SUCCESS
http://dpdk.org/patch/141139

_Testing PASS_

Submitter: Suanming Mou <suanmingm@nvidia.com>
Date: Friday, June 14 2024 00:30:31 
DPDK git baseline: Repo:dpdk
  Branch: master
  CommitID:6909b48776badc05542a410ebd34bcfec4c248bf

141138-141139 --> testing pass

Test environment and result as below:

+---------------------+----------------+
|     Environment     | dpdk_unit_test |
+=====================+================+
| Windows Server 2019 | PASS           |
+---------------------+----------------+
| CentOS Stream 8     | PASS           |
+---------------------+----------------+
| Debian Bullseye     | PASS           |
+---------------------+----------------+
| CentOS Stream 9     | PASS           |
+---------------------+----------------+
| Fedora 37           | PASS           |
+---------------------+----------------+
| Fedora 39           | PASS           |
+---------------------+----------------+
| Fedora 38           | PASS           |
+---------------------+----------------+
| Debian 12           | PASS           |
+---------------------+----------------+
| openSUSE Leap 15    | PASS           |
+---------------------+----------------+
| Ubuntu 22.04        | PASS           |
+---------------------+----------------+
| Windows Server 2022 | PASS           |
+---------------------+----------------+
| Ubuntu 20.04        | PASS           |
+---------------------+----------------+
| RHEL8               | PASS           |
+---------------------+----------------+
| RHEL9               | PASS           |
+---------------------+----------------+
| Ubuntu 24.04        | PASS           |
+---------------------+----------------+


Windows Server 2019
	Kernel: 10.0.17763
	Compiler: clang 14.0 and gcc 8.1.0 (MinGW)

CentOS Stream 8
	Kernel: 5.4.0-167-generic
	Compiler: gcc 8.5.0 20210514

Debian Bullseye
	Kernel: 5.4.0-167-generic
	Compiler: gcc 10.2.1-6

CentOS Stream 9
	Kernel: 5.4.0-167-generic
	Compiler: gcc 11.4.1 20230605

Fedora 37
	Kernel: Depends on container host system
	Compiler: gcc 12.3.1

Fedora 39
	Kernel: Depends on container host
	Compiler: gcc 13.2.1

Fedora 38
	Kernel: Depends on container host
	Compiler: gcc 13.2.1

Debian 12
	Kernel: Container Host Kernel
	Compiler: gcc 12.2.0

openSUSE Leap 15
	Kernel: 5.4.0-167-generic
	Compiler: gcc 7.5.0

Ubuntu 22.04
	Kernel: 5.4.0-167-generic
	Compiler: gcc 11.4.0

Windows Server 2022
	Kernel: 10.0.20348.2031
	Compiler: clang 15.0.7, gcc 8.1.0 (MinGW), and MSVC VS 17.9

Ubuntu 20.04
	Kernel: 5.4.0-167-generic
	Compiler: gcc 9.4.0-1ubuntu1~20.04.1

RHEL8
	Kernel: 5.4.0-167-generic
	Compiler: gcc 8.5.0 20210514 (Red Hat 8.5.0-20)

RHEL9
	Kernel: Depends on container host
	Compiler: gcc 11.4.1

Ubuntu 24.04
	Kernel: 5.4.0-167-generic
	Compiler: gcc 13.2.0

To view detailed results, visit:
https://lab.dpdk.org/results/dashboard/patchsets/30189/

UNH-IOL DPDK Community Lab

To manage your email subscriptions, visit: 
https://lab.dpdk.org/results/dashboard/preferences/subscriptions/