From mboxrd@z Thu Jan  1 00:00:00 1970
Return-Path: <test-report-bounces@dpdk.org>
Received: from mails.dpdk.org (mails.dpdk.org [217.70.189.124])
	by inbox.dpdk.org (Postfix) with ESMTP id 765F04545A
	for <public@inbox.dpdk.org>; Fri, 14 Jun 2024 13:20:13 +0200 (CEST)
Received: from mails.dpdk.org (localhost [127.0.0.1])
	by mails.dpdk.org (Postfix) with ESMTP id 6F377402DD;
	Fri, 14 Jun 2024 13:20:13 +0200 (CEST)
Received: from mail-pl1-f227.google.com (mail-pl1-f227.google.com
 [209.85.214.227])
 by mails.dpdk.org (Postfix) with ESMTP id 5406E40264
 for <test-report@dpdk.org>; Fri, 14 Jun 2024 13:20:12 +0200 (CEST)
Received: by mail-pl1-f227.google.com with SMTP id
 d9443c01a7336-1f44b45d6abso16521105ad.0
 for <test-report@dpdk.org>; Fri, 14 Jun 2024 04:20:12 -0700 (PDT)
DKIM-Signature: v=1; a=rsa-sha256; c=relaxed/relaxed;
 d=iol.unh.edu; s=unh-iol; t=1718364011; x=1718968811; darn=dpdk.org;
 h=references:in-reply-to:cc:to:from:subject:message-id:date:from:to
 :cc:subject:date:message-id:reply-to;
 bh=ZvtgdjPplzw2dFMO+P0462Y9eUquLywGNCHqWSszv5E=;
 b=jiPzJWz/FFlevaEQ1+YGc92fkreEmCm2awtEvv/aAAj1Et4rlVTkLrckIVuGaOgYoz
 mpXHVNCXc1/el64eV5K/PK6pobZrci83+V2SooaIwnqxLG+9wjQsbiElwZB7wV1o6rPr
 1OV4vCOAgH8s3Lt4irmRUODE2D3fT030wXm64=
X-Google-DKIM-Signature: v=1; a=rsa-sha256; c=relaxed/relaxed;
 d=1e100.net; s=20230601; t=1718364011; x=1718968811;
 h=references:in-reply-to:cc:to:from:subject:message-id:date
 :x-gm-message-state:from:to:cc:subject:date:message-id:reply-to;
 bh=ZvtgdjPplzw2dFMO+P0462Y9eUquLywGNCHqWSszv5E=;
 b=lDYQMDqqBZyCv2Bf8VwoClJl2GjaLKTA/FuQPupdbPTjWAzE1F5vkCsHb28VN+lRXA
 f1bE1unSSAD7VE2ydhEUVh4YAm4V0nZjeftZpKZAHaT4gT2kOu+N8JNfXUq3U/oaoY2S
 He83xuyqUzvS/rgoJrNS6rkdMM4yCkje5ndojGreWDzlEzXjMjwPZbzcaaiMfg5cBehv
 hEtYmJLxf62iQ5GxrJBG8WFrolgPZBMp/V4RgLT3QjET6WQ42+GRvf6sctHh8ED0v0/4
 z1cb8iSPR7vvwT16GiT8FNXl8rTUQFGvlbqRruxpA0ne2go7cQhq0DlVYj9HM68KmKOy
 1ykg==
X-Gm-Message-State: AOJu0YxIBdAQEQsx5sNOiZXjX2OM5jV+qBy6rTunOt2Th84rBpUSCX87
 9jIZU8/cJV5NZNCS1hz0zf9Gd97sQJR/q+mIm0Jdf9PySHFkxhiyNF0AuZtueBYoXgabxrsgYf2
 Yobh436L8pRBfXmpr9L8yedhepbE5p5RzRqL1QQNSCunusq5Sj/syvUTx
X-Google-Smtp-Source: AGHT+IFzi2HgJS7lrh+9bVVZEXmbJ2reVz93HZm1lnC6/qV0/iVnq6ZprH2pjeuiyBGpQT9QNqfjuaSHx+Qr
X-Received: by 2002:a17:90a:560e:b0:2c4:caa1:5e3f with SMTP id
 98e67ed59e1d1-2c4db13221amr2447541a91.10.1718364011377; 
 Fri, 14 Jun 2024 04:20:11 -0700 (PDT)
Received: from postal.iol.unh.edu (postal.iol.unh.edu.
 [2606:4100:3880:1234::84]) by smtp-relay.gmail.com with ESMTPS id
 98e67ed59e1d1-2c4a75f0810sm383622a91.7.2024.06.14.04.20.11
 (version=TLS1_2 cipher=ECDHE-ECDSA-AES128-GCM-SHA256 bits=128/128);
 Fri, 14 Jun 2024 04:20:11 -0700 (PDT)
X-Relaying-Domain: iol.unh.edu
Date: Fri, 14 Jun 2024 04:20:11 -0700 (PDT)
Message-ID: <666c276b.170a0220.f0e8b.b485SMTPIN_ADDED_MISSING@mx.google.com>
Received: from [172.21.0.8] (unknown [172.18.0.240])
 by postal.iol.unh.edu (Postfix) with ESMTP id 6B6E8605C373;
 Fri, 14 Jun 2024 07:20:10 -0400 (EDT)
Subject: |SUCCESS| pw141138-141139 [PATCH] [v2,2/2] crypto/mlx5: add out of p
From: dpdklab@iol.unh.edu
To: Test Report <test-report@dpdk.org>
Cc: dpdk-test-reports@iol.unh.edu
In-Reply-To: <20240614003031.2006131-3-suanmingm@nvidia.com>
References: <20240614003031.2006131-3-suanmingm@nvidia.com>
Content-Type: text/plain
X-BeenThere: test-report@dpdk.org
X-Mailman-Version: 2.1.29
Precedence: list
List-Id: automatic DPDK test reports <test-report.dpdk.org>
List-Unsubscribe: <https://mails.dpdk.org/options/test-report>,
 <mailto:test-report-request@dpdk.org?subject=unsubscribe>
List-Archive: <http://mails.dpdk.org/archives/test-report/>
List-Post: <mailto:test-report@dpdk.org>
List-Help: <mailto:test-report-request@dpdk.org?subject=help>
List-Subscribe: <https://mails.dpdk.org/listinfo/test-report>,
 <mailto:test-report-request@dpdk.org?subject=subscribe>
Errors-To: test-report-bounces@dpdk.org

Test-Label: iol-unit-amd64-testing
Test-Status: SUCCESS
http://dpdk.org/patch/141139

_Testing PASS_

Submitter: Suanming Mou <suanmingm@nvidia.com>
Date: Friday, June 14 2024 00:30:31 
DPDK git baseline: Repo:dpdk
  Branch: master
  CommitID:6909b48776badc05542a410ebd34bcfec4c248bf

141138-141139 --> testing pass

Test environment and result as below:

+---------------------+----------------+
|     Environment     | dpdk_unit_test |
+=====================+================+
| Windows Server 2019 | PASS           |
+---------------------+----------------+
| CentOS Stream 8     | PASS           |
+---------------------+----------------+
| Debian Bullseye     | PASS           |
+---------------------+----------------+
| CentOS Stream 9     | PASS           |
+---------------------+----------------+
| Fedora 37           | PASS           |
+---------------------+----------------+
| Fedora 39           | PASS           |
+---------------------+----------------+
| Fedora 38           | PASS           |
+---------------------+----------------+
| Debian 12           | PASS           |
+---------------------+----------------+
| openSUSE Leap 15    | PASS           |
+---------------------+----------------+
| Ubuntu 22.04        | PASS           |
+---------------------+----------------+
| Windows Server 2022 | PASS           |
+---------------------+----------------+
| Ubuntu 20.04        | PASS           |
+---------------------+----------------+
| RHEL8               | PASS           |
+---------------------+----------------+
| RHEL9               | PASS           |
+---------------------+----------------+
| Ubuntu 24.04        | PASS           |
+---------------------+----------------+


Windows Server 2019
	Kernel: 10.0.17763
	Compiler: clang 14.0 and gcc 8.1.0 (MinGW)

CentOS Stream 8
	Kernel: 5.4.0-167-generic
	Compiler: gcc 8.5.0 20210514

Debian Bullseye
	Kernel: 5.4.0-167-generic
	Compiler: gcc 10.2.1-6

CentOS Stream 9
	Kernel: 5.4.0-167-generic
	Compiler: gcc 11.4.1 20230605

Fedora 37
	Kernel: Depends on container host system
	Compiler: gcc 12.3.1

Fedora 39
	Kernel: Depends on container host
	Compiler: gcc 13.2.1

Fedora 38
	Kernel: Depends on container host
	Compiler: gcc 13.2.1

Debian 12
	Kernel: Container Host Kernel
	Compiler: gcc 12.2.0

openSUSE Leap 15
	Kernel: 5.4.0-167-generic
	Compiler: gcc 7.5.0

Ubuntu 22.04
	Kernel: 5.4.0-167-generic
	Compiler: gcc 11.4.0

Windows Server 2022
	Kernel: 10.0.20348.2031
	Compiler: clang 15.0.7, gcc 8.1.0 (MinGW), and MSVC VS 17.9

Ubuntu 20.04
	Kernel: 5.4.0-167-generic
	Compiler: gcc 9.4.0-1ubuntu1~20.04.1

RHEL8
	Kernel: 5.4.0-167-generic
	Compiler: gcc 8.5.0 20210514 (Red Hat 8.5.0-20)

RHEL9
	Kernel: Depends on container host
	Compiler: gcc 11.4.1

Ubuntu 24.04
	Kernel: 5.4.0-167-generic
	Compiler: gcc 13.2.0

To view detailed results, visit:
https://lab.dpdk.org/results/dashboard/patchsets/30189/

UNH-IOL DPDK Community Lab

To manage your email subscriptions, visit: 
https://lab.dpdk.org/results/dashboard/preferences/subscriptions/