From mboxrd@z Thu Jan  1 00:00:00 1970
Return-Path: <test-report-bounces@dpdk.org>
Received: from mails.dpdk.org (mails.dpdk.org [217.70.189.124])
	by inbox.dpdk.org (Postfix) with ESMTP id B8C214545A
	for <public@inbox.dpdk.org>; Fri, 14 Jun 2024 13:36:55 +0200 (CEST)
Received: from mails.dpdk.org (localhost [127.0.0.1])
	by mails.dpdk.org (Postfix) with ESMTP id B43B0402D3;
	Fri, 14 Jun 2024 13:36:55 +0200 (CEST)
Received: from mail-qt1-f227.google.com (mail-qt1-f227.google.com
 [209.85.160.227])
 by mails.dpdk.org (Postfix) with ESMTP id 75ACB40264
 for <test-report@dpdk.org>; Fri, 14 Jun 2024 13:36:51 +0200 (CEST)
Received: by mail-qt1-f227.google.com with SMTP id
 d75a77b69052e-4404fae8c6aso11096821cf.3
 for <test-report@dpdk.org>; Fri, 14 Jun 2024 04:36:51 -0700 (PDT)
DKIM-Signature: v=1; a=rsa-sha256; c=relaxed/relaxed;
 d=iol.unh.edu; s=unh-iol; t=1718365010; x=1718969810; darn=dpdk.org;
 h=references:in-reply-to:cc:to:from:subject:message-id:date:from:to
 :cc:subject:date:message-id:reply-to;
 bh=sKbVM685RGX1gPY2fuatREFjZZN4LJo2TjkJiBVaDmE=;
 b=dijyosi7rZuseTBA9nIfiXROK6LNF/owRfbx9jilGEAsTp/KiHIbpKoCjk1acUXCVF
 q4MyLYcmjoTXvyrORQlvtNh6WZUB0UcQ12qQ9yPFMamOMI/GjVutMRDcnR1RM8zSWUor
 YT0I1g9CLbOyUM/pjaBVpkcVThrkB9ODhiiEM=
X-Google-DKIM-Signature: v=1; a=rsa-sha256; c=relaxed/relaxed;
 d=1e100.net; s=20230601; t=1718365010; x=1718969810;
 h=references:in-reply-to:cc:to:from:subject:message-id:date
 :x-gm-message-state:from:to:cc:subject:date:message-id:reply-to;
 bh=sKbVM685RGX1gPY2fuatREFjZZN4LJo2TjkJiBVaDmE=;
 b=s6Q5Ln/tIgRuu0dDfmLW6wFx9v86H9+gLw4Km6dOdfvEAGa/WZfAUE38MPeXf+BYaK
 6qWn4vOP+qID0tA7Ng91uckSU+TsXLGMbhOlutbbfTEUZX+/94zgvqM6NxkRQWot3bM7
 hzde7FM1iOIUEwJoLKKYydTHw9ZqLFGPvsB4c2VvGCU+i7QEMfnn2fMiyCquHOz6fSgw
 rqDfSVX4/JWkVw14aWewIadx2CsACbOBJ0qq6rKxbdZPuG6fQOpC4SCkp/0KjumTiUni
 97pKjF1Jf+UERSUivdw5ROgIMj9qMg5TRxuv3CExJYgR6AWfDm+tavuJ1bJJs5Od7kwZ
 FsCg==
X-Gm-Message-State: AOJu0YyUIxvjYorl3A75JTuBj30Cb5WpGRmzuLe6DvTACxjLL7cz2w1M
 8t93MQIlEsRt4JcvDgCPNxR4QSz7NOAk8JgOmbaKryC8oR0DfuYpwh2kxDrx/jOn6DMDdo8uH5P
 sHj7UjFx3UDVx8p0FmEm24QlPv2fOSLsXbymRHQaC1A8fM2701Rndh7P2
X-Google-Smtp-Source: AGHT+IFOxSEXjmL9LJ4zjB2XZ7IQY5q9pnVvmbuB56LqHctPjjrvQV35VeXOdI9XJZuktTEnHNrzWTRMRPIY
X-Received: by 2002:a05:622a:3cf:b0:437:d9b:cb56 with SMTP id
 d75a77b69052e-44216b3fb4dmr21856321cf.44.1718365010670; 
 Fri, 14 Jun 2024 04:36:50 -0700 (PDT)
Received: from postal.iol.unh.edu (postal.iol.unh.edu.
 [2606:4100:3880:1234::84]) by smtp-relay.gmail.com with ESMTPS id
 d75a77b69052e-441ef3b9bbesm888261cf.2.2024.06.14.04.36.50
 (version=TLS1_2 cipher=ECDHE-ECDSA-AES128-GCM-SHA256 bits=128/128);
 Fri, 14 Jun 2024 04:36:50 -0700 (PDT)
X-Relaying-Domain: iol.unh.edu
Date: Fri, 14 Jun 2024 04:36:50 -0700 (PDT)
Message-ID: <666c2b52.050a0220.7dc25.6660SMTPIN_ADDED_MISSING@mx.google.com>
Received: from [172.21.0.6] (unknown [172.18.0.240])
 by postal.iol.unh.edu (Postfix) with ESMTP id 5A9A0605C373;
 Fri, 14 Jun 2024 07:36:50 -0400 (EDT)
Subject: |SUCCESS| pw141142-141152 [PATCH] [v2,11/11] doc: update nfp documen
From: dpdklab@iol.unh.edu
To: Test Report <test-report@dpdk.org>
Cc: dpdk-test-reports@iol.unh.edu
In-Reply-To: <20240614070120.2663160-12-chaoyong.he@corigine.com>
References: <20240614070120.2663160-12-chaoyong.he@corigine.com>
Content-Type: text/plain
X-BeenThere: test-report@dpdk.org
X-Mailman-Version: 2.1.29
Precedence: list
List-Id: automatic DPDK test reports <test-report.dpdk.org>
List-Unsubscribe: <https://mails.dpdk.org/options/test-report>,
 <mailto:test-report-request@dpdk.org?subject=unsubscribe>
List-Archive: <http://mails.dpdk.org/archives/test-report/>
List-Post: <mailto:test-report@dpdk.org>
List-Help: <mailto:test-report-request@dpdk.org?subject=help>
List-Subscribe: <https://mails.dpdk.org/listinfo/test-report>,
 <mailto:test-report-request@dpdk.org?subject=subscribe>
Errors-To: test-report-bounces@dpdk.org

Test-Label: iol-compile-amd64-testing
Test-Status: SUCCESS
http://dpdk.org/patch/141152

_Testing PASS_

Submitter: Chaoyong He <chaoyong.he@corigine.com>
Date: Friday, June 14 2024 07:01:20 
DPDK git baseline: Repo:dpdk
  Branch: master
  CommitID:fbba6db3640f9f623c29c452e1a6b057073e81d2

141142-141152 --> testing pass

Test environment and result as below:

+---------------------+--------------------+----------------------+-------------------+
|     Environment     | dpdk_meson_compile | dpdk_mingw64_compile | dpdk_msvc_compile |
+=====================+====================+======================+===================+
| FreeBSD 13.3        | PASS               | SKIPPED              | SKIPPED           |
+---------------------+--------------------+----------------------+-------------------+
| Windows Server 2022 | PASS               | PASS                 | PASS              |
+---------------------+--------------------+----------------------+-------------------+
| FreeBSD 14.1        | PASS               | SKIPPED              | SKIPPED           |
+---------------------+--------------------+----------------------+-------------------+
| Windows Server 2019 | PASS               | PASS                 | SKIPPED           |
+---------------------+--------------------+----------------------+-------------------+


FreeBSD 13.3
	Kernel: 13.3-RELEASE-p1
	Compiler: clang 17.0.6

Windows Server 2022
	Kernel: 10.0.20348.2031
	Compiler: clang 15.0.7, gcc 8.1.0 (MinGW), and MSVC VS 17.9

FreeBSD 14.1
	Kernel: 14.1
	Compiler: clang 18.1.5

Windows Server 2019
	Kernel: 10.0.17763
	Compiler: clang 14.0 and gcc 8.1.0 (MinGW)

To view detailed results, visit:
https://lab.dpdk.org/results/dashboard/patchsets/30192/

UNH-IOL DPDK Community Lab

To manage your email subscriptions, visit: 
https://lab.dpdk.org/results/dashboard/preferences/subscriptions/