From mboxrd@z Thu Jan  1 00:00:00 1970
Return-Path: <test-report-bounces@dpdk.org>
Received: from mails.dpdk.org (mails.dpdk.org [217.70.189.124])
	by inbox.dpdk.org (Postfix) with ESMTP id 826ED4545B
	for <public@inbox.dpdk.org>; Fri, 14 Jun 2024 14:01:43 +0200 (CEST)
Received: from mails.dpdk.org (localhost [127.0.0.1])
	by mails.dpdk.org (Postfix) with ESMTP id 7EAED402D3;
	Fri, 14 Jun 2024 14:01:43 +0200 (CEST)
Received: from mail-oo1-f97.google.com (mail-oo1-f97.google.com
 [209.85.161.97]) by mails.dpdk.org (Postfix) with ESMTP id 5BF9740264
 for <test-report@dpdk.org>; Fri, 14 Jun 2024 14:01:42 +0200 (CEST)
Received: by mail-oo1-f97.google.com with SMTP id
 006d021491bc7-5bb041514c1so1126783eaf.0
 for <test-report@dpdk.org>; Fri, 14 Jun 2024 05:01:42 -0700 (PDT)
DKIM-Signature: v=1; a=rsa-sha256; c=relaxed/relaxed;
 d=iol.unh.edu; s=unh-iol; t=1718366501; x=1718971301; darn=dpdk.org;
 h=references:in-reply-to:cc:to:from:subject:message-id:date:from:to
 :cc:subject:date:message-id:reply-to;
 bh=Uilz9Be3uRmezGKPpYFH5C/bSG7+ay4sEjSaDHmGsew=;
 b=DE/0skVfLLy50drszGjNy+9Qk1jfjIZlsq3dteuUy/zXHxYv5DqBhD02kJ+28givUT
 OEdG6aPbzCbdc3slEUMidg1zYVzkfmq9/FwaBjtvfIWNnPFWRukt4AxtmhdVTUCRAEDp
 S1iNnrkH8cxx/MGH05u/8AfxOH6h7jLqupZaA=
X-Google-DKIM-Signature: v=1; a=rsa-sha256; c=relaxed/relaxed;
 d=1e100.net; s=20230601; t=1718366501; x=1718971301;
 h=references:in-reply-to:cc:to:from:subject:message-id:date
 :x-gm-message-state:from:to:cc:subject:date:message-id:reply-to;
 bh=Uilz9Be3uRmezGKPpYFH5C/bSG7+ay4sEjSaDHmGsew=;
 b=sV9vTcprPgf2PdO//spaMSj7Hsf/L6oCkhzKYY289HTTmjrDC3SE+6OiwRbaNH+jMO
 KKWYdYu1tsAi/LOxQpb8lw4PRqVEoPLA4tQ7jQtdxRiLh78UBmYz8mlhUCuXoc6uUDvb
 2C8CuTIYVuxQMDUfuhcpjuy1L/syOwsBXD79e+x3ia1bpX5W8LfQPZg1tBoim9jsdToS
 6U/JvWtKfy/RPzxzvVU0/eXPeGjYs4mFrEbqRPBuovez6UxibxQywb/bq78KCW7Yleto
 JRpi+mtALfO+I6VSJGRUufxJ2lhwZLp2GLcgrNmu/hgVWzhlyOIsDCkAOQEsKe2wVyl9
 uXqg==
X-Gm-Message-State: AOJu0Ywp/HaAHnEDtU9YrhH8imYHVkADLNFReZ+Adm6CkqSCd/6cfNp3
 rJfVy91NrHuflIbW9dFEAVhTIxjW2SFsCGwp5wSCUgfTYV9Xv7Vqo/YEnbU5Or4Er2gtBy/SNtJ
 pelSGCJRsLhiKjKmFVCvDTQevZjcsxrNTc5bQCBOJ/M8mJM4I3AWx6chQ
X-Google-Smtp-Source: AGHT+IFOnbXFC58z0gcrqbkP+l4SRwJk1C1i4bGVUbeh+XV70GX7vLk9gJIlkerHHwaBt558kHwpHYUanINk
X-Received: by 2002:a05:6820:2216:b0:5ba:f004:cbc3 with SMTP id
 006d021491bc7-5bdadc8797dmr2250123eaf.7.1718366501539; 
 Fri, 14 Jun 2024 05:01:41 -0700 (PDT)
Received: from postal.iol.unh.edu (postal.iol.unh.edu.
 [2606:4100:3880:1234::84]) by smtp-relay.gmail.com with ESMTPS id
 006d021491bc7-5bd5e0780fasm102732eaf.6.2024.06.14.05.01.41
 (version=TLS1_2 cipher=ECDHE-ECDSA-AES128-GCM-SHA256 bits=128/128);
 Fri, 14 Jun 2024 05:01:41 -0700 (PDT)
X-Relaying-Domain: iol.unh.edu
Date: Fri, 14 Jun 2024 05:01:41 -0700 (PDT)
Message-ID: <666c3125.4a0a0220.acee4.7a9dSMTPIN_ADDED_MISSING@mx.google.com>
Received: from [172.21.0.13] (unknown [172.18.0.240])
 by postal.iol.unh.edu (Postfix) with ESMTP id 01379605C373;
 Fri, 14 Jun 2024 08:01:41 -0400 (EDT)
Subject: |SUCCESS| pw141142-141152 [PATCH] [v2,11/11] doc: update nfp documen
From: dpdklab@iol.unh.edu
To: Test Report <test-report@dpdk.org>
Cc: dpdk-test-reports@iol.unh.edu
In-Reply-To: <20240614070120.2663160-12-chaoyong.he@corigine.com>
References: <20240614070120.2663160-12-chaoyong.he@corigine.com>
Content-Type: text/plain
X-BeenThere: test-report@dpdk.org
X-Mailman-Version: 2.1.29
Precedence: list
List-Id: automatic DPDK test reports <test-report.dpdk.org>
List-Unsubscribe: <https://mails.dpdk.org/options/test-report>,
 <mailto:test-report-request@dpdk.org?subject=unsubscribe>
List-Archive: <http://mails.dpdk.org/archives/test-report/>
List-Post: <mailto:test-report@dpdk.org>
List-Help: <mailto:test-report-request@dpdk.org?subject=help>
List-Subscribe: <https://mails.dpdk.org/listinfo/test-report>,
 <mailto:test-report-request@dpdk.org?subject=subscribe>
Errors-To: test-report-bounces@dpdk.org

Test-Label: iol-unit-amd64-testing
Test-Status: SUCCESS
http://dpdk.org/patch/141152

_Testing PASS_

Submitter: Chaoyong He <chaoyong.he@corigine.com>
Date: Friday, June 14 2024 07:01:20 
DPDK git baseline: Repo:dpdk
  Branch: master
  CommitID:fbba6db3640f9f623c29c452e1a6b057073e81d2

141142-141152 --> testing pass

Test environment and result as below:

+---------------------+----------------+
|     Environment     | dpdk_unit_test |
+=====================+================+
| CentOS Stream 9     | PASS           |
+---------------------+----------------+
| CentOS Stream 8     | PASS           |
+---------------------+----------------+
| Fedora 38           | PASS           |
+---------------------+----------------+
| Fedora 37           | PASS           |
+---------------------+----------------+
| Debian Bullseye     | PASS           |
+---------------------+----------------+
| Debian 12           | PASS           |
+---------------------+----------------+
| Fedora 39           | PASS           |
+---------------------+----------------+
| openSUSE Leap 15    | PASS           |
+---------------------+----------------+
| RHEL9               | PASS           |
+---------------------+----------------+
| Ubuntu 20.04        | PASS           |
+---------------------+----------------+
| RHEL8               | PASS           |
+---------------------+----------------+
| Ubuntu 22.04        | PASS           |
+---------------------+----------------+
| Ubuntu 24.04        | PASS           |
+---------------------+----------------+
| Windows Server 2019 | PASS           |
+---------------------+----------------+


CentOS Stream 9
	Kernel: 5.4.0-167-generic
	Compiler: gcc 11.4.1 20230605

CentOS Stream 8
	Kernel: 5.4.0-167-generic
	Compiler: gcc 8.5.0 20210514

Fedora 38
	Kernel: Depends on container host
	Compiler: gcc 13.2.1

Fedora 37
	Kernel: Depends on container host system
	Compiler: gcc 12.3.1

Debian Bullseye
	Kernel: 5.4.0-167-generic
	Compiler: gcc 10.2.1-6

Debian 12
	Kernel: Container Host Kernel
	Compiler: gcc 12.2.0

Fedora 39
	Kernel: Depends on container host
	Compiler: gcc 13.2.1

openSUSE Leap 15
	Kernel: 5.4.0-167-generic
	Compiler: gcc 7.5.0

RHEL9
	Kernel: Depends on container host
	Compiler: gcc 11.4.1

Ubuntu 20.04
	Kernel: 5.4.0-167-generic
	Compiler: gcc 9.4.0-1ubuntu1~20.04.1

RHEL8
	Kernel: 5.4.0-167-generic
	Compiler: gcc 8.5.0 20210514 (Red Hat 8.5.0-20)

Ubuntu 22.04
	Kernel: 5.4.0-167-generic
	Compiler: gcc 11.4.0

Ubuntu 24.04
	Kernel: 5.4.0-167-generic
	Compiler: gcc 13.2.0

Windows Server 2019
	Kernel: 10.0.17763
	Compiler: clang 14.0 and gcc 8.1.0 (MinGW)

To view detailed results, visit:
https://lab.dpdk.org/results/dashboard/patchsets/30192/

UNH-IOL DPDK Community Lab

To manage your email subscriptions, visit: 
https://lab.dpdk.org/results/dashboard/preferences/subscriptions/