From mboxrd@z Thu Jan  1 00:00:00 1970
Return-Path: <test-report-bounces@dpdk.org>
Received: from mails.dpdk.org (mails.dpdk.org [217.70.189.124])
	by inbox.dpdk.org (Postfix) with ESMTP id BF5D64545B
	for <public@inbox.dpdk.org>; Fri, 14 Jun 2024 14:02:52 +0200 (CEST)
Received: from mails.dpdk.org (localhost [127.0.0.1])
	by mails.dpdk.org (Postfix) with ESMTP id BB947402D3;
	Fri, 14 Jun 2024 14:02:52 +0200 (CEST)
Received: from mail-il1-f225.google.com (mail-il1-f225.google.com
 [209.85.166.225])
 by mails.dpdk.org (Postfix) with ESMTP id 3827240264
 for <test-report@dpdk.org>; Fri, 14 Jun 2024 14:02:51 +0200 (CEST)
Received: by mail-il1-f225.google.com with SMTP id
 e9e14a558f8ab-371cc143f6aso10095915ab.3
 for <test-report@dpdk.org>; Fri, 14 Jun 2024 05:02:51 -0700 (PDT)
DKIM-Signature: v=1; a=rsa-sha256; c=relaxed/relaxed;
 d=iol.unh.edu; s=unh-iol; t=1718366570; x=1718971370; darn=dpdk.org;
 h=references:in-reply-to:cc:to:from:subject:message-id:date:from:to
 :cc:subject:date:message-id:reply-to;
 bh=Uilz9Be3uRmezGKPpYFH5C/bSG7+ay4sEjSaDHmGsew=;
 b=NeVCDd7wkiCNY+JytM6XE8xbAJtv7KfRm2JUoPmAYK4esImK9S4aJFyLircs1qtrqG
 I9DXWs/B3zyEQNVy3OEqPvQBq1YvvD3js52FWgTbiYVnZYyiDjkF/1dg8ugSc03sifMz
 o+PFGOX7uNVqmxwOrlVL6oBbEuHTZhd3reDdE=
X-Google-DKIM-Signature: v=1; a=rsa-sha256; c=relaxed/relaxed;
 d=1e100.net; s=20230601; t=1718366570; x=1718971370;
 h=references:in-reply-to:cc:to:from:subject:message-id:date
 :x-gm-message-state:from:to:cc:subject:date:message-id:reply-to;
 bh=Uilz9Be3uRmezGKPpYFH5C/bSG7+ay4sEjSaDHmGsew=;
 b=RLlbY2OIxdB+8QyIuSBPhDFsO1lGyTw0o+JOZLoQ1WVnHOOBrfJMdtfkyjSLRySt4+
 gpjv1mGE4YiSBcAJhi7OGmhq5zCdqlHQWRlqDWg4SaZCOT9/VJPmBX9sEi6aXcDHVkbK
 cLiAUH7B0jli/a3s/5LFMO1dEO8AAtWDWlj+WYBa2uszIx4iZvhG3ZEZH5ZPeQdxjM0U
 A+PkwganHLCjwsUF65/navAWXeCOABxburH4PxJsGlcLOppu1AuxQTqbbfsHjVqLVQxO
 hUHZlGNqRNViV8SmXw1Tk/hcUhoVqDK+h5/XaszYSDWS4Iqj2wUmSrnScTCjJr15l9mp
 GDvA==
X-Gm-Message-State: AOJu0YyHZQuGJx3iF9NTrRtGzMUxFPZNf02pW+0fvNL05nhgwBCk3GTx
 6irRD0g2+muJGWgyN5sk0QQm2kXTBh8aN05b+joVCPSXcR3sHb4jjD/nhKImwCoVRM/iiUwHTaN
 1VaWg35T8sNfHyHCyb363DDN+a54qmESCAcHfPimAeEWY/PeWFIDo68JG
X-Google-Smtp-Source: AGHT+IGXYcUx5SpN8q1tx8RSUbnDyAVEBfLjubhlbYWBRppZ5MpOzdKtHGmfVd+OElPotVX7J3SS/5GNu1RA
X-Received: by 2002:a05:6e02:13a6:b0:375:a202:2554 with SMTP id
 e9e14a558f8ab-375e0e32e4emr29242205ab.17.1718366570605; 
 Fri, 14 Jun 2024 05:02:50 -0700 (PDT)
Received: from postal.iol.unh.edu (postal.iol.unh.edu.
 [2606:4100:3880:1234::84]) by smtp-relay.gmail.com with ESMTPS id
 e9e14a558f8ab-375d86cbe68sm1337895ab.62.2024.06.14.05.02.50
 (version=TLS1_2 cipher=ECDHE-ECDSA-AES128-GCM-SHA256 bits=128/128);
 Fri, 14 Jun 2024 05:02:50 -0700 (PDT)
X-Relaying-Domain: iol.unh.edu
Date: Fri, 14 Jun 2024 05:02:50 -0700 (PDT)
Message-ID: <666c316a.050a0220.f57fe.a057SMTPIN_ADDED_MISSING@mx.google.com>
Received: from [172.21.0.10] (unknown [172.18.0.240])
 by postal.iol.unh.edu (Postfix) with ESMTP id 1850E605C373;
 Fri, 14 Jun 2024 08:02:50 -0400 (EDT)
Subject: |SUCCESS| pw141142-141152 [PATCH] [v2,11/11] doc: update nfp documen
From: dpdklab@iol.unh.edu
To: Test Report <test-report@dpdk.org>
Cc: dpdk-test-reports@iol.unh.edu
In-Reply-To: <20240614070120.2663160-12-chaoyong.he@corigine.com>
References: <20240614070120.2663160-12-chaoyong.he@corigine.com>
Content-Type: text/plain
X-BeenThere: test-report@dpdk.org
X-Mailman-Version: 2.1.29
Precedence: list
List-Id: automatic DPDK test reports <test-report.dpdk.org>
List-Unsubscribe: <https://mails.dpdk.org/options/test-report>,
 <mailto:test-report-request@dpdk.org?subject=unsubscribe>
List-Archive: <http://mails.dpdk.org/archives/test-report/>
List-Post: <mailto:test-report@dpdk.org>
List-Help: <mailto:test-report-request@dpdk.org?subject=help>
List-Subscribe: <https://mails.dpdk.org/listinfo/test-report>,
 <mailto:test-report-request@dpdk.org?subject=subscribe>
Errors-To: test-report-bounces@dpdk.org

Test-Label: iol-unit-amd64-testing
Test-Status: SUCCESS
http://dpdk.org/patch/141152

_Testing PASS_

Submitter: Chaoyong He <chaoyong.he@corigine.com>
Date: Friday, June 14 2024 07:01:20 
DPDK git baseline: Repo:dpdk
  Branch: master
  CommitID:fbba6db3640f9f623c29c452e1a6b057073e81d2

141142-141152 --> testing pass

Test environment and result as below:

+---------------------+----------------+
|     Environment     | dpdk_unit_test |
+=====================+================+
| CentOS Stream 9     | PASS           |
+---------------------+----------------+
| CentOS Stream 8     | PASS           |
+---------------------+----------------+
| Fedora 38           | PASS           |
+---------------------+----------------+
| Fedora 37           | PASS           |
+---------------------+----------------+
| Debian Bullseye     | PASS           |
+---------------------+----------------+
| Debian 12           | PASS           |
+---------------------+----------------+
| Fedora 39           | PASS           |
+---------------------+----------------+
| openSUSE Leap 15    | PASS           |
+---------------------+----------------+
| RHEL9               | PASS           |
+---------------------+----------------+
| Ubuntu 20.04        | PASS           |
+---------------------+----------------+
| RHEL8               | PASS           |
+---------------------+----------------+
| Ubuntu 22.04        | PASS           |
+---------------------+----------------+
| Ubuntu 24.04        | PASS           |
+---------------------+----------------+
| Windows Server 2019 | PASS           |
+---------------------+----------------+


CentOS Stream 9
	Kernel: 5.4.0-167-generic
	Compiler: gcc 11.4.1 20230605

CentOS Stream 8
	Kernel: 5.4.0-167-generic
	Compiler: gcc 8.5.0 20210514

Fedora 38
	Kernel: Depends on container host
	Compiler: gcc 13.2.1

Fedora 37
	Kernel: Depends on container host system
	Compiler: gcc 12.3.1

Debian Bullseye
	Kernel: 5.4.0-167-generic
	Compiler: gcc 10.2.1-6

Debian 12
	Kernel: Container Host Kernel
	Compiler: gcc 12.2.0

Fedora 39
	Kernel: Depends on container host
	Compiler: gcc 13.2.1

openSUSE Leap 15
	Kernel: 5.4.0-167-generic
	Compiler: gcc 7.5.0

RHEL9
	Kernel: Depends on container host
	Compiler: gcc 11.4.1

Ubuntu 20.04
	Kernel: 5.4.0-167-generic
	Compiler: gcc 9.4.0-1ubuntu1~20.04.1

RHEL8
	Kernel: 5.4.0-167-generic
	Compiler: gcc 8.5.0 20210514 (Red Hat 8.5.0-20)

Ubuntu 22.04
	Kernel: 5.4.0-167-generic
	Compiler: gcc 11.4.0

Ubuntu 24.04
	Kernel: 5.4.0-167-generic
	Compiler: gcc 13.2.0

Windows Server 2019
	Kernel: 10.0.17763
	Compiler: clang 14.0 and gcc 8.1.0 (MinGW)

To view detailed results, visit:
https://lab.dpdk.org/results/dashboard/patchsets/30192/

UNH-IOL DPDK Community Lab

To manage your email subscriptions, visit: 
https://lab.dpdk.org/results/dashboard/preferences/subscriptions/