From mboxrd@z Thu Jan  1 00:00:00 1970
Return-Path: <test-report-bounces@dpdk.org>
Received: from mails.dpdk.org (mails.dpdk.org [217.70.189.124])
	by inbox.dpdk.org (Postfix) with ESMTP id 1D1134545B
	for <public@inbox.dpdk.org>; Fri, 14 Jun 2024 14:48:38 +0200 (CEST)
Received: from mails.dpdk.org (localhost [127.0.0.1])
	by mails.dpdk.org (Postfix) with ESMTP id 1ABDF40674;
	Fri, 14 Jun 2024 14:48:38 +0200 (CEST)
Received: from mail-oo1-f99.google.com (mail-oo1-f99.google.com
 [209.85.161.99]) by mails.dpdk.org (Postfix) with ESMTP id 047BB40674
 for <test-report@dpdk.org>; Fri, 14 Jun 2024 14:48:36 +0200 (CEST)
Received: by mail-oo1-f99.google.com with SMTP id
 006d021491bc7-5b97a9a9b4bso1002232eaf.0
 for <test-report@dpdk.org>; Fri, 14 Jun 2024 05:48:36 -0700 (PDT)
DKIM-Signature: v=1; a=rsa-sha256; c=relaxed/relaxed;
 d=iol.unh.edu; s=unh-iol; t=1718369316; x=1718974116; darn=dpdk.org;
 h=references:in-reply-to:cc:to:from:subject:message-id:date:from:to
 :cc:subject:date:message-id:reply-to;
 bh=LfW5H4zmgooZZDSQN0gs/LeAZfWAReXwml4/h9AAMko=;
 b=BARQ4dVcXye4eW5ynEOsn6E2W7sNpHAZ+h330fyCE8I7Q69w68dDT1iTSKrM4PKvuC
 Rnk5MIUSXqb8ChQKw7/zPsh6YWeyP4oPJdolJULFwZ6d6Thg0NiVd63Me93BYYbhIVDX
 9A/mfOa1vU8Wve/Z11uAYsnjgFDP6eyr3/EmY=
X-Google-DKIM-Signature: v=1; a=rsa-sha256; c=relaxed/relaxed;
 d=1e100.net; s=20230601; t=1718369316; x=1718974116;
 h=references:in-reply-to:cc:to:from:subject:message-id:date
 :x-gm-message-state:from:to:cc:subject:date:message-id:reply-to;
 bh=LfW5H4zmgooZZDSQN0gs/LeAZfWAReXwml4/h9AAMko=;
 b=pDzNH5KC2Hng/elxTBu2z5b87228qj+J3rjeGcSUCxPwV+iM+r5Wq7oi4pU6roqFFB
 CAth2pamSZl9exrAS7WIdYRyxpuTtXXAht7SleWakmjIFZehLBG+Xodg3bZeOdWllXxo
 gYoKub0fOoHXgCT8CoxD7goM4u73S39qSIjzEN5X+KMBEQ2UxZoUeaSwwSo1+FEgRRGC
 +70bXFjx9471jOWxQAef+Y4QHJ1/V59SOHSVoodRNUhHGRcDVaaQsBNgsPg7AmJ6ZnV2
 tIk8+jxaLd/C/pS6wgnjGYbouGAsDGcBgTah12BBW/C35SAbA7GjbdQ9xn6hNTnAzrEg
 COIQ==
X-Gm-Message-State: AOJu0YxC/hTdqsL+ssPUIZT2GMhusmP/VmyZVHKjfmWphXuq7KzsNvy0
 +VvR/FJl9bgfG+Q5bLv0HQ9eMR2HWtoTnmk0rOq/BLeyNmAOS0ur2WG16zVPSUY2pCoON+YBS8D
 H2s7J+d6H75gJLhmXeFXRZbmOYA0wa6bD5LqkYscS
X-Google-Smtp-Source: AGHT+IEmsHSxR6savLzY8uAymX9ECIyHR8yMaqujfcRKTmQggqNj6+JRjPm95VpJTzb4hRUdCtQJX6Olwj2W
X-Received: by 2002:a05:6820:2222:b0:5bb:1b9d:24d7 with SMTP id
 006d021491bc7-5bdadc4c541mr3000544eaf.6.1718369316206; 
 Fri, 14 Jun 2024 05:48:36 -0700 (PDT)
Received: from postal.iol.unh.edu (postal.iol.unh.edu. [132.177.123.84])
 by smtp-relay.gmail.com with ESMTPS id
 006d021491bc7-5bd62b28ceesm121101eaf.25.2024.06.14.05.48.36
 (version=TLS1_2 cipher=ECDHE-ECDSA-AES128-GCM-SHA256 bits=128/128);
 Fri, 14 Jun 2024 05:48:36 -0700 (PDT)
X-Relaying-Domain: iol.unh.edu
Date: Fri, 14 Jun 2024 05:48:36 -0700 (PDT)
Message-ID: <666c3c24.4a0a0220.bf6cb.93adSMTPIN_ADDED_MISSING@mx.google.com>
Received: from [172.21.0.6] (unknown [172.18.0.240])
 by postal.iol.unh.edu (Postfix) with ESMTP id A5E91605C373;
 Fri, 14 Jun 2024 08:48:35 -0400 (EDT)
Subject: |SUCCESS| pw141142-141152 [PATCH] [v2,11/11] doc: update nfp documen
From: dpdklab@iol.unh.edu
To: Test Report <test-report@dpdk.org>
Cc: dpdk-test-reports@iol.unh.edu
In-Reply-To: <20240614070120.2663160-12-chaoyong.he@corigine.com>
References: <20240614070120.2663160-12-chaoyong.he@corigine.com>
Content-Type: text/plain
X-BeenThere: test-report@dpdk.org
X-Mailman-Version: 2.1.29
Precedence: list
List-Id: automatic DPDK test reports <test-report.dpdk.org>
List-Unsubscribe: <https://mails.dpdk.org/options/test-report>,
 <mailto:test-report-request@dpdk.org?subject=unsubscribe>
List-Archive: <http://mails.dpdk.org/archives/test-report/>
List-Post: <mailto:test-report@dpdk.org>
List-Help: <mailto:test-report-request@dpdk.org?subject=help>
List-Subscribe: <https://mails.dpdk.org/listinfo/test-report>,
 <mailto:test-report-request@dpdk.org?subject=subscribe>
Errors-To: test-report-bounces@dpdk.org

Test-Label: iol-unit-amd64-testing
Test-Status: SUCCESS
http://dpdk.org/patch/141152

_Testing PASS_

Submitter: Chaoyong He <chaoyong.he@corigine.com>
Date: Friday, June 14 2024 07:01:20 
DPDK git baseline: Repo:dpdk
  Branch: master
  CommitID:fbba6db3640f9f623c29c452e1a6b057073e81d2

141142-141152 --> testing pass

Test environment and result as below:

+---------------------+----------------+
|     Environment     | dpdk_unit_test |
+=====================+================+
| CentOS Stream 9     | PASS           |
+---------------------+----------------+
| CentOS Stream 8     | PASS           |
+---------------------+----------------+
| Fedora 38           | PASS           |
+---------------------+----------------+
| Fedora 37           | PASS           |
+---------------------+----------------+
| Debian Bullseye     | PASS           |
+---------------------+----------------+
| Debian 12           | PASS           |
+---------------------+----------------+
| Fedora 39           | PASS           |
+---------------------+----------------+
| openSUSE Leap 15    | PASS           |
+---------------------+----------------+
| RHEL9               | PASS           |
+---------------------+----------------+
| Ubuntu 20.04        | PASS           |
+---------------------+----------------+
| RHEL8               | PASS           |
+---------------------+----------------+
| Ubuntu 22.04        | PASS           |
+---------------------+----------------+
| Ubuntu 24.04        | PASS           |
+---------------------+----------------+
| Windows Server 2019 | PASS           |
+---------------------+----------------+
| Windows Server 2022 | PASS           |
+---------------------+----------------+


CentOS Stream 9
	Kernel: 5.4.0-167-generic
	Compiler: gcc 11.4.1 20230605

CentOS Stream 8
	Kernel: 5.4.0-167-generic
	Compiler: gcc 8.5.0 20210514

Fedora 38
	Kernel: Depends on container host
	Compiler: gcc 13.2.1

Fedora 37
	Kernel: Depends on container host system
	Compiler: gcc 12.3.1

Debian Bullseye
	Kernel: 5.4.0-167-generic
	Compiler: gcc 10.2.1-6

Debian 12
	Kernel: Container Host Kernel
	Compiler: gcc 12.2.0

Fedora 39
	Kernel: Depends on container host
	Compiler: gcc 13.2.1

openSUSE Leap 15
	Kernel: 5.4.0-167-generic
	Compiler: gcc 7.5.0

RHEL9
	Kernel: Depends on container host
	Compiler: gcc 11.4.1

Ubuntu 20.04
	Kernel: 5.4.0-167-generic
	Compiler: gcc 9.4.0-1ubuntu1~20.04.1

RHEL8
	Kernel: 5.4.0-167-generic
	Compiler: gcc 8.5.0 20210514 (Red Hat 8.5.0-20)

Ubuntu 22.04
	Kernel: 5.4.0-167-generic
	Compiler: gcc 11.4.0

Ubuntu 24.04
	Kernel: 5.4.0-167-generic
	Compiler: gcc 13.2.0

Windows Server 2019
	Kernel: 10.0.17763
	Compiler: clang 14.0 and gcc 8.1.0 (MinGW)

Windows Server 2022
	Kernel: 10.0.20348.2031
	Compiler: clang 15.0.7, gcc 8.1.0 (MinGW), and MSVC VS 17.9

To view detailed results, visit:
https://lab.dpdk.org/results/dashboard/patchsets/30192/

UNH-IOL DPDK Community Lab

To manage your email subscriptions, visit: 
https://lab.dpdk.org/results/dashboard/preferences/subscriptions/