From mboxrd@z Thu Jan  1 00:00:00 1970
Return-Path: <test-report-bounces@dpdk.org>
Received: from mails.dpdk.org (mails.dpdk.org [217.70.189.124])
	by inbox.dpdk.org (Postfix) with ESMTP id 11E5A4545B
	for <public@inbox.dpdk.org>; Fri, 14 Jun 2024 16:07:01 +0200 (CEST)
Received: from mails.dpdk.org (localhost [127.0.0.1])
	by mails.dpdk.org (Postfix) with ESMTP id 0EFE6402D3;
	Fri, 14 Jun 2024 16:07:01 +0200 (CEST)
Received: from mail-pg1-f228.google.com (mail-pg1-f228.google.com
 [209.85.215.228])
 by mails.dpdk.org (Postfix) with ESMTP id 2733E402D0
 for <test-report@dpdk.org>; Fri, 14 Jun 2024 16:07:00 +0200 (CEST)
Received: by mail-pg1-f228.google.com with SMTP id
 41be03b00d2f7-6bce380eb9bso1323833a12.0
 for <test-report@dpdk.org>; Fri, 14 Jun 2024 07:07:00 -0700 (PDT)
DKIM-Signature: v=1; a=rsa-sha256; c=relaxed/relaxed;
 d=iol.unh.edu; s=unh-iol; t=1718374019; x=1718978819; darn=dpdk.org;
 h=references:in-reply-to:cc:to:from:subject:message-id:date:from:to
 :cc:subject:date:message-id:reply-to;
 bh=uaZTjzqhR/MH7ZZ5ZnNhHMaSzkVQOGV/V1icU9noZag=;
 b=NX5uyhFScJsEW4q9DTAvV+iU0ZMaEyaWBQh70Wqir/AEY5lKvJPFncQk2R8OkffeSZ
 gWLjIpxYVRtAle3XPucHNqP8Aa2q/Z5p8z5zGXs7uRSTOCG1tN1Si6ZbGvG+m4W9CPB+
 n2nuOKFQHPocR+B2Bqwx1o7XgQHcQlQc39h2Y=
X-Google-DKIM-Signature: v=1; a=rsa-sha256; c=relaxed/relaxed;
 d=1e100.net; s=20230601; t=1718374019; x=1718978819;
 h=references:in-reply-to:cc:to:from:subject:message-id:date
 :x-gm-message-state:from:to:cc:subject:date:message-id:reply-to;
 bh=uaZTjzqhR/MH7ZZ5ZnNhHMaSzkVQOGV/V1icU9noZag=;
 b=ncAyqb4kr7LtiOwfsTnqKoawAaPlknudJxY48w1FMmUAYI6thw+EX9Y93xx7/Jg7+p
 wjxX56QGZhfky4nGEqviqKw4OUUWtl2mvlndXvPG5kbVZQijZwLxSutollLSSKdUdGfw
 OqVaQoTWCBf0kiXSXZ7pRctgCUOJxSREKEHy74jw2TqlJs13Hs5gbYe8+W9VqqPYhAWb
 d6j24tz+xiy0iTK10VGlbphhDHemLUpg8c4oNH3EaeaNwJAPDqXwPMEVA+7BjtbvSdAN
 WIREYFCA9i25SLOsLfnSC4M3CxEkhIQb6TLVaNoq+sp27Kj6BXlmwhxWF1PnmI4NZZnI
 kmGw==
X-Gm-Message-State: AOJu0YySS7bHJMusfab/69r+MvWq8rCRH30hFvc2qEc0i67NAYgQvMIc
 EvpikNJl4mZl3gJMYP35QTtUEEoZa66eQkuCG50bWM0NXhqsbLvm6s/b9FqIbVG0TQTRyizAMEl
 +T5VIuSBvqrPBX/jZbor8O9Eqfr2lRgokXoZYBXLTNsw9kaW9oLi2T+zp
X-Google-Smtp-Source: AGHT+IGGMgVhpfbUpmNs1Ow4h/OJC9OOLsQ70B9VCtIWtFBTmIj8ax47+E73n02WPzIpLF/gTFwE7IhD8F5G
X-Received: by 2002:a17:902:db04:b0:1f7:969:7e87 with SMTP id
 d9443c01a7336-1f8627c8279mr31968445ad.35.1718374019225; 
 Fri, 14 Jun 2024 07:06:59 -0700 (PDT)
Received: from postal.iol.unh.edu (postal.iol.unh.edu.
 [2606:4100:3880:1234::84]) by smtp-relay.gmail.com with ESMTPS id
 d9443c01a7336-1f855edc923sm1201515ad.126.2024.06.14.07.06.59
 (version=TLS1_2 cipher=ECDHE-ECDSA-AES128-GCM-SHA256 bits=128/128);
 Fri, 14 Jun 2024 07:06:59 -0700 (PDT)
X-Relaying-Domain: iol.unh.edu
Date: Fri, 14 Jun 2024 07:06:59 -0700 (PDT)
Message-ID: <666c4e83.170a0220.ea668.8dd4SMTPIN_ADDED_MISSING@mx.google.com>
Received: from [172.21.0.11] (unknown [172.18.0.240])
 by postal.iol.unh.edu (Postfix) with ESMTP id 58A2A605C373;
 Fri, 14 Jun 2024 10:06:58 -0400 (EDT)
Subject: |SUCCESS| pw141141 [PATCH] [v2] r8126: add r8126 ethernet poll mode 
From: dpdklab@iol.unh.edu
To: Test Report <test-report@dpdk.org>
Cc: dpdk-test-reports@iol.unh.edu
In-Reply-To: <20240613033929.5643-1-howard_wang@realsil.com.cn>
References: <20240613033929.5643-1-howard_wang@realsil.com.cn>
Content-Type: text/plain
X-BeenThere: test-report@dpdk.org
X-Mailman-Version: 2.1.29
Precedence: list
List-Id: automatic DPDK test reports <test-report.dpdk.org>
List-Unsubscribe: <https://mails.dpdk.org/options/test-report>,
 <mailto:test-report-request@dpdk.org?subject=unsubscribe>
List-Archive: <http://mails.dpdk.org/archives/test-report/>
List-Post: <mailto:test-report@dpdk.org>
List-Help: <mailto:test-report-request@dpdk.org?subject=help>
List-Subscribe: <https://mails.dpdk.org/listinfo/test-report>,
 <mailto:test-report-request@dpdk.org?subject=subscribe>
Errors-To: test-report-bounces@dpdk.org

Test-Label: iol-unit-arm64-testing
Test-Status: SUCCESS
http://dpdk.org/patch/141141

_Testing PASS_

Submitter: Howard Wang <howard_wang@realsil.com.cn>
Date: Thursday, June 13 2024 03:39:29 
DPDK git baseline: Repo:dpdk
  Branch: master
  CommitID:fbba6db3640f9f623c29c452e1a6b057073e81d2

141141 --> testing pass

Test environment and result as below:

+-----------------------------+----------------+---------------------------+------------------------------+
|         Environment         | dpdk_unit_test | cryptodev_sw_zuc_autotest | cryptodev_sw_snow3g_autotest |
+=============================+================+===========================+==============================+
| CentOS Stream 9 (ARM)       | PASS           | SKIPPED                   | SKIPPED                      |
+-----------------------------+----------------+---------------------------+------------------------------+
| Debian 11 (Buster) (ARM)    | PASS           | SKIPPED                   | SKIPPED                      |
+-----------------------------+----------------+---------------------------+------------------------------+
| Debian 12 (arm)             | PASS           | PASS                      | PASS                         |
+-----------------------------+----------------+---------------------------+------------------------------+
| 32-bit Ubuntu 20.04.4 (ARM) | PASS           | SKIPPED                   | SKIPPED                      |
+-----------------------------+----------------+---------------------------+------------------------------+
| Fedora 38 (ARM)             | PASS           | SKIPPED                   | SKIPPED                      |
+-----------------------------+----------------+---------------------------+------------------------------+
| Fedora 37 (ARM)             | PASS           | SKIPPED                   | SKIPPED                      |
+-----------------------------+----------------+---------------------------+------------------------------+
| Fedora 39 (ARM)             | PASS           | SKIPPED                   | SKIPPED                      |
+-----------------------------+----------------+---------------------------+------------------------------+
| RHEL9 (ARM)                 | PASS           | SKIPPED                   | SKIPPED                      |
+-----------------------------+----------------+---------------------------+------------------------------+
| Fedora 38 (ARM Clang)       | PASS           | SKIPPED                   | SKIPPED                      |
+-----------------------------+----------------+---------------------------+------------------------------+
| Ubuntu 20.04 (ARM)          | PASS           | SKIPPED                   | SKIPPED                      |
+-----------------------------+----------------+---------------------------+------------------------------+
| Fedora 39 (ARM Clang)       | PASS           | SKIPPED                   | SKIPPED                      |
+-----------------------------+----------------+---------------------------+------------------------------+
| Ubuntu 24.04 (ARM)          | PASS           | SKIPPED                   | SKIPPED                      |
+-----------------------------+----------------+---------------------------+------------------------------+
| Ubuntu 22.04 (ARM)          | PASS           | SKIPPED                   | SKIPPED                      |
+-----------------------------+----------------+---------------------------+------------------------------+


CentOS Stream 9 (ARM)
	Kernel: Container Host Kernel
	Compiler: gcc 11.4.1

Debian 11 (Buster) (ARM)
	Kernel: Container Host Kernel
	Compiler: gcc 10.2.1

Debian 12 (arm)
	Kernel: Container Host Kernel
	Compiler: gcc 12.2.0

32-bit Ubuntu 20.04.4 (ARM)
	Kernel: 5.4.0-155-generic aarch64
	Compiler: gcc 9.4

Fedora 38 (ARM)
	Kernel: Depends on container host
	Compiler: gcc 13.2.1

Fedora 37 (ARM)
	Kernel: Depends on container host
	Compiler: gcc 12.3.1

Fedora 39 (ARM)
	Kernel: Depends on container host
	Compiler: gcc 13.2.1

RHEL9 (ARM)
	Kernel: Depends on container host
	Compiler: gcc 11.4.1

Fedora 38 (ARM Clang)
	Kernel: Depends on container host
	Compiler: clang 16.0.6

Ubuntu 20.04 (ARM)
	Kernel: Container Host Kernel
	Compiler: gcc 9.4.0

Fedora 39 (ARM Clang)
	Kernel: Depends on container host
	Compiler: clang 17.0.6

Ubuntu 24.04 (ARM)
	Kernel: 5.4.0-167-generic
	Compiler: gcc 13.2.0

Ubuntu 22.04 (ARM)
	Kernel: Container Host Kernel
	Compiler: gcc 11.4.0

To view detailed results, visit:
https://lab.dpdk.org/results/dashboard/patchsets/30191/

UNH-IOL DPDK Community Lab

To manage your email subscriptions, visit: 
https://lab.dpdk.org/results/dashboard/preferences/subscriptions/