From mboxrd@z Thu Jan  1 00:00:00 1970
Return-Path: <test-report-bounces@dpdk.org>
Received: from mails.dpdk.org (mails.dpdk.org [217.70.189.124])
	by inbox.dpdk.org (Postfix) with ESMTP id 6EF434545B
	for <public@inbox.dpdk.org>; Fri, 14 Jun 2024 16:33:39 +0200 (CEST)
Received: from mails.dpdk.org (localhost [127.0.0.1])
	by mails.dpdk.org (Postfix) with ESMTP id 6BC4440B9A;
	Fri, 14 Jun 2024 16:33:39 +0200 (CEST)
Received: from mail-qt1-f225.google.com (mail-qt1-f225.google.com
 [209.85.160.225])
 by mails.dpdk.org (Postfix) with ESMTP id 21FDC402E6
 for <test-report@dpdk.org>; Fri, 14 Jun 2024 16:33:33 +0200 (CEST)
Received: by mail-qt1-f225.google.com with SMTP id
 d75a77b69052e-4410316ecfeso11557911cf.1
 for <test-report@dpdk.org>; Fri, 14 Jun 2024 07:33:33 -0700 (PDT)
DKIM-Signature: v=1; a=rsa-sha256; c=relaxed/relaxed;
 d=iol.unh.edu; s=unh-iol; t=1718375612; x=1718980412; darn=dpdk.org;
 h=references:in-reply-to:cc:to:from:subject:message-id:date:from:to
 :cc:subject:date:message-id:reply-to;
 bh=bkXx5zkxJxRwl7z//7NDf/FoP/9l5m1r0Nk33Ijtl8Y=;
 b=Wr2JPG/ZIuJWzWmZGwx5J2lXgp7VzpykycDbZHNmGJZ04og6Fo9r+rd8P9ZIMeJ8bS
 AyqD/YqyGL1tqeUU6h8QhCQIurjYOpLo+xaXvz7Bm3+2kkEAShQYQSBGqOQnTnBGSJwK
 5eBn1KAAN0o9Ihx+LIeRtz+PZnPjS0qk42oP4=
X-Google-DKIM-Signature: v=1; a=rsa-sha256; c=relaxed/relaxed;
 d=1e100.net; s=20230601; t=1718375612; x=1718980412;
 h=references:in-reply-to:cc:to:from:subject:message-id:date
 :x-gm-message-state:from:to:cc:subject:date:message-id:reply-to;
 bh=bkXx5zkxJxRwl7z//7NDf/FoP/9l5m1r0Nk33Ijtl8Y=;
 b=quf2yFZUZuiDNv9dCpayYht8ulz3ADmGG593g+f253YfQNq1jS0h62Va5MBXZ9g/Z0
 Cl/QueqL0HRsOKe/Y5Yq1Sy0F+H7EoTkrIR/M7HfZyu4gX4rOffEe5TSBDzau1ofa1F7
 Gf4U2t83DN4DgXL7VwgPGI1tWH2N3EfRoA6JWcoXY5EFBsBHVV9OIfuGbLqFqp5WcTiz
 Zdicky1fAQvpqftHbM4TM9YeXtIOSGYnaUkXmqYk2akVpXZWf3jQS4R5anP2khSoYeW9
 GX55GVhQZFCilt0AlJp9PtdSaHtFGndDu4Ynmf8oFTR7Jq3VM+AENT/J5XgPZDdQP7nq
 GMmA==
X-Gm-Message-State: AOJu0YyAb71TpGLidCQeqVbZj4HQiyOHECOsHKjYeW4al2cmPZmKNBO9
 0SCovHRIrKxe+iYGk+RsK5WY5Dwulq8Z6R/gqhy6bcYqJ4ohmdoPm+JaWQmvI2eX/KD2It2bLXG
 FwyXaPz9NWusand/bcg1M02CCOhrtcZel7XwlxCY0
X-Google-Smtp-Source: AGHT+IGfdLWYZUI6CawDc+kFzqMQl/hIK9FN3odI1jmVWUQldK8qoOQIc2POm4lKcXRgia5G3h8AAZnYqvuo
X-Received: by 2002:ac8:7fd0:0:b0:43a:a813:65b with SMTP id
 d75a77b69052e-442168fc0e1mr32529331cf.40.1718375612404; 
 Fri, 14 Jun 2024 07:33:32 -0700 (PDT)
Received: from postal.iol.unh.edu (postal.iol.unh.edu. [132.177.123.84])
 by smtp-relay.gmail.com with ESMTPS id
 d75a77b69052e-441f2fccc87sm909191cf.23.2024.06.14.07.33.32
 (version=TLS1_2 cipher=ECDHE-ECDSA-AES128-GCM-SHA256 bits=128/128);
 Fri, 14 Jun 2024 07:33:32 -0700 (PDT)
X-Relaying-Domain: iol.unh.edu
Date: Fri, 14 Jun 2024 07:33:32 -0700 (PDT)
Message-ID: <666c54bc.c80a0220.ea71a.6c21SMTPIN_ADDED_MISSING@mx.google.com>
Received: from [172.21.0.8] (unknown [172.18.0.240])
 by postal.iol.unh.edu (Postfix) with ESMTP id 1AE75605C373;
 Fri, 14 Jun 2024 10:33:32 -0400 (EDT)
Subject: |SUCCESS| pw141140 [PATCH] [v2] r8125: add r8125 ethernet poll mode 
From: dpdklab@iol.unh.edu
To: Test Report <test-report@dpdk.org>
Cc: dpdk-test-reports@iol.unh.edu
In-Reply-To: <20240613033650.5521-1-howard_wang@realsil.com.cn>
References: <20240613033650.5521-1-howard_wang@realsil.com.cn>
Content-Type: text/plain
X-BeenThere: test-report@dpdk.org
X-Mailman-Version: 2.1.29
Precedence: list
List-Id: automatic DPDK test reports <test-report.dpdk.org>
List-Unsubscribe: <https://mails.dpdk.org/options/test-report>,
 <mailto:test-report-request@dpdk.org?subject=unsubscribe>
List-Archive: <http://mails.dpdk.org/archives/test-report/>
List-Post: <mailto:test-report@dpdk.org>
List-Help: <mailto:test-report-request@dpdk.org?subject=help>
List-Subscribe: <https://mails.dpdk.org/listinfo/test-report>,
 <mailto:test-report-request@dpdk.org?subject=subscribe>
Errors-To: test-report-bounces@dpdk.org

Test-Label: iol-abi-testing
Test-Status: SUCCESS
http://dpdk.org/patch/141140

_Testing PASS_

Submitter: Howard Wang <howard_wang@realsil.com.cn>
Date: Thursday, June 13 2024 03:36:50 
DPDK git baseline: Repo:dpdk
  Branch: master
  CommitID:fbba6db3640f9f623c29c452e1a6b057073e81d2

141140 --> testing pass

Test environment and result as below:

+------------------+----------+
|   Environment    | abi_test |
+==================+==========+
| CentOS Stream 9  | PASS     |
+------------------+----------+
| Fedora 37        | PASS     |
+------------------+----------+
| RHEL9            | PASS     |
+------------------+----------+
| Debian 12        | PASS     |
+------------------+----------+
| Debian Bullseye  | PASS     |
+------------------+----------+
| Fedora 39        | PASS     |
+------------------+----------+
| Fedora 38        | PASS     |
+------------------+----------+
| CentOS Stream 8  | PASS     |
+------------------+----------+
| openSUSE Leap 15 | PASS     |
+------------------+----------+
| Ubuntu 24.04     | PASS     |
+------------------+----------+
| RHEL8            | PASS     |
+------------------+----------+
| Ubuntu 22.04     | PASS     |
+------------------+----------+


CentOS Stream 9
	Kernel: 5.4.0-167-generic
	Compiler: gcc 11.4.1 20230605

Fedora 37
	Kernel: Depends on container host system
	Compiler: gcc 12.3.1

RHEL9
	Kernel: Depends on container host
	Compiler: gcc 11.4.1

Debian 12
	Kernel: Container Host Kernel
	Compiler: gcc 12.2.0

Debian Bullseye
	Kernel: 5.4.0-167-generic
	Compiler: gcc 10.2.1-6

Fedora 39
	Kernel: Depends on container host
	Compiler: clang 17.0.6

Fedora 38
	Kernel: Depends on container host
	Compiler: clang 16.0.6

CentOS Stream 8
	Kernel: 5.4.0-167-generic
	Compiler: gcc 8.5.0 20210514

openSUSE Leap 15
	Kernel: 5.4.0-167-generic
	Compiler: gcc 7.5.0

Ubuntu 24.04
	Kernel: 5.4.0-167-generic
	Compiler: gcc 13.2.0

RHEL8
	Kernel: 5.4.0-167-generic
	Compiler: gcc 8.5.0 20210514 (Red Hat 8.5.0-20)

Ubuntu 22.04
	Kernel: 5.4.0-167-generic
	Compiler: gcc 11.4.0

To view detailed results, visit:
https://lab.dpdk.org/results/dashboard/patchsets/30190/

UNH-IOL DPDK Community Lab

To manage your email subscriptions, visit: 
https://lab.dpdk.org/results/dashboard/preferences/subscriptions/