From mboxrd@z Thu Jan  1 00:00:00 1970
Return-Path: <test-report-bounces@dpdk.org>
Received: from mails.dpdk.org (mails.dpdk.org [217.70.189.124])
	by inbox.dpdk.org (Postfix) with ESMTP id 68C144545B
	for <public@inbox.dpdk.org>; Fri, 14 Jun 2024 16:43:50 +0200 (CEST)
Received: from mails.dpdk.org (localhost [127.0.0.1])
	by mails.dpdk.org (Postfix) with ESMTP id 66432402E6;
	Fri, 14 Jun 2024 16:43:50 +0200 (CEST)
Received: from mail-qv1-f99.google.com (mail-qv1-f99.google.com
 [209.85.219.99]) by mails.dpdk.org (Postfix) with ESMTP id 58690402D0
 for <test-report@dpdk.org>; Fri, 14 Jun 2024 16:43:49 +0200 (CEST)
Received: by mail-qv1-f99.google.com with SMTP id
 6a1803df08f44-6b05e504bceso15858946d6.2
 for <test-report@dpdk.org>; Fri, 14 Jun 2024 07:43:49 -0700 (PDT)
DKIM-Signature: v=1; a=rsa-sha256; c=relaxed/relaxed;
 d=iol.unh.edu; s=unh-iol; t=1718376229; x=1718981029; darn=dpdk.org;
 h=references:in-reply-to:cc:to:from:subject:message-id:date:from:to
 :cc:subject:date:message-id:reply-to;
 bh=bzdNhS/XBpBjo4Lj6V7UUnNUW1Nq1SBWb/Rk6i0jrW4=;
 b=Zwy1ti9KoX36RrLj0mzsCpPF4vLwW2OhnI3suKZX7Cac6G6d6g0Ehvdlh99NQWDv86
 /aMTgrJxzE1O2sB8iD1GX/yLJ9FGeVCvXDiPGJOIpSU5hGlekDv8Y4JD++3tfNby/o0T
 MtQIJZcz51zqgjHUgTzxjf25H12dv/VKQag7w=
X-Google-DKIM-Signature: v=1; a=rsa-sha256; c=relaxed/relaxed;
 d=1e100.net; s=20230601; t=1718376229; x=1718981029;
 h=references:in-reply-to:cc:to:from:subject:message-id:date
 :x-gm-message-state:from:to:cc:subject:date:message-id:reply-to;
 bh=bzdNhS/XBpBjo4Lj6V7UUnNUW1Nq1SBWb/Rk6i0jrW4=;
 b=HEUNXpdA0hv0YOJHRA32J7zOyBMH/NqUW1tILx0NpZfyKfpyBOLViR4cZhwB1nXSyd
 y5yGq8HStG1bZBH9yvOwSARHqrbQCYO/5SSbdVu2VtetQpdvH3coVVozvPZpSFLZdBWn
 1o20M7Ev+K0cPBbQXmMyAQ87x/YfVAY/YF5F7jZpfjy83xyrUhkothS/cf2VNNI0ORwm
 9CBwVBX5ksvI8GWy0aEEXkPX6WSfFWifj76qTyx6K9Xqq9V5ZNb0fjl/15UNylaJ9FhZ
 0+Sj7v5C49Cpp62jdy0u6m0SzcQ3eh5ytmYLE4zu1CK/QSUrG39tmBfZ9qpi1yGMV8zg
 FNPg==
X-Gm-Message-State: AOJu0YxyASWlNO20Y9WAcRagwrlj8wlKo8+iIbWnatcTQgW46E3U8HzQ
 6KIhfzsF8ahfTD0rlHf9n5ccKehQj4pMw5qny9bnj0TdWRdUqJJItblDjryyhDwo2pUyppIetg5
 prQOadUNg94GNkpD9qbbwGBx5867l63mc8T3OQCgBm+1OjEYCV7AW4KeL
X-Google-Smtp-Source: AGHT+IGi6d06gFG08o91ScIBgD9JD76W4McAGaN6mRXXyPXrwmAdwd4Cpc6I6zcf+O6vRh2kDMkDvTbBG7ze
X-Received: by 2002:ad4:4f08:0:b0:6b0:8632:4bc5 with SMTP id
 6a1803df08f44-6b2afd5f793mr26943366d6.43.1718376228739; 
 Fri, 14 Jun 2024 07:43:48 -0700 (PDT)
Received: from postal.iol.unh.edu (postal.iol.unh.edu.
 [2606:4100:3880:1234::84]) by smtp-relay.gmail.com with ESMTPS id
 6a1803df08f44-6b2a70d7feasm1404936d6.0.2024.06.14.07.43.48
 (version=TLS1_2 cipher=ECDHE-ECDSA-AES128-GCM-SHA256 bits=128/128);
 Fri, 14 Jun 2024 07:43:48 -0700 (PDT)
X-Relaying-Domain: iol.unh.edu
Date: Fri, 14 Jun 2024 07:43:48 -0700 (PDT)
Message-ID: <666c5724.050a0220.48567.a4b3SMTPIN_ADDED_MISSING@mx.google.com>
Received: from [172.21.0.6] (unknown [172.18.0.240])
 by postal.iol.unh.edu (Postfix) with ESMTP id 6EC5E605C373;
 Fri, 14 Jun 2024 10:43:48 -0400 (EDT)
Subject: |SUCCESS| pw141141 [PATCH] [v2] r8126: add r8126 ethernet poll mode 
From: dpdklab@iol.unh.edu
To: Test Report <test-report@dpdk.org>
Cc: dpdk-test-reports@iol.unh.edu
In-Reply-To: <20240613033929.5643-1-howard_wang@realsil.com.cn>
References: <20240613033929.5643-1-howard_wang@realsil.com.cn>
Content-Type: text/plain
X-BeenThere: test-report@dpdk.org
X-Mailman-Version: 2.1.29
Precedence: list
List-Id: automatic DPDK test reports <test-report.dpdk.org>
List-Unsubscribe: <https://mails.dpdk.org/options/test-report>,
 <mailto:test-report-request@dpdk.org?subject=unsubscribe>
List-Archive: <http://mails.dpdk.org/archives/test-report/>
List-Post: <mailto:test-report@dpdk.org>
List-Help: <mailto:test-report-request@dpdk.org?subject=help>
List-Subscribe: <https://mails.dpdk.org/listinfo/test-report>,
 <mailto:test-report-request@dpdk.org?subject=subscribe>
Errors-To: test-report-bounces@dpdk.org

Test-Label: iol-compile-arm64-testing
Test-Status: SUCCESS
http://dpdk.org/patch/141141

_Testing PASS_

Submitter: Howard Wang <howard_wang@realsil.com.cn>
Date: Thursday, June 13 2024 03:39:29 
DPDK git baseline: Repo:dpdk
  Branch: master
  CommitID:fbba6db3640f9f623c29c452e1a6b057073e81d2

141141 --> testing pass

Test environment and result as below:

+--------------------------+--------------------+
|       Environment        | dpdk_meson_compile |
+==========================+====================+
| Ubuntu 20.04 ARM SVE     | PASS               |
+--------------------------+--------------------+
| Debian 12 with MUSDK     | PASS               |
+--------------------------+--------------------+
| Fedora 38 (ARM)          | PASS               |
+--------------------------+--------------------+
| RHEL9 (ARM)              | PASS               |
+--------------------------+--------------------+
| Fedora 37 (ARM)          | PASS               |
+--------------------------+--------------------+
| Fedora 39 (ARM)          | PASS               |
+--------------------------+--------------------+
| Debian 11 (Buster) (ARM) | PASS               |
+--------------------------+--------------------+
| Debian 12 (arm)          | PASS               |
+--------------------------+--------------------+
| Ubuntu 20.04 (ARM)       | PASS               |
+--------------------------+--------------------+
| Ubuntu 22.04 (ARM)       | PASS               |
+--------------------------+--------------------+
| Ubuntu 24.04 (ARM)       | PASS               |
+--------------------------+--------------------+
| CentOS Stream 9 (ARM)    | PASS               |
+--------------------------+--------------------+


Ubuntu 20.04 ARM SVE
	Kernel: 5.4.0-167-generic
	Compiler: gcc (Ubuntu 10.5.0-1ubuntu1~20.04) 10.5.0

Debian 12 with MUSDK
	Kernel: Container Host Kernel
	Compiler: gcc 12.2.0

Fedora 38 (ARM)
	Kernel: Depends on container host
	Compiler: gcc 13.2.1

RHEL9 (ARM)
	Kernel: Depends on container host
	Compiler: gcc 11.4.1

Fedora 37 (ARM)
	Kernel: Depends on container host
	Compiler: gcc 12.3.1

Fedora 39 (ARM)
	Kernel: Depends on container host
	Compiler: gcc 13.2.1

Debian 11 (Buster) (ARM)
	Kernel: Container Host Kernel
	Compiler: gcc 10.2.1

Debian 12 (arm)
	Kernel: Container Host Kernel
	Compiler: gcc 12.2.0

Ubuntu 20.04 (ARM)
	Kernel: Container Host Kernel
	Compiler: gcc 9.4.0

Ubuntu 22.04 (ARM)
	Kernel: Container Host Kernel
	Compiler: gcc 11.4.0

Ubuntu 24.04 (ARM)
	Kernel: 5.4.0-167-generic
	Compiler: gcc 13.2.0

CentOS Stream 9 (ARM)
	Kernel: Container Host Kernel
	Compiler: gcc 11.4.1

To view detailed results, visit:
https://lab.dpdk.org/results/dashboard/patchsets/30191/

UNH-IOL DPDK Community Lab

To manage your email subscriptions, visit: 
https://lab.dpdk.org/results/dashboard/preferences/subscriptions/