From mboxrd@z Thu Jan  1 00:00:00 1970
Return-Path: <test-report-bounces@dpdk.org>
Received: from mails.dpdk.org (mails.dpdk.org [217.70.189.124])
	by inbox.dpdk.org (Postfix) with ESMTP id 5FECC4545E
	for <public@inbox.dpdk.org>; Fri, 14 Jun 2024 17:02:13 +0200 (CEST)
Received: from mails.dpdk.org (localhost [127.0.0.1])
	by mails.dpdk.org (Postfix) with ESMTP id 5E06B4278C;
	Fri, 14 Jun 2024 17:02:13 +0200 (CEST)
Received: from mail-pj1-f97.google.com (mail-pj1-f97.google.com
 [209.85.216.97]) by mails.dpdk.org (Postfix) with ESMTP id 3B51340B9A
 for <test-report@dpdk.org>; Fri, 14 Jun 2024 17:02:12 +0200 (CEST)
Received: by mail-pj1-f97.google.com with SMTP id
 98e67ed59e1d1-2c3051aee3fso1930679a91.3
 for <test-report@dpdk.org>; Fri, 14 Jun 2024 08:02:12 -0700 (PDT)
DKIM-Signature: v=1; a=rsa-sha256; c=relaxed/relaxed;
 d=iol.unh.edu; s=unh-iol; t=1718377331; x=1718982131; darn=dpdk.org;
 h=references:in-reply-to:cc:to:from:subject:message-id:date:from:to
 :cc:subject:date:message-id:reply-to;
 bh=eodgguy5mAm/67RJAqDOo9M9Mrn0MrJkl0PyLDZ5DR4=;
 b=TL4A3Ua0XwLvDs7sMldcSuQ+5MTRsSL9/jUQ7NPIyqv1nGBg0um7ujU0fvo6AAmoYl
 94gv64uOnL9wcOj1UI/lMqRyMhDyA/K4F4/to/uyQjiZm0bfPzh9wzVhw+gyJvbu4/5C
 xMALrn7WdGiha4QeRdWDyDj/j3UMYNdGZyUGY=
X-Google-DKIM-Signature: v=1; a=rsa-sha256; c=relaxed/relaxed;
 d=1e100.net; s=20230601; t=1718377331; x=1718982131;
 h=references:in-reply-to:cc:to:from:subject:message-id:date
 :x-gm-message-state:from:to:cc:subject:date:message-id:reply-to;
 bh=eodgguy5mAm/67RJAqDOo9M9Mrn0MrJkl0PyLDZ5DR4=;
 b=DP2YEZB7DXSkjw/fF986jUf8TowJHn+yjN8WhZoaSvPN8u4h4njAJxY0DM2SHUAEtl
 I2t/IXejuBd7kKdLPlspWzCRWkF3mTkVLN4+umlAINabS4aR8eolwUZsB7sRC9qungEl
 qFr7Ksswdr7ALuzpn9jmXCT325WAcrr8WpJJguXZWJi1I9G9Qz8YYhpmk1uo1Gqd8FzC
 DO6YF8Iv4RTdSkMgpB84hAGYS//mJDujkwORIHjmr4pZa7FE1hsfRbUuCICDSjAUqtNd
 SP/D/L5+XyNOtlYRq+/xnR5hAo8G5x0KfvAzcDYSro4R3q6a4bcxksBtb0NPBBC+qIId
 Xccg==
X-Gm-Message-State: AOJu0Yyp4Ru4H8Dw6h+tCqqfKoYV16/yfvaQi9Uh+QkEcwScjmbmIquD
 GxZG62kQ7RSTXSv4kdYSISbEU/e69C3cFV6kvzW8ri1yc1JSTAEhbTxo2gV8mpxwLgZxMJ7nCrW
 CHrSqX4EToJZoXZksNx1lYZP7nzh3ENMJJeolgcSINnWt/WX+M/B7QQ1W
X-Google-Smtp-Source: AGHT+IErlz7W0nDRovVJMpM46ULlA8KiYPRiKsEHHmSAmmvK81vqHKL23FKVET5xgrmAu6362IDabj/cwop2
X-Received: by 2002:a17:90b:4d8b:b0:2c4:aa67:895c with SMTP id
 98e67ed59e1d1-2c4db242648mr2954053a91.17.1718377331318; 
 Fri, 14 Jun 2024 08:02:11 -0700 (PDT)
Received: from postal.iol.unh.edu (postal.iol.unh.edu.
 [2606:4100:3880:1234::84]) by smtp-relay.gmail.com with ESMTPS id
 98e67ed59e1d1-2c4a76a606asm407781a91.11.2024.06.14.08.02.11
 (version=TLS1_2 cipher=ECDHE-ECDSA-AES128-GCM-SHA256 bits=128/128);
 Fri, 14 Jun 2024 08:02:11 -0700 (PDT)
X-Relaying-Domain: iol.unh.edu
Date: Fri, 14 Jun 2024 08:02:11 -0700 (PDT)
Message-ID: <666c5b73.170a0220.628b9.d813SMTPIN_ADDED_MISSING@mx.google.com>
Received: from [172.21.0.6] (unknown [172.18.0.240])
 by postal.iol.unh.edu (Postfix) with ESMTP id 62A2F605C373;
 Fri, 14 Jun 2024 11:02:10 -0400 (EDT)
Subject: |SUCCESS| pw141141 [PATCH] [v2] r8126: add r8126 ethernet poll mode 
From: dpdklab@iol.unh.edu
To: Test Report <test-report@dpdk.org>
Cc: dpdk-test-reports@iol.unh.edu
In-Reply-To: <20240613033929.5643-1-howard_wang@realsil.com.cn>
References: <20240613033929.5643-1-howard_wang@realsil.com.cn>
Content-Type: text/plain
X-BeenThere: test-report@dpdk.org
X-Mailman-Version: 2.1.29
Precedence: list
List-Id: automatic DPDK test reports <test-report.dpdk.org>
List-Unsubscribe: <https://mails.dpdk.org/options/test-report>,
 <mailto:test-report-request@dpdk.org?subject=unsubscribe>
List-Archive: <http://mails.dpdk.org/archives/test-report/>
List-Post: <mailto:test-report@dpdk.org>
List-Help: <mailto:test-report-request@dpdk.org?subject=help>
List-Subscribe: <https://mails.dpdk.org/listinfo/test-report>,
 <mailto:test-report-request@dpdk.org?subject=subscribe>
Errors-To: test-report-bounces@dpdk.org

Test-Label: iol-unit-amd64-testing
Test-Status: SUCCESS
http://dpdk.org/patch/141141

_Testing PASS_

Submitter: Howard Wang <howard_wang@realsil.com.cn>
Date: Thursday, June 13 2024 03:39:29 
DPDK git baseline: Repo:dpdk
  Branch: master
  CommitID:fbba6db3640f9f623c29c452e1a6b057073e81d2

141141 --> testing pass

Test environment and result as below:

+------------------+----------------+
|   Environment    | dpdk_unit_test |
+==================+================+
| CentOS Stream 8  | PASS           |
+------------------+----------------+
| Debian 12        | PASS           |
+------------------+----------------+
| Debian Bullseye  | PASS           |
+------------------+----------------+
| CentOS Stream 9  | PASS           |
+------------------+----------------+
| Fedora 37        | PASS           |
+------------------+----------------+
| Fedora 38        | PASS           |
+------------------+----------------+
| Fedora 39        | PASS           |
+------------------+----------------+
| RHEL8            | PASS           |
+------------------+----------------+
| openSUSE Leap 15 | PASS           |
+------------------+----------------+
| Ubuntu 20.04     | PASS           |
+------------------+----------------+
| RHEL9            | PASS           |
+------------------+----------------+
| Ubuntu 24.04     | PASS           |
+------------------+----------------+
| Ubuntu 22.04     | PASS           |
+------------------+----------------+


CentOS Stream 8
	Kernel: 5.4.0-167-generic
	Compiler: gcc 8.5.0 20210514

Debian 12
	Kernel: Container Host Kernel
	Compiler: gcc 12.2.0

Debian Bullseye
	Kernel: 5.4.0-167-generic
	Compiler: gcc 10.2.1-6

CentOS Stream 9
	Kernel: 5.4.0-167-generic
	Compiler: gcc 11.4.1 20230605

Fedora 37
	Kernel: Depends on container host system
	Compiler: gcc 12.3.1

Fedora 38
	Kernel: Depends on container host
	Compiler: gcc 13.2.1

Fedora 39
	Kernel: Depends on container host
	Compiler: gcc 13.2.1

RHEL8
	Kernel: 5.4.0-167-generic
	Compiler: gcc 8.5.0 20210514 (Red Hat 8.5.0-20)

openSUSE Leap 15
	Kernel: 5.4.0-167-generic
	Compiler: gcc 7.5.0

Ubuntu 20.04
	Kernel: 5.4.0-167-generic
	Compiler: gcc 9.4.0-1ubuntu1~20.04.1

RHEL9
	Kernel: Depends on container host
	Compiler: gcc 11.4.1

Ubuntu 24.04
	Kernel: 5.4.0-167-generic
	Compiler: gcc 13.2.0

Ubuntu 22.04
	Kernel: 5.4.0-167-generic
	Compiler: gcc 11.4.0

To view detailed results, visit:
https://lab.dpdk.org/results/dashboard/patchsets/30191/

UNH-IOL DPDK Community Lab

To manage your email subscriptions, visit: 
https://lab.dpdk.org/results/dashboard/preferences/subscriptions/