From mboxrd@z Thu Jan  1 00:00:00 1970
Return-Path: <test-report-bounces@dpdk.org>
Received: from mails.dpdk.org (mails.dpdk.org [217.70.189.124])
	by inbox.dpdk.org (Postfix) with ESMTP id 7AF2D4545E
	for <public@inbox.dpdk.org>; Fri, 14 Jun 2024 17:19:06 +0200 (CEST)
Received: from mails.dpdk.org (localhost [127.0.0.1])
	by mails.dpdk.org (Postfix) with ESMTP id 787E042707;
	Fri, 14 Jun 2024 17:19:06 +0200 (CEST)
Received: from mail-io1-f97.google.com (mail-io1-f97.google.com
 [209.85.166.97]) by mails.dpdk.org (Postfix) with ESMTP id 052D740B95
 for <test-report@dpdk.org>; Fri, 14 Jun 2024 17:19:05 +0200 (CEST)
Received: by mail-io1-f97.google.com with SMTP id
 ca18e2360f4ac-7e25bf84b58so85563039f.0
 for <test-report@dpdk.org>; Fri, 14 Jun 2024 08:19:04 -0700 (PDT)
DKIM-Signature: v=1; a=rsa-sha256; c=relaxed/relaxed;
 d=iol.unh.edu; s=unh-iol; t=1718378344; x=1718983144; darn=dpdk.org;
 h=references:in-reply-to:cc:to:from:subject:message-id:date:from:to
 :cc:subject:date:message-id:reply-to;
 bh=l8aa+hYhwSmNro6WWtTZ1fGFrVcj4qWjvwn15yOQhVk=;
 b=FGB3UlZ1dOTiy0tGe+b5Lw4tBjaShY+zTiK6NXIPEA4Awuj129LoEKt7mfmNPnRl+5
 uvDbONDpqxIYYyKIUTOpCWGfoAPGTWADgr7vIxSOljUteGzW18RKoSFuygd/TMABe62x
 P27MTHuGwqHu+IaJfBtEQX9Fc7hBNlavmViO0=
X-Google-DKIM-Signature: v=1; a=rsa-sha256; c=relaxed/relaxed;
 d=1e100.net; s=20230601; t=1718378344; x=1718983144;
 h=references:in-reply-to:cc:to:from:subject:message-id:date
 :x-gm-message-state:from:to:cc:subject:date:message-id:reply-to;
 bh=l8aa+hYhwSmNro6WWtTZ1fGFrVcj4qWjvwn15yOQhVk=;
 b=nV36KBaWvpdt+Atin+DfOCxUsMABZg8f73fRo+DL37ppx7Fu7q5MqoiqtdgAIeenw1
 HE4R6UdBkGVx8Exzj6aztgi2QDz03yMWtn7k33F/sfX65uUeEFKnFYmNogMZpd5tOatt
 sRKw5GNJxudueFY9O5ws1xxo5k6DqcmN2b1RlAvpd+Shlr0scvJmzwcS0rTVDcNNULTg
 AGd8MhrsA2gPf0pFBwK+Uf56ys4VNJiTsL95sZRmlhfnYJYMZEB6gM0ybIQXhA+DofSk
 eI/BY0ltTITPFOzCijyQI63zGmryoo99iInS+UbQMG4LUnXKk6KxkZvCPvgDu6AJm1nG
 49JA==
X-Gm-Message-State: AOJu0YyreXrtGvDXK9M22qXu23jpm9F7JlyADHrQbew+CZB8900CefWK
 8cVfXwqX1oyVlpnMwSX5qpixU5omn+TzzAuK1qQCVL1wE8vr4WUUQ/TVRKimdnbPvKSED0aSfsR
 wpTcsgRJIo2OfUB6PACM7PHVC1tstg58wbCJsB+Y8
X-Google-Smtp-Source: AGHT+IHAhagClKKeMcXFfM2jlcXSS72nJvdCL9LznrzEPgKxU0HzIYtPGwAmFw+6EODwrqtO6Y8gPanoI9ZA
X-Received: by 2002:a05:6602:158b:b0:7eb:8a6e:11e1 with SMTP id
 ca18e2360f4ac-7ebeb4ad9b1mr342006739f.5.1718378344312; 
 Fri, 14 Jun 2024 08:19:04 -0700 (PDT)
Received: from postal.iol.unh.edu (postal.iol.unh.edu. [132.177.123.84])
 by smtp-relay.gmail.com with ESMTPS id
 8926c6da1cb9f-4b956c66fa5sm77796173.75.2024.06.14.08.19.04
 (version=TLS1_2 cipher=ECDHE-ECDSA-AES128-GCM-SHA256 bits=128/128);
 Fri, 14 Jun 2024 08:19:04 -0700 (PDT)
X-Relaying-Domain: iol.unh.edu
Date: Fri, 14 Jun 2024 08:19:04 -0700 (PDT)
Message-ID: <666c5f68.050a0220.78dab.610cSMTPIN_ADDED_MISSING@mx.google.com>
Received: from [172.21.0.6] (unknown [172.18.0.240])
 by postal.iol.unh.edu (Postfix) with ESMTP id C659F605C373;
 Fri, 14 Jun 2024 11:19:03 -0400 (EDT)
Subject: |SUCCESS| pw141140 [PATCH] [v2] r8125: add r8125 ethernet poll mode 
From: dpdklab@iol.unh.edu
To: Test Report <test-report@dpdk.org>
Cc: dpdk-test-reports@iol.unh.edu
In-Reply-To: <20240613033650.5521-1-howard_wang@realsil.com.cn>
References: <20240613033650.5521-1-howard_wang@realsil.com.cn>
Content-Type: text/plain
X-BeenThere: test-report@dpdk.org
X-Mailman-Version: 2.1.29
Precedence: list
List-Id: automatic DPDK test reports <test-report.dpdk.org>
List-Unsubscribe: <https://mails.dpdk.org/options/test-report>,
 <mailto:test-report-request@dpdk.org?subject=unsubscribe>
List-Archive: <http://mails.dpdk.org/archives/test-report/>
List-Post: <mailto:test-report@dpdk.org>
List-Help: <mailto:test-report-request@dpdk.org?subject=help>
List-Subscribe: <https://mails.dpdk.org/listinfo/test-report>,
 <mailto:test-report-request@dpdk.org?subject=subscribe>
Errors-To: test-report-bounces@dpdk.org

Test-Label: iol-compile-arm64-testing
Test-Status: SUCCESS
http://dpdk.org/patch/141140

_Testing PASS_

Submitter: Howard Wang <howard_wang@realsil.com.cn>
Date: Thursday, June 13 2024 03:36:50 
DPDK git baseline: Repo:dpdk
  Branch: master
  CommitID:fbba6db3640f9f623c29c452e1a6b057073e81d2

141140 --> testing pass

Test environment and result as below:

+----------------------------------------+--------------------+
|              Environment               | dpdk_meson_compile |
+========================================+====================+
| Ubuntu 20.04 ARM SVE                   | PASS               |
+----------------------------------------+--------------------+
| RHEL9 (ARM)                            | PASS               |
+----------------------------------------+--------------------+
| Fedora 38 (ARM)                        | PASS               |
+----------------------------------------+--------------------+
| Fedora 37 (ARM)                        | PASS               |
+----------------------------------------+--------------------+
| Fedora 39 (ARM)                        | PASS               |
+----------------------------------------+--------------------+
| Ubuntu 22.04 (ARM)                     | PASS               |
+----------------------------------------+--------------------+
| Debian 11 (Buster) (ARM)               | PASS               |
+----------------------------------------+--------------------+
| CentOS Stream 9 (ARM)                  | PASS               |
+----------------------------------------+--------------------+
| Debian 12 with MUSDK                   | PASS               |
+----------------------------------------+--------------------+
| Ubuntu 20.04 (ARM)                     | PASS               |
+----------------------------------------+--------------------+
| Ubuntu 24.04 (ARM)                     | PASS               |
+----------------------------------------+--------------------+
| Debian 12 (arm)                        | PASS               |
+----------------------------------------+--------------------+
| Ubuntu 20.04 ARM GCC Cross Compile     | PASS               |
+----------------------------------------+--------------------+
| Ubuntu 20.04 aarch32 GCC Cross Compile | PASS               |
+----------------------------------------+--------------------+


Ubuntu 20.04 ARM SVE
	Kernel: 5.4.0-167-generic
	Compiler: gcc (Ubuntu 10.5.0-1ubuntu1~20.04) 10.5.0

RHEL9 (ARM)
	Kernel: Depends on container host
	Compiler: gcc 11.4.1

Fedora 38 (ARM)
	Kernel: Depends on container host
	Compiler: gcc 13.2.1

Fedora 37 (ARM)
	Kernel: Depends on container host
	Compiler: gcc 12.3.1

Fedora 39 (ARM)
	Kernel: Depends on container host
	Compiler: gcc 13.2.1

Ubuntu 22.04 (ARM)
	Kernel: Container Host Kernel
	Compiler: gcc 11.4.0

Debian 11 (Buster) (ARM)
	Kernel: Container Host Kernel
	Compiler: gcc 10.2.1

CentOS Stream 9 (ARM)
	Kernel: Container Host Kernel
	Compiler: gcc 11.4.1

Debian 12 with MUSDK
	Kernel: Container Host Kernel
	Compiler: gcc 12.2.0

Ubuntu 20.04 (ARM)
	Kernel: Container Host Kernel
	Compiler: gcc 9.4.0

Ubuntu 24.04 (ARM)
	Kernel: 5.4.0-167-generic
	Compiler: gcc 13.2.0

Debian 12 (arm)
	Kernel: Container Host Kernel
	Compiler: gcc 12.2.0

Ubuntu 20.04 ARM GCC Cross Compile
	Kernel: 5.4.0-167-generic
	Compiler: aarch64-linux-gnu-gcc (Ubuntu 9.4.0-1ubuntu1~20.04.2) 9.4.0

Ubuntu 20.04 aarch32 GCC Cross Compile
	Kernel: 5.4.0-167-generic
	Compiler: gcc 9.4.0

To view detailed results, visit:
https://lab.dpdk.org/results/dashboard/patchsets/30190/

UNH-IOL DPDK Community Lab

To manage your email subscriptions, visit: 
https://lab.dpdk.org/results/dashboard/preferences/subscriptions/