From mboxrd@z Thu Jan  1 00:00:00 1970
Return-Path: <test-report-bounces@dpdk.org>
Received: from mails.dpdk.org (mails.dpdk.org [217.70.189.124])
	by inbox.dpdk.org (Postfix) with ESMTP id A72B44545D
	for <public@inbox.dpdk.org>; Sat, 15 Jun 2024 00:56:14 +0200 (CEST)
Received: from mails.dpdk.org (localhost [127.0.0.1])
	by mails.dpdk.org (Postfix) with ESMTP id A180E402BC;
	Sat, 15 Jun 2024 00:56:14 +0200 (CEST)
Received: from mail-oo1-f99.google.com (mail-oo1-f99.google.com
 [209.85.161.99]) by mails.dpdk.org (Postfix) with ESMTP id 66A0B402BB
 for <test-report@dpdk.org>; Sat, 15 Jun 2024 00:56:13 +0200 (CEST)
Received: by mail-oo1-f99.google.com with SMTP id
 006d021491bc7-5baf982f56dso1543202eaf.3
 for <test-report@dpdk.org>; Fri, 14 Jun 2024 15:56:13 -0700 (PDT)
DKIM-Signature: v=1; a=rsa-sha256; c=relaxed/relaxed;
 d=iol.unh.edu; s=unh-iol; t=1718405773; x=1719010573; darn=dpdk.org;
 h=references:in-reply-to:cc:to:from:subject:message-id:date:from:to
 :cc:subject:date:message-id:reply-to;
 bh=//beK+wLl1vfFfS9J2Yi20q8M2qUZeFxkW8NWiWG2QA=;
 b=hbCecWI+vE/4lA0Wad1tdqBIqgsLiqGsRo+Get1UIEJ2saTH6Ki+TUCQYmskHPYvCk
 Nj591f4PdyFyLj03XMz/xL54OoItPBcSq/WpRliibKva1mvUP7GS27gbsY3YODHv8maG
 NL/CiCjI2iseaRPtAsflGMoMtvV2YNT5wav+Y=
X-Google-DKIM-Signature: v=1; a=rsa-sha256; c=relaxed/relaxed;
 d=1e100.net; s=20230601; t=1718405773; x=1719010573;
 h=references:in-reply-to:cc:to:from:subject:message-id:date
 :x-gm-message-state:from:to:cc:subject:date:message-id:reply-to;
 bh=//beK+wLl1vfFfS9J2Yi20q8M2qUZeFxkW8NWiWG2QA=;
 b=gHGwv/ijxKk/unqNd4eJXfeeOEMVdrfO5De5Gz5bDOCrhmxIRgp1TQZyiKLxzhFX5x
 k99bLefFcScnH7PunRao0VI4GWmnuRMhOxJdqrrrcskqjDcFZwFW048k147jAISNx0bV
 KwQCa6HCfMVDyDle05HCeYYMNouyZ3XerEb2xNPYplwqR2RtHhmHO3kApGmIf5mAQk8+
 FKDRg5iZBg5PeVz5adx/N6NCK6Y3WHOySMdA34ptx/dpnlAI3IkT4Ujzj+RSKdxjT2IA
 LE/mW6cb3ijl7Vt/NxSEPu55CbP58sw+6bz/GmwGw2pPrRnMblO3cZbKu3psh44Pllot
 lRug==
X-Gm-Message-State: AOJu0YyW9OUrSe/GcO6br/IDvoqE17AVYBMEd3uKN/D8gfZ7fIgWDNba
 mbp4izbmnAIOwFpazGwOwVTQH5ot2/5qPS6eWzHOgzSQZfVUm/Z3CFDs3rOonvQBl/SSmq8pPOK
 RxKZtGKASpv+qqWS8bifZZwOSrx7VaHjl9X/Szz4YVzzypv22TBwj/Cw4
X-Google-Smtp-Source: AGHT+IGl52/RzKHovTeSod80c1B9zFDzSjxh0h2nmMkhzxmy/Vr5hScUhHFxkjF2Q0QXdbXqG2GCTeJ+AtHT
X-Received: by 2002:a05:6820:22a0:b0:5ba:e995:3f00 with SMTP id
 006d021491bc7-5bdadbb6681mr4036603eaf.1.1718405772751; 
 Fri, 14 Jun 2024 15:56:12 -0700 (PDT)
Received: from postal.iol.unh.edu (postal.iol.unh.edu.
 [2606:4100:3880:1234::84]) by smtp-relay.gmail.com with ESMTPS id
 006d021491bc7-5bd62827196sm165649eaf.19.2024.06.14.15.56.12
 (version=TLS1_2 cipher=ECDHE-ECDSA-AES128-GCM-SHA256 bits=128/128);
 Fri, 14 Jun 2024 15:56:12 -0700 (PDT)
X-Relaying-Domain: iol.unh.edu
Date: Fri, 14 Jun 2024 15:56:12 -0700 (PDT)
Message-ID: <666cca8c.4a0a0220.333535.c8b8SMTPIN_ADDED_MISSING@mx.google.com>
Received: from [172.21.0.6] (unknown [172.18.0.240])
 by postal.iol.unh.edu (Postfix) with ESMTP id 2B7E2605C373;
 Fri, 14 Jun 2024 18:56:12 -0400 (EDT)
Subject: |SUCCESS| pw141157 [PATCH] [v10] examples/ptp: replace terms master 
From: dpdklab@iol.unh.edu
To: Test Report <test-report@dpdk.org>
Cc: dpdk-test-reports@iol.unh.edu
In-Reply-To: <20240614154615.65507-1-stephen@networkplumber.org>
References: <20240614154615.65507-1-stephen@networkplumber.org>
Content-Type: text/plain
X-BeenThere: test-report@dpdk.org
X-Mailman-Version: 2.1.29
Precedence: list
List-Id: automatic DPDK test reports <test-report.dpdk.org>
List-Unsubscribe: <https://mails.dpdk.org/options/test-report>,
 <mailto:test-report-request@dpdk.org?subject=unsubscribe>
List-Archive: <http://mails.dpdk.org/archives/test-report/>
List-Post: <mailto:test-report@dpdk.org>
List-Help: <mailto:test-report-request@dpdk.org?subject=help>
List-Subscribe: <https://mails.dpdk.org/listinfo/test-report>,
 <mailto:test-report-request@dpdk.org?subject=subscribe>
Errors-To: test-report-bounces@dpdk.org

Test-Label: iol-compile-arm64-testing
Test-Status: SUCCESS
http://dpdk.org/patch/141157

_Testing PASS_

Submitter: Stephen Hemminger <stephen@networkplumber.org>
Date: Friday, June 14 2024 15:41:07 
DPDK git baseline: Repo:dpdk
  Branch: master
  CommitID:2e9586d502404c1cdc8da24118c681ff6ff1084a

141157 --> testing pass

Test environment and result as below:

+--------------------------+--------------------+
|       Environment        | dpdk_meson_compile |
+==========================+====================+
| Ubuntu 20.04 ARM SVE     | PASS               |
+--------------------------+--------------------+
| Debian 12 with MUSDK     | PASS               |
+--------------------------+--------------------+
| RHEL9 (ARM)              | PASS               |
+--------------------------+--------------------+
| Fedora 39 (ARM)          | PASS               |
+--------------------------+--------------------+
| Fedora 37 (ARM)          | PASS               |
+--------------------------+--------------------+
| Ubuntu 20.04 (ARM)       | PASS               |
+--------------------------+--------------------+
| Debian 11 (Buster) (ARM) | PASS               |
+--------------------------+--------------------+
| Ubuntu 24.04 (ARM)       | PASS               |
+--------------------------+--------------------+
| CentOS Stream 9 (ARM)    | PASS               |
+--------------------------+--------------------+
| Debian 12 (arm)          | PASS               |
+--------------------------+--------------------+
| Fedora 38 (ARM)          | PASS               |
+--------------------------+--------------------+
| Ubuntu 22.04 (ARM)       | PASS               |
+--------------------------+--------------------+


Ubuntu 20.04 ARM SVE
	Kernel: 5.4.0-167-generic
	Compiler: gcc (Ubuntu 10.5.0-1ubuntu1~20.04) 10.5.0

Debian 12 with MUSDK
	Kernel: Container Host Kernel
	Compiler: gcc 12.2.0

RHEL9 (ARM)
	Kernel: Depends on container host
	Compiler: gcc 11.4.1

Fedora 39 (ARM)
	Kernel: Depends on container host
	Compiler: gcc 13.2.1

Fedora 37 (ARM)
	Kernel: Depends on container host
	Compiler: gcc 12.3.1

Ubuntu 20.04 (ARM)
	Kernel: Container Host Kernel
	Compiler: gcc 9.4.0

Debian 11 (Buster) (ARM)
	Kernel: Container Host Kernel
	Compiler: gcc 10.2.1

Ubuntu 24.04 (ARM)
	Kernel: 5.4.0-167-generic
	Compiler: gcc 13.2.0

CentOS Stream 9 (ARM)
	Kernel: Container Host Kernel
	Compiler: gcc 11.4.1

Debian 12 (arm)
	Kernel: Container Host Kernel
	Compiler: gcc 12.2.0

Fedora 38 (ARM)
	Kernel: Depends on container host
	Compiler: gcc 13.2.1

Ubuntu 22.04 (ARM)
	Kernel: Container Host Kernel
	Compiler: gcc 11.4.0

To view detailed results, visit:
https://lab.dpdk.org/results/dashboard/patchsets/30195/

UNH-IOL DPDK Community Lab

To manage your email subscriptions, visit: 
https://lab.dpdk.org/results/dashboard/preferences/subscriptions/