From mboxrd@z Thu Jan  1 00:00:00 1970
Return-Path: <test-report-bounces@dpdk.org>
Received: from mails.dpdk.org (mails.dpdk.org [217.70.189.124])
	by inbox.dpdk.org (Postfix) with ESMTP id 2247F4545D
	for <public@inbox.dpdk.org>; Sat, 15 Jun 2024 01:43:18 +0200 (CEST)
Received: from mails.dpdk.org (localhost [127.0.0.1])
	by mails.dpdk.org (Postfix) with ESMTP id 185D7402BC;
	Sat, 15 Jun 2024 01:43:18 +0200 (CEST)
Received: from mail-pg1-f228.google.com (mail-pg1-f228.google.com
 [209.85.215.228])
 by mails.dpdk.org (Postfix) with ESMTP id 6740F402BB
 for <test-report@dpdk.org>; Sat, 15 Jun 2024 01:43:16 +0200 (CEST)
Received: by mail-pg1-f228.google.com with SMTP id
 41be03b00d2f7-6ce533b643dso1998593a12.3
 for <test-report@dpdk.org>; Fri, 14 Jun 2024 16:43:16 -0700 (PDT)
DKIM-Signature: v=1; a=rsa-sha256; c=relaxed/relaxed;
 d=iol.unh.edu; s=unh-iol; t=1718408595; x=1719013395; darn=dpdk.org;
 h=references:in-reply-to:cc:to:from:subject:message-id:date:from:to
 :cc:subject:date:message-id:reply-to;
 bh=3bh6yjnlVASt4+eEgVslax2eMZMzIkgDz4ZFsSgfxx8=;
 b=BYYRTEbUYuS7/UEKFoqI0Pbm6waBwQt5gsVYuknFMRpVD8QAG6TCsnjNsMOa6Ik17v
 JUVqRQ9N6kXTgGp94KHiNdQsbg+sOwl7ReuGtHTueln4MMvK2fj/jmeIDgtUbPNCesvV
 gV8QLJfi0X0YG60LTPjOvuzE3UFGMOI+eyeZE=
X-Google-DKIM-Signature: v=1; a=rsa-sha256; c=relaxed/relaxed;
 d=1e100.net; s=20230601; t=1718408595; x=1719013395;
 h=references:in-reply-to:cc:to:from:subject:message-id:date
 :x-gm-message-state:from:to:cc:subject:date:message-id:reply-to;
 bh=3bh6yjnlVASt4+eEgVslax2eMZMzIkgDz4ZFsSgfxx8=;
 b=aifxa/df+c8q90fr1yrLGURobmwpf4+PtNBU3Rs2PdbOpLXU5nXEbVXEmdIumUrE8p
 B1MGcg1n7OAHMw3xvI6j58kzkNFDnE6Q37DdvgmCzZAD2eRCpdZmcuOH9ivq3lziK0M1
 e/6cVWYX/BVPiw/V9vJ7bFMEl+DVEeTZ04BNOBonJERkyeFhIn6B3DSvg4L7ruHYBGqa
 xgek0J3Qxq7hIxyThZCSyla2zqbtCDsDTU2aQreCzr4gbeZj/6kjQUJWpr+B6tc6dyGl
 /t4dMpGo+zARD8XD/Jyh7pQdt+x+36e77r2XSoEVohTr8wIRycHM1YXRGOzUKC9WfddC
 ilyg==
X-Gm-Message-State: AOJu0Ywss2+5uy549dPyCf1G6F9h/22msTrs8I445b/dLqwsERK3hRLa
 yjlQMCIEIrBlAloos5CvLO9xJk2rNSW6mFYO21A4q5oSL7Ugev6M4JUlnQYA02bTeafBixMfGVR
 r+jvxNLha1JEbQkRAwxke1LMuWl+v+ltRoyvf9xWCfzS9eajIAzDwCxe4
X-Google-Smtp-Source: AGHT+IH8xJLe10Do3+PoRnlyCr/9xiFMv82iqCrsSh6LhfhSnutWAV/4ctj1vhu1r7Rk2Y36chxUo6iRdjRX
X-Received: by 2002:a05:6a21:2725:b0:1b8:bba8:f593 with SMTP id
 adf61e73a8af0-1bae82f076cmr4001769637.62.1718408595558; 
 Fri, 14 Jun 2024 16:43:15 -0700 (PDT)
Received: from postal.iol.unh.edu (postal.iol.unh.edu.
 [2606:4100:3880:1234::84]) by smtp-relay.gmail.com with ESMTPS id
 d2e1a72fcca58-705cc922b94sm179231b3a.3.2024.06.14.16.43.15
 (version=TLS1_2 cipher=ECDHE-ECDSA-AES128-GCM-SHA256 bits=128/128);
 Fri, 14 Jun 2024 16:43:15 -0700 (PDT)
X-Relaying-Domain: iol.unh.edu
Date: Fri, 14 Jun 2024 16:43:15 -0700 (PDT)
Message-ID: <666cd593.050a0220.af4c.d932SMTPIN_ADDED_MISSING@mx.google.com>
Received: from [172.21.0.6] (unknown [172.18.0.240])
 by postal.iol.unh.edu (Postfix) with ESMTP id B7B29605C373;
 Fri, 14 Jun 2024 19:43:14 -0400 (EDT)
Subject: |SUCCESS| pw141154-141156 [PATCH] [v3,3/3] Config schema
From: dpdklab@iol.unh.edu
To: Test Report <test-report@dpdk.org>
Cc: dpdk-test-reports@iol.unh.edu
In-Reply-To: <20240614150238.26374-4-dmarx@iol.unh.edu>
References: <20240614150238.26374-4-dmarx@iol.unh.edu>
Content-Type: text/plain
X-BeenThere: test-report@dpdk.org
X-Mailman-Version: 2.1.29
Precedence: list
List-Id: automatic DPDK test reports <test-report.dpdk.org>
List-Unsubscribe: <https://mails.dpdk.org/options/test-report>,
 <mailto:test-report-request@dpdk.org?subject=unsubscribe>
List-Archive: <http://mails.dpdk.org/archives/test-report/>
List-Post: <mailto:test-report@dpdk.org>
List-Help: <mailto:test-report-request@dpdk.org?subject=help>
List-Subscribe: <https://mails.dpdk.org/listinfo/test-report>,
 <mailto:test-report-request@dpdk.org?subject=subscribe>
Errors-To: test-report-bounces@dpdk.org

Test-Label: iol-unit-arm64-testing
Test-Status: SUCCESS
http://dpdk.org/patch/141156

_Testing PASS_

Submitter: Dean Marx <dmarx@iol.unh.edu>
Date: Friday, June 14 2024 15:02:38 
DPDK git baseline: Repo:dpdk
  Branch: master
  CommitID:c7f7b4172533257e8ed4328be400cbe7644ea4e3

141154-141156 --> testing pass

Test environment and result as below:

+-----------------------------+----------------+
|         Environment         | dpdk_unit_test |
+=============================+================+
| 32-bit Ubuntu 20.04.4 (ARM) | PASS           |
+-----------------------------+----------------+
| CentOS Stream 9 (ARM)       | PASS           |
+-----------------------------+----------------+
| Debian 12 (arm)             | PASS           |
+-----------------------------+----------------+


32-bit Ubuntu 20.04.4 (ARM)
	Kernel: 5.4.0-155-generic aarch64
	Compiler: gcc 9.4

CentOS Stream 9 (ARM)
	Kernel: Container Host Kernel
	Compiler: gcc 11.4.1

Debian 12 (arm)
	Kernel: Container Host Kernel
	Compiler: gcc 12.2.0

To view detailed results, visit:
https://lab.dpdk.org/results/dashboard/patchsets/30194/

UNH-IOL DPDK Community Lab

To manage your email subscriptions, visit: 
https://lab.dpdk.org/results/dashboard/preferences/subscriptions/