From mboxrd@z Thu Jan  1 00:00:00 1970
Return-Path: <test-report-bounces@dpdk.org>
Received: from mails.dpdk.org (mails.dpdk.org [217.70.189.124])
	by inbox.dpdk.org (Postfix) with ESMTP id 4524A45460
	for <public@inbox.dpdk.org>; Sat, 15 Jun 2024 02:34:28 +0200 (CEST)
Received: from mails.dpdk.org (localhost [127.0.0.1])
	by mails.dpdk.org (Postfix) with ESMTP id 424E0402BC;
	Sat, 15 Jun 2024 02:34:28 +0200 (CEST)
Received: from mail-pf1-f228.google.com (mail-pf1-f228.google.com
 [209.85.210.228])
 by mails.dpdk.org (Postfix) with ESMTP id F073B402BB
 for <test-report@dpdk.org>; Sat, 15 Jun 2024 02:34:26 +0200 (CEST)
Received: by mail-pf1-f228.google.com with SMTP id
 d2e1a72fcca58-704261a1f67so2105700b3a.3
 for <test-report@dpdk.org>; Fri, 14 Jun 2024 17:34:26 -0700 (PDT)
DKIM-Signature: v=1; a=rsa-sha256; c=relaxed/relaxed;
 d=iol.unh.edu; s=unh-iol; t=1718411666; x=1719016466; darn=dpdk.org;
 h=references:in-reply-to:cc:to:from:subject:message-id:date:from:to
 :cc:subject:date:message-id:reply-to;
 bh=h3Ek8l2M399b9Z4+6KFRsbkm3OhaHwnJjcZ24iZPcq8=;
 b=YcqtpIzEVW/zF5ubrddNa7AtZUfdDbR3W7T8vjcNqkKj8wbz4KADFo/l5dbrxKYlGs
 ftxIPOKMTLyMpZdqwxNsnHHCIWz5lI90PNxY2bpv3dCR0wLiRCI0HD32qnBLuD/+ZzBr
 uCEqAXGOJPVb9ZI52+sRZuMWvl0dLiocW+vZ0=
X-Google-DKIM-Signature: v=1; a=rsa-sha256; c=relaxed/relaxed;
 d=1e100.net; s=20230601; t=1718411666; x=1719016466;
 h=references:in-reply-to:cc:to:from:subject:message-id:date
 :x-gm-message-state:from:to:cc:subject:date:message-id:reply-to;
 bh=h3Ek8l2M399b9Z4+6KFRsbkm3OhaHwnJjcZ24iZPcq8=;
 b=X6NS1eWG6czxJe7Phd4XcIjDj8smjzKHyU62yn5duZ8dhsurJL2XLeiGcgqls1JHvZ
 LQz3Kzehn8rp5IqCQgN65lfilTHit94HqsQHt1RGt9heFqszflBa58eoHlF3CyxeQdK+
 DAEp9flVw8l7Kl3Gw29nIul9FiVB/3Vf2x0WInBzILw+6BnGpxvu46DgPHdlsqFdteSI
 bSZB+H3bmMJMV8MbPSHLmHNmhfxa42tegezE/FirKNR8cqPvssnNdK3VQ+oaNOxtLjlG
 lgZYEeNaIxGWMDuvPtNBEHrwsFgwwNZFu/2WTC6Ixdyppewe9C5mfOIiGbAC+9PdOwHL
 7eaA==
X-Gm-Message-State: AOJu0Yy96Pf4GuFOdvMko6ci7Me9R0zjw4hES6KeCAw7BDD9Hx4bN48V
 fgfz53KxZVtV7+Z4CyE9kmhlmx37tt5bqJhAbbH3W9J4PnJ5q1Ok0UnhuOtz4pQTBtRtX9hqicx
 GoZOycOnh+8ZniJdDUIZfAYgfeSWKXIMdu5x6vkpVf6gwSat6Ip7M374N
X-Google-Smtp-Source: AGHT+IHrvU6PPRxNPqkk2qD1XdYYQ5CysiV/GCnBlQf5qRjSuVs/NzRe1XPJs7uv47JAFmt0BWy+Mmk5LoHT
X-Received: by 2002:a05:6a00:1e11:b0:705:b922:280c with SMTP id
 d2e1a72fcca58-705d714a228mr4079054b3a.18.1718411666019; 
 Fri, 14 Jun 2024 17:34:26 -0700 (PDT)
Received: from postal.iol.unh.edu (postal.iol.unh.edu.
 [2606:4100:3880:1234::84]) by smtp-relay.gmail.com with ESMTPS id
 d2e1a72fcca58-705cc96ea27sm184857b3a.10.2024.06.14.17.34.25
 (version=TLS1_2 cipher=ECDHE-ECDSA-AES128-GCM-SHA256 bits=128/128);
 Fri, 14 Jun 2024 17:34:26 -0700 (PDT)
X-Relaying-Domain: iol.unh.edu
Date: Fri, 14 Jun 2024 17:34:26 -0700 (PDT)
Message-ID: <666ce192.050a0220.de427.d331SMTPIN_ADDED_MISSING@mx.google.com>
Received: from [172.21.0.6] (unknown [172.18.0.240])
 by postal.iol.unh.edu (Postfix) with ESMTP id 30366605C373;
 Fri, 14 Jun 2024 20:34:25 -0400 (EDT)
Subject: |SUCCESS| pw141154-141156 [PATCH] [v3,3/3] Config schema
From: dpdklab@iol.unh.edu
To: Test Report <test-report@dpdk.org>
Cc: dpdk-test-reports@iol.unh.edu
In-Reply-To: <20240614150238.26374-4-dmarx@iol.unh.edu>
References: <20240614150238.26374-4-dmarx@iol.unh.edu>
Content-Type: text/plain
X-BeenThere: test-report@dpdk.org
X-Mailman-Version: 2.1.29
Precedence: list
List-Id: automatic DPDK test reports <test-report.dpdk.org>
List-Unsubscribe: <https://mails.dpdk.org/options/test-report>,
 <mailto:test-report-request@dpdk.org?subject=unsubscribe>
List-Archive: <http://mails.dpdk.org/archives/test-report/>
List-Post: <mailto:test-report@dpdk.org>
List-Help: <mailto:test-report-request@dpdk.org?subject=help>
List-Subscribe: <https://mails.dpdk.org/listinfo/test-report>,
 <mailto:test-report-request@dpdk.org?subject=subscribe>
Errors-To: test-report-bounces@dpdk.org

Test-Label: iol-compile-amd64-testing
Test-Status: SUCCESS
http://dpdk.org/patch/141156

_Testing PASS_

Submitter: Dean Marx <dmarx@iol.unh.edu>
Date: Friday, June 14 2024 15:02:38 
DPDK git baseline: Repo:dpdk
  Branch: master
  CommitID:c7f7b4172533257e8ed4328be400cbe7644ea4e3

141154-141156 --> testing pass

Test environment and result as below:

+---------------------+-------------------+--------------------+----------------------+------------------+-------------------+
|     Environment     | dpdk_msvc_compile | dpdk_meson_compile | dpdk_mingw64_compile | dpdk_compile_ovs | dpdk_compile_spdk |
+=====================+===================+====================+======================+==================+===================+
| Windows Server 2022 | PASS              | PASS               | PASS                 | SKIPPED          | SKIPPED           |
+---------------------+-------------------+--------------------+----------------------+------------------+-------------------+
| Windows Server 2019 | SKIPPED           | PASS               | PASS                 | SKIPPED          | SKIPPED           |
+---------------------+-------------------+--------------------+----------------------+------------------+-------------------+
| FreeBSD 13.3        | SKIPPED           | PASS               | SKIPPED              | SKIPPED          | SKIPPED           |
+---------------------+-------------------+--------------------+----------------------+------------------+-------------------+
| FreeBSD 14.1        | SKIPPED           | PASS               | SKIPPED              | SKIPPED          | SKIPPED           |
+---------------------+-------------------+--------------------+----------------------+------------------+-------------------+
| Debian Bullseye     | SKIPPED           | PASS               | SKIPPED              | PASS             | PASS              |
+---------------------+-------------------+--------------------+----------------------+------------------+-------------------+
| CentOS Stream 8     | SKIPPED           | PASS               | SKIPPED              | PASS             | PASS              |
+---------------------+-------------------+--------------------+----------------------+------------------+-------------------+
| Fedora 37           | SKIPPED           | PASS               | SKIPPED              | PASS             | PASS              |
+---------------------+-------------------+--------------------+----------------------+------------------+-------------------+
| Fedora 40           | SKIPPED           | PASS               | SKIPPED              | PASS             | SKIPPED           |
+---------------------+-------------------+--------------------+----------------------+------------------+-------------------+
| CentOS Stream 9     | SKIPPED           | PASS               | SKIPPED              | PASS             | PASS              |
+---------------------+-------------------+--------------------+----------------------+------------------+-------------------+
| Fedora 39           | SKIPPED           | PASS               | SKIPPED              | PASS             | PASS              |
+---------------------+-------------------+--------------------+----------------------+------------------+-------------------+
| Fedora 38           | SKIPPED           | PASS               | SKIPPED              | PASS             | PASS              |
+---------------------+-------------------+--------------------+----------------------+------------------+-------------------+
| RHEL8               | SKIPPED           | PASS               | SKIPPED              | PASS             | SKIPPED           |
+---------------------+-------------------+--------------------+----------------------+------------------+-------------------+


Windows Server 2022
	Kernel: 10.0.20348.2031
	Compiler: clang 15.0.7, gcc 8.1.0 (MinGW), and MSVC VS 17.9

Windows Server 2019
	Kernel: 10.0.17763
	Compiler: clang 14.0 and gcc 8.1.0 (MinGW)

FreeBSD 13.3
	Kernel: 13.3-RELEASE-p1
	Compiler: clang 17.0.6

FreeBSD 14.1
	Kernel: 14.1
	Compiler: clang 18.1.5

Debian Bullseye
	Kernel: 5.4.0-167-generic
	Compiler: gcc 10.2.1-6

CentOS Stream 8
	Kernel: 5.4.0-167-generic
	Compiler: gcc 8.5.0 20210514

Fedora 37
	Kernel: Depends on container host system
	Compiler: gcc 12.3.1

Fedora 40
	Kernel: Depends on container host
	Compiler: gcc 14.1.1

CentOS Stream 9
	Kernel: 5.4.0-167-generic
	Compiler: gcc 11.4.1 20230605

Fedora 39
	Kernel: Depends on container host
	Compiler: clang 17.0.6

Fedora 38
	Kernel: Depends on container host
	Compiler: clang 16.0.6

RHEL8
	Kernel: 5.4.0-167-generic
	Compiler: gcc 8.5.0 20210514 (Red Hat 8.5.0-20)

To view detailed results, visit:
https://lab.dpdk.org/results/dashboard/patchsets/30194/

UNH-IOL DPDK Community Lab

To manage your email subscriptions, visit: 
https://lab.dpdk.org/results/dashboard/preferences/subscriptions/