From mboxrd@z Thu Jan  1 00:00:00 1970
Return-Path: <test-report-bounces@dpdk.org>
Received: from mails.dpdk.org (mails.dpdk.org [217.70.189.124])
	by inbox.dpdk.org (Postfix) with ESMTP id C0E9A45460
	for <public@inbox.dpdk.org>; Sat, 15 Jun 2024 03:48:49 +0200 (CEST)
Received: from mails.dpdk.org (localhost [127.0.0.1])
	by mails.dpdk.org (Postfix) with ESMTP id A2CEC402BC;
	Sat, 15 Jun 2024 03:48:49 +0200 (CEST)
Received: from mail-yw1-f225.google.com (mail-yw1-f225.google.com
 [209.85.128.225])
 by mails.dpdk.org (Postfix) with ESMTP id 733F6402BB
 for <test-report@dpdk.org>; Sat, 15 Jun 2024 03:48:48 +0200 (CEST)
Received: by mail-yw1-f225.google.com with SMTP id
 00721157ae682-62cddff7f20so28571427b3.3
 for <test-report@dpdk.org>; Fri, 14 Jun 2024 18:48:48 -0700 (PDT)
DKIM-Signature: v=1; a=rsa-sha256; c=relaxed/relaxed;
 d=iol.unh.edu; s=unh-iol; t=1718416127; x=1719020927; darn=dpdk.org;
 h=references:in-reply-to:cc:to:from:subject:message-id:date:from:to
 :cc:subject:date:message-id:reply-to;
 bh=uTJfNG7J7HNGhiwxV7z8/wepwlmqQQJw8osOIx339Pw=;
 b=TP4GAE7pgM9e346BeuKd8qQHArBLgSTU0Bv4EyDYWcFA5tsx0x9ncPHNUJKbkxug4a
 m3vw3js8FillhQeOwbMIg2Ep4ZFKQkKND8PGzINeNMdn8bp2lyleyQbfS/UUkjritDp2
 a6xk1P8qYnjeTP9sgGispW5WssoLEU76SLSmc=
X-Google-DKIM-Signature: v=1; a=rsa-sha256; c=relaxed/relaxed;
 d=1e100.net; s=20230601; t=1718416127; x=1719020927;
 h=references:in-reply-to:cc:to:from:subject:message-id:date
 :x-gm-message-state:from:to:cc:subject:date:message-id:reply-to;
 bh=uTJfNG7J7HNGhiwxV7z8/wepwlmqQQJw8osOIx339Pw=;
 b=csC6743bz1pxQH0S6gw7NRaa7y1+jpSytRtjTw9A7V+K7+wAszcUs7g6Xlx111MciZ
 AfAdB+2I30eSSp9LLbQOHlKgXCKMUby3af07u75334xIiH5OhxF487dvCDzzbVKxKko/
 HQiFQf0mqBKwSMpcnycEcnibowxC36e+/RJCtbCPkIdxT+y3+dOWdTijzrqQ3ssH0j6w
 ym6l3fa6RQBlSVgCZUZl3ByDO5blF/gJeps/i+iuUg/1NuedHI7HstPL0qDEDswJlLNE
 aKx9Y4dA9Tu2XTf3xYZq7yqzlLe0yj+tjO3P6ltfhbcisrjS10whdBwN70Cyj2dksCEj
 /F/A==
X-Gm-Message-State: AOJu0YxQE4h0IWSjEkUzv6a5xx2CBnrXYibI5I6CS3rPjC+64P/yHLn1
 JAKv0wTKDwwDTyoT3hKM65SAX0jh7UdawAgIOA6SsV447RMFYK+0r0F5RvCxWz5VrnJHw2lFKvB
 KWksGVUTSdRWJwNyTXieSyRHjmEqe1flkq6PmNM/mLR2DY5k0XYymdwbd
X-Google-Smtp-Source: AGHT+IEWS4TPyCsSsBpkbtf0ooJJzZSumJBjQiUK3iYjdJYXbvwAHbADoZhYuhvcPGfM5KY2AmMNLt+r9F7M
X-Received: by 2002:a81:71d6:0:b0:618:8d31:a557 with SMTP id
 00721157ae682-63222452756mr39507697b3.14.1718416125934; 
 Fri, 14 Jun 2024 18:48:45 -0700 (PDT)
Received: from postal.iol.unh.edu (postal.iol.unh.edu.
 [2606:4100:3880:1234::84]) by smtp-relay.gmail.com with ESMTPS id
 00721157ae682-63118da2b39sm1519617b3.32.2024.06.14.18.48.45
 (version=TLS1_2 cipher=ECDHE-ECDSA-AES128-GCM-SHA256 bits=128/128);
 Fri, 14 Jun 2024 18:48:45 -0700 (PDT)
X-Relaying-Domain: iol.unh.edu
Date: Fri, 14 Jun 2024 18:48:45 -0700 (PDT)
Message-ID: <666cf2fd.050a0220.5a4f1.b380SMTPIN_ADDED_MISSING@mx.google.com>
Received: from [172.17.0.3] (unknown [172.18.0.217])
 by postal.iol.unh.edu (Postfix) with ESMTP id 88E01605C373;
 Fri, 14 Jun 2024 21:48:45 -0400 (EDT)
Subject: |SUCCESS| pw141154-141156 [PATCH] [v3,3/3] Config schema
From: dpdklab@iol.unh.edu
To: Test Report <test-report@dpdk.org>
Cc: dpdk-test-reports@iol.unh.edu
In-Reply-To: <20240614150238.26374-4-dmarx@iol.unh.edu>
References: <20240614150238.26374-4-dmarx@iol.unh.edu>
Content-Type: text/plain
X-BeenThere: test-report@dpdk.org
X-Mailman-Version: 2.1.29
Precedence: list
List-Id: automatic DPDK test reports <test-report.dpdk.org>
List-Unsubscribe: <https://mails.dpdk.org/options/test-report>,
 <mailto:test-report-request@dpdk.org?subject=unsubscribe>
List-Archive: <http://mails.dpdk.org/archives/test-report/>
List-Post: <mailto:test-report@dpdk.org>
List-Help: <mailto:test-report-request@dpdk.org?subject=help>
List-Subscribe: <https://mails.dpdk.org/listinfo/test-report>,
 <mailto:test-report-request@dpdk.org?subject=subscribe>
Errors-To: test-report-bounces@dpdk.org

Test-Label: iol-sample-apps-testing
Test-Status: SUCCESS
http://dpdk.org/patch/141156

_Testing PASS_

Submitter: Dean Marx <dmarx@iol.unh.edu>
Date: Friday, June 14 2024 15:02:38 
DPDK git baseline: Repo:dpdk
  Branch: master
  CommitID:c7f7b4172533257e8ed4328be400cbe7644ea4e3

141154-141156 --> testing pass

Test environment and result as below:

+--------------------+----------------------+----------------------+
|    Environment     | compressdev_zlib_pmd | dpdk_fips_validation |
+====================+======================+======================+
| Ubuntu 22.04 (ARM) | PASS                 | SKIPPED              |
+--------------------+----------------------+----------------------+
| Ubuntu 22.04       | PASS                 | SKIPPED              |
+--------------------+----------------------+----------------------+
| Ubuntu 20.04       | SKIPPED              | PASS                 |
+--------------------+----------------------+----------------------+


Ubuntu 22.04 (ARM)
	Kernel: 5.15.0-97-generic
	Compiler: gcc gcc (Ubuntu 11.4.0-1ubuntu1~22.04) 11.4.0

Ubuntu 22.04
	Kernel: 5.15.0-100-generic
	Compiler: gcc gcc (Ubuntu 11.4.0-1ubuntu1~22.04) 11.4.0

Ubuntu 20.04
	Kernel: 5.4.0-167-generic
	Compiler: gcc 9.4.0-1ubuntu1~20.04.1

To view detailed results, visit:
https://lab.dpdk.org/results/dashboard/patchsets/30194/

UNH-IOL DPDK Community Lab

To manage your email subscriptions, visit: 
https://lab.dpdk.org/results/dashboard/preferences/subscriptions/