From mboxrd@z Thu Jan  1 00:00:00 1970
Return-Path: <test-report-bounces@dpdk.org>
Received: from mails.dpdk.org (mails.dpdk.org [217.70.189.124])
	by inbox.dpdk.org (Postfix) with ESMTP id EB21245463
	for <public@inbox.dpdk.org>; Sat, 15 Jun 2024 19:28:30 +0200 (CEST)
Received: from mails.dpdk.org (localhost [127.0.0.1])
	by mails.dpdk.org (Postfix) with ESMTP id 07670402BC;
	Sat, 15 Jun 2024 19:28:31 +0200 (CEST)
Received: from mail-il1-f228.google.com (mail-il1-f228.google.com
 [209.85.166.228])
 by mails.dpdk.org (Postfix) with ESMTP id 126C840294
 for <test-report@dpdk.org>; Sat, 15 Jun 2024 19:28:30 +0200 (CEST)
Received: by mail-il1-f228.google.com with SMTP id
 e9e14a558f8ab-375e96f5fddso4464815ab.1
 for <test-report@dpdk.org>; Sat, 15 Jun 2024 10:28:29 -0700 (PDT)
DKIM-Signature: v=1; a=rsa-sha256; c=relaxed/relaxed;
 d=iol.unh.edu; s=unh-iol; t=1718472509; x=1719077309; darn=dpdk.org;
 h=references:in-reply-to:cc:to:from:subject:message-id:date:from:to
 :cc:subject:date:message-id:reply-to;
 bh=Bd6Rqk8TPUyZDChZjaajZtkPVPfpOlyjbCpHCglEK+Y=;
 b=bdvNgQex5joEBHxLZKkLd7NIiPJrWskBEMlV7gWU9ynC0jP2mwb0LN6vu57Ix6I8NO
 GAoZcvEapXgNbdCcuI69yGT4KRt653XSM4XBEtQbqDPnzCMWpWcggMbCKKt58ImcTfYS
 FVvJHOf8ksSREoG44HE7VRpiQYIX2yreSi8uo=
X-Google-DKIM-Signature: v=1; a=rsa-sha256; c=relaxed/relaxed;
 d=1e100.net; s=20230601; t=1718472509; x=1719077309;
 h=references:in-reply-to:cc:to:from:subject:message-id:date
 :x-gm-message-state:from:to:cc:subject:date:message-id:reply-to;
 bh=Bd6Rqk8TPUyZDChZjaajZtkPVPfpOlyjbCpHCglEK+Y=;
 b=w8qQwGxRY4eB16aGbj81+5wd08h/Oa1mLC7lOpIr91k3ORUZjGNwWeAqLR3PJJvaO5
 yLnafLUKgUVgZVoHVn1V9iia3z3uh+Pu0TNykZ/luRLJin5Na93DKFIriHF/XEHaeU/d
 pK5KIeexfraGkJ8BGmCSoLsZj0cWXjve+ck6pDqg5vZuhZNFtuzQKUgd411U8HjZWmRP
 Npp7u6X5z479iYcXY/6UMl5kzdpn8Pc2F7gAj1SyIToMuXTBjaie49KZiWesSFYEUXPO
 igzmzIhANul0nmwgn5qkg37+5C8oKPwq7HzrmT6ejkVN1cc17avmKbCKWNyY8FnTRiIL
 4dfg==
X-Gm-Message-State: AOJu0YxgDYEPAIp1AusuppP3SzUhy+WHHlZcg4GaDoD5knl4DyoPdltj
 cWgIiARIVblGOtg6KvypvmxCEulrXb1JjC8n9FQ+2HcrKPuTPdj6/vpFfYpQ2vCGgHfPAixauic
 BscNcSbpROF/VsYSYL1HOnleTzj8ciPWwrAXPAZii
X-Google-Smtp-Source: AGHT+IEa2j2oGwaNfCxeU1bhfuG3ohMvlh7KUTNf0a5UFEK2H/AZAoyCRvsJy/5jaI0eSQe2RcCVqrJQBBMs
X-Received: by 2002:a05:6e02:1d16:b0:375:deb0:4c28 with SMTP id
 e9e14a558f8ab-375e0e13775mr63022185ab.6.1718472509308; 
 Sat, 15 Jun 2024 10:28:29 -0700 (PDT)
Received: from postal.iol.unh.edu (postal.iol.unh.edu. [132.177.123.84])
 by smtp-relay.gmail.com with ESMTPS id
 e9e14a558f8ab-375d86b97ffsm2525155ab.55.2024.06.15.10.28.29
 (version=TLS1_2 cipher=ECDHE-ECDSA-AES128-GCM-SHA256 bits=128/128);
 Sat, 15 Jun 2024 10:28:29 -0700 (PDT)
X-Relaying-Domain: iol.unh.edu
Date: Sat, 15 Jun 2024 10:28:29 -0700 (PDT)
Message-ID: <666dcf3d.050a0220.351d3.2843SMTPIN_ADDED_MISSING@mx.google.com>
Received: from [172.21.0.8] (unknown [172.18.0.240])
 by postal.iol.unh.edu (Postfix) with ESMTP id BDD0F605C373;
 Sat, 15 Jun 2024 13:28:28 -0400 (EDT)
Subject: |SUCCESS| pw141167-141169 [PATCH] [v2,3/3] event/sw: avoid snprintf 
From: dpdklab@iol.unh.edu
To: Test Report <test-report@dpdk.org>
Cc: dpdk-test-reports@iol.unh.edu
In-Reply-To: <20240615160215.117401-4-stephen@networkplumber.org>
References: <20240615160215.117401-4-stephen@networkplumber.org>
Content-Type: text/plain
X-BeenThere: test-report@dpdk.org
X-Mailman-Version: 2.1.29
Precedence: list
List-Id: automatic DPDK test reports <test-report.dpdk.org>
List-Unsubscribe: <https://mails.dpdk.org/options/test-report>,
 <mailto:test-report-request@dpdk.org?subject=unsubscribe>
List-Archive: <http://mails.dpdk.org/archives/test-report/>
List-Post: <mailto:test-report@dpdk.org>
List-Help: <mailto:test-report-request@dpdk.org?subject=help>
List-Subscribe: <https://mails.dpdk.org/listinfo/test-report>,
 <mailto:test-report-request@dpdk.org?subject=subscribe>
Errors-To: test-report-bounces@dpdk.org

Test-Label: iol-abi-testing
Test-Status: SUCCESS
http://dpdk.org/patch/141169

_Testing PASS_

Submitter: Stephen Hemminger <stephen@networkplumber.org>
Date: Saturday, June 15 2024 16:00:14 
DPDK git baseline: Repo:dpdk
  Branch: master
  CommitID:cef922c9e0c53b05a7b939116b386993570c9bf9

141167-141169 --> testing pass

Test environment and result as below:

+------------------+----------+
|   Environment    | abi_test |
+==================+==========+
| openSUSE Leap 15 | PASS     |
+------------------+----------+
| RHEL8            | PASS     |
+------------------+----------+
| Ubuntu 22.04     | PASS     |
+------------------+----------+
| Fedora 39        | PASS     |
+------------------+----------+
| Fedora 40        | PASS     |
+------------------+----------+
| RHEL9            | PASS     |
+------------------+----------+
| Fedora 37        | PASS     |
+------------------+----------+
| Fedora 38        | PASS     |
+------------------+----------+
| CentOS Stream 8  | PASS     |
+------------------+----------+
| CentOS Stream 9  | PASS     |
+------------------+----------+
| Ubuntu 24.04     | PASS     |
+------------------+----------+
| Debian 12        | PASS     |
+------------------+----------+


openSUSE Leap 15
	Kernel: 5.4.0-167-generic
	Compiler: gcc 7.5.0

RHEL8
	Kernel: 5.4.0-167-generic
	Compiler: gcc 8.5.0 20210514 (Red Hat 8.5.0-20)

Ubuntu 22.04
	Kernel: 5.4.0-167-generic
	Compiler: gcc 11.4.0

Fedora 39
	Kernel: Depends on container host
	Compiler: clang 17.0.6

Fedora 40
	Kernel: Depends on container host
	Compiler: clang 18.1.6

RHEL9
	Kernel: Depends on container host
	Compiler: gcc 11.4.1

Fedora 37
	Kernel: Depends on container host system
	Compiler: gcc 12.3.1

Fedora 38
	Kernel: Depends on container host
	Compiler: clang 16.0.6

CentOS Stream 8
	Kernel: 5.4.0-167-generic
	Compiler: gcc 8.5.0 20210514

CentOS Stream 9
	Kernel: 5.4.0-167-generic
	Compiler: gcc 11.4.1 20230605

Ubuntu 24.04
	Kernel: 5.4.0-167-generic
	Compiler: gcc 13.2.0

Debian 12
	Kernel: Container Host Kernel
	Compiler: gcc 12.2.0

To view detailed results, visit:
https://lab.dpdk.org/results/dashboard/patchsets/30200/

UNH-IOL DPDK Community Lab

To manage your email subscriptions, visit: 
https://lab.dpdk.org/results/dashboard/preferences/subscriptions/