From mboxrd@z Thu Jan  1 00:00:00 1970
Return-Path: <test-report-bounces@dpdk.org>
Received: from mails.dpdk.org (mails.dpdk.org [217.70.189.124])
	by inbox.dpdk.org (Postfix) with ESMTP id 351804546C
	for <public@inbox.dpdk.org>; Sat, 15 Jun 2024 20:10:20 +0200 (CEST)
Received: from mails.dpdk.org (localhost [127.0.0.1])
	by mails.dpdk.org (Postfix) with ESMTP id 3250A402BC;
	Sat, 15 Jun 2024 20:10:20 +0200 (CEST)
Received: from mail-pl1-f227.google.com (mail-pl1-f227.google.com
 [209.85.214.227])
 by mails.dpdk.org (Postfix) with ESMTP id 4F84040294
 for <test-report@dpdk.org>; Sat, 15 Jun 2024 20:10:19 +0200 (CEST)
Received: by mail-pl1-f227.google.com with SMTP id
 d9443c01a7336-1f44b594deeso30805595ad.2
 for <test-report@dpdk.org>; Sat, 15 Jun 2024 11:10:19 -0700 (PDT)
DKIM-Signature: v=1; a=rsa-sha256; c=relaxed/relaxed;
 d=iol.unh.edu; s=unh-iol; t=1718475018; x=1719079818; darn=dpdk.org;
 h=references:in-reply-to:cc:to:from:subject:message-id:date:from:to
 :cc:subject:date:message-id:reply-to;
 bh=/DmgElfZMd8lckdgbZhw7ivNfAB5OBSeSuQWbRN02XE=;
 b=joupNkkTFlnIDQWaOZ+6NnyTi9UTGNiQzPve9LpUsDmaz9OTYwVsk2uBAn23jVqjNa
 F/NsWCKtUNPAeqHebPxx2+tHBsiXr4De/sOVkgDedAlH551k2ATt9bMB0/ISazO2/nfK
 sumfxrQB4dtjLonmjrZ2GNAszXd/KDfx0rF5I=
X-Google-DKIM-Signature: v=1; a=rsa-sha256; c=relaxed/relaxed;
 d=1e100.net; s=20230601; t=1718475018; x=1719079818;
 h=references:in-reply-to:cc:to:from:subject:message-id:date
 :x-gm-message-state:from:to:cc:subject:date:message-id:reply-to;
 bh=/DmgElfZMd8lckdgbZhw7ivNfAB5OBSeSuQWbRN02XE=;
 b=oug4uo/oBg1/8EfGDd3aL7zGSQsjg9WcEBTcwO3hydBljDNzoRzV9Y73lGmMAtAEQK
 wA5ZPP7b2b8eW5PIvFs+dlEpzPOSBWUVxsCyPlYXqY1mb5SUBwvakAqA2VludhOOOYW8
 CwhsRqHtaTCujPk7Irgr9aOLs9iMHjC7pPGygt6hlvmFywSt/SxFhDxfoEQWwCIVDQrV
 nGPunFdaU4XbKoStUtzrlKVZkPfGbCeyq3TomP60zv3c5+Z4OwMIVNqJYm810+o3QG1i
 sr6Z6JApLQmKxdSsDEokz8oQ4rC3t8p5s3nEsshJhsQg+4VNhd5ZxpxctbpLlfk+jaEQ
 vhCw==
X-Gm-Message-State: AOJu0YxspMLlBkgs9vS6HF4raLLnEWmZ0QPkqTAY/Br98Vfgph3BRDvO
 txODUWqWZ5/rxet59QAqclOfe0SEE0CearXgWhCeuAgjUwwzqsVCOs17UgxS20Lvlnt1c/Gaobc
 uGsMKrbrEfvJXxJYTANPA2XuQ5anTgHc9Qrgzu7Yq
X-Google-Smtp-Source: AGHT+IEoTISpH38txEn6ZZpaDsB3Uj9LgtEkaz47IvY6GCyrgEdqzMnal2qg0JADSOVZVVNVt3Zd9WOeQ5h5
X-Received: by 2002:a17:902:c103:b0:1f6:fc06:a2ff with SMTP id
 d9443c01a7336-1f862a0a1fbmr54791685ad.59.1718475018600; 
 Sat, 15 Jun 2024 11:10:18 -0700 (PDT)
Received: from postal.iol.unh.edu (postal.iol.unh.edu. [132.177.123.84])
 by smtp-relay.gmail.com with ESMTPS id
 d9443c01a7336-1f86d9f0251sm1270845ad.133.2024.06.15.11.10.18
 (version=TLS1_2 cipher=ECDHE-ECDSA-AES128-GCM-SHA256 bits=128/128);
 Sat, 15 Jun 2024 11:10:18 -0700 (PDT)
X-Relaying-Domain: iol.unh.edu
Date: Sat, 15 Jun 2024 11:10:18 -0700 (PDT)
Message-ID: <666dd90a.170a0220.ce53.8142SMTPIN_ADDED_MISSING@mx.google.com>
Received: from [172.21.0.6] (unknown [172.18.0.240])
 by postal.iol.unh.edu (Postfix) with ESMTP id BCA24605C373;
 Sat, 15 Jun 2024 14:10:17 -0400 (EDT)
Subject: |SUCCESS| pw141167-141169 [PATCH] [v2,3/3] event/sw: avoid snprintf 
From: dpdklab@iol.unh.edu
To: Test Report <test-report@dpdk.org>
Cc: dpdk-test-reports@iol.unh.edu
In-Reply-To: <20240615160215.117401-4-stephen@networkplumber.org>
References: <20240615160215.117401-4-stephen@networkplumber.org>
Content-Type: text/plain
X-BeenThere: test-report@dpdk.org
X-Mailman-Version: 2.1.29
Precedence: list
List-Id: automatic DPDK test reports <test-report.dpdk.org>
List-Unsubscribe: <https://mails.dpdk.org/options/test-report>,
 <mailto:test-report-request@dpdk.org?subject=unsubscribe>
List-Archive: <http://mails.dpdk.org/archives/test-report/>
List-Post: <mailto:test-report@dpdk.org>
List-Help: <mailto:test-report-request@dpdk.org?subject=help>
List-Subscribe: <https://mails.dpdk.org/listinfo/test-report>,
 <mailto:test-report-request@dpdk.org?subject=subscribe>
Errors-To: test-report-bounces@dpdk.org

Test-Label: iol-unit-amd64-testing
Test-Status: SUCCESS
http://dpdk.org/patch/141169

_Testing PASS_

Submitter: Stephen Hemminger <stephen@networkplumber.org>
Date: Saturday, June 15 2024 16:00:14 
DPDK git baseline: Repo:dpdk
  Branch: master
  CommitID:cef922c9e0c53b05a7b939116b386993570c9bf9

141167-141169 --> testing pass

Test environment and result as below:

+---------------------+----------------+
|     Environment     | dpdk_unit_test |
+=====================+================+
| Windows Server 2019 | PASS           |
+---------------------+----------------+
| CentOS Stream 8     | PASS           |
+---------------------+----------------+
| Debian Bullseye     | PASS           |
+---------------------+----------------+
| Fedora 37           | PASS           |
+---------------------+----------------+
| Debian 12           | PASS           |
+---------------------+----------------+
| CentOS Stream 9     | PASS           |
+---------------------+----------------+
| Windows Server 2022 | PASS           |
+---------------------+----------------+
| Fedora 39           | PASS           |
+---------------------+----------------+
| Fedora 38           | PASS           |
+---------------------+----------------+
| openSUSE Leap 15    | PASS           |
+---------------------+----------------+
| Fedora 40           | PASS           |
+---------------------+----------------+
| RHEL8               | PASS           |
+---------------------+----------------+
| Ubuntu 22.04        | PASS           |
+---------------------+----------------+
| RHEL9               | PASS           |
+---------------------+----------------+
| Ubuntu 24.04        | PASS           |
+---------------------+----------------+


Windows Server 2019
	Kernel: 10.0.17763
	Compiler: clang 14.0 and gcc 8.1.0 (MinGW)

CentOS Stream 8
	Kernel: 5.4.0-167-generic
	Compiler: gcc 8.5.0 20210514

Debian Bullseye
	Kernel: 5.4.0-167-generic
	Compiler: gcc 10.2.1-6

Fedora 37
	Kernel: Depends on container host system
	Compiler: gcc 12.3.1

Debian 12
	Kernel: Container Host Kernel
	Compiler: gcc 12.2.0

CentOS Stream 9
	Kernel: 5.4.0-167-generic
	Compiler: gcc 11.4.1 20230605

Windows Server 2022
	Kernel: 10.0.20348.2031
	Compiler: clang 15.0.7, gcc 8.1.0 (MinGW), and MSVC VS 17.9

Fedora 39
	Kernel: Depends on container host
	Compiler: gcc 13.2.1

Fedora 38
	Kernel: Depends on container host
	Compiler: clang 16.0.6

openSUSE Leap 15
	Kernel: 5.4.0-167-generic
	Compiler: gcc 7.5.0

Fedora 40
	Kernel: Depends on container host
	Compiler: gcc 14.1.1

RHEL8
	Kernel: 5.4.0-167-generic
	Compiler: gcc 8.5.0 20210514 (Red Hat 8.5.0-20)

Ubuntu 22.04
	Kernel: 5.4.0-167-generic
	Compiler: gcc 11.4.0

RHEL9
	Kernel: Depends on container host
	Compiler: gcc 11.4.1

Ubuntu 24.04
	Kernel: 5.4.0-167-generic
	Compiler: gcc 13.2.0

To view detailed results, visit:
https://lab.dpdk.org/results/dashboard/patchsets/30200/

UNH-IOL DPDK Community Lab

To manage your email subscriptions, visit: 
https://lab.dpdk.org/results/dashboard/preferences/subscriptions/