From mboxrd@z Thu Jan  1 00:00:00 1970
Return-Path: <test-report-bounces@dpdk.org>
Received: from mails.dpdk.org (mails.dpdk.org [217.70.189.124])
	by inbox.dpdk.org (Postfix) with ESMTP id 90B6F4546C
	for <public@inbox.dpdk.org>; Sat, 15 Jun 2024 20:23:13 +0200 (CEST)
Received: from mails.dpdk.org (localhost [127.0.0.1])
	by mails.dpdk.org (Postfix) with ESMTP id 84938402BC;
	Sat, 15 Jun 2024 20:23:13 +0200 (CEST)
Received: from mail-pg1-f225.google.com (mail-pg1-f225.google.com
 [209.85.215.225])
 by mails.dpdk.org (Postfix) with ESMTP id 7F9DA40294
 for <test-report@dpdk.org>; Sat, 15 Jun 2024 20:23:11 +0200 (CEST)
Received: by mail-pg1-f225.google.com with SMTP id
 41be03b00d2f7-6e40ee57f45so2486914a12.0
 for <test-report@dpdk.org>; Sat, 15 Jun 2024 11:23:11 -0700 (PDT)
DKIM-Signature: v=1; a=rsa-sha256; c=relaxed/relaxed;
 d=iol.unh.edu; s=unh-iol; t=1718475791; x=1719080591; darn=dpdk.org;
 h=references:in-reply-to:cc:to:from:subject:message-id:date:from:to
 :cc:subject:date:message-id:reply-to;
 bh=lWkVy+gnt9K452Gna6Ssz7qy5hNM0nY11uqwEig54BQ=;
 b=KhKfT9XB/mYCWFUNat6uc0pU3T6uYmrgWoKBDJNmL4nOfm6LOrFndeJSR8Kfc6WKJK
 3kcgbt2C5wfiRgIvwgbup4ntXo4cTMrDJ8V9jDzae4HbwW52mY/SJgXl/wErRkSY1NuQ
 zqJJx6SShrZ9udVOEmStQ/2H6G3VWdMzJFTNU=
X-Google-DKIM-Signature: v=1; a=rsa-sha256; c=relaxed/relaxed;
 d=1e100.net; s=20230601; t=1718475791; x=1719080591;
 h=references:in-reply-to:cc:to:from:subject:message-id:date
 :x-gm-message-state:from:to:cc:subject:date:message-id:reply-to;
 bh=lWkVy+gnt9K452Gna6Ssz7qy5hNM0nY11uqwEig54BQ=;
 b=Lwnui3eiwr20UmZ6X6WDzUOysHUNHP/Ucc0swM/w/t0+l3Z/XUgbmNnFsQUqyql0O2
 KG2l3KCU+rszY5FEAI+Om7d9RJq7NEdyHSE+SOaHs/QvOuwb23zXr/tcJe8Dnqg3MQHS
 G+7dKk1cqI7fc/Eg/Xp4naIISyRUpx2Q1G/MGMasQImmGCo/MNGDgdUJr8wwi6GmWOna
 6ki12mc0oxNaTWomIzDHiD9VomZ3H3HthRgJoqEIxLbi/oXRHpIQxJi5VZdL4zhfIcDT
 5goWP+AGWAq8PYhhhsWIc32okq5EPWU2/dE8Rjzl7s1Wq+BSNlkcCrpL9GeuFXzIHlVx
 kNIA==
X-Gm-Message-State: AOJu0YxLXtYzDgJSKWWy5lLG+DesShbSXjjVVXuD+kFP5ys+yjY7l1td
 rXQtY228TA+x6hYndSP++gVyATU0jF7F4SbVl+yrcjNV5Yt9NlnYj/omXOWLZOeJlNlTFBo4Sbs
 sQ2i92cxpC24r+S6OIOPmT3Ti6LkOYtCkUyOAu89T9wTQ4avtPc9xKhZD
X-Google-Smtp-Source: AGHT+IGCjr1cbPqxWYap/688a2S/Mq4oDVhFLvdSG+8kTYvTa90l8WDA90D5AaNvObpC9eCqaAwBWljW+5eD
X-Received: by 2002:a17:902:c40a:b0:1f7:19b7:98bd with SMTP id
 d9443c01a7336-1f8625c00acmr81068705ad.6.1718475790680; 
 Sat, 15 Jun 2024 11:23:10 -0700 (PDT)
Received: from postal.iol.unh.edu (postal.iol.unh.edu.
 [2606:4100:3880:1234::84]) by smtp-relay.gmail.com with ESMTPS id
 d9443c01a7336-1f855ec7bf9sm2275085ad.91.2024.06.15.11.23.10
 (version=TLS1_2 cipher=ECDHE-ECDSA-AES128-GCM-SHA256 bits=128/128);
 Sat, 15 Jun 2024 11:23:10 -0700 (PDT)
X-Relaying-Domain: iol.unh.edu
Date: Sat, 15 Jun 2024 11:23:10 -0700 (PDT)
Message-ID: <666ddc0e.170a0220.861bb.f27fSMTPIN_ADDED_MISSING@mx.google.com>
Received: from [172.21.0.6] (unknown [172.18.0.240])
 by postal.iol.unh.edu (Postfix) with ESMTP id CA562605C373;
 Sat, 15 Jun 2024 14:23:09 -0400 (EDT)
Subject: |SUCCESS| pw141167-141169 [PATCH] [v2,3/3] event/sw: avoid snprintf 
From: dpdklab@iol.unh.edu
To: Test Report <test-report@dpdk.org>
Cc: dpdk-test-reports@iol.unh.edu
In-Reply-To: <20240615160215.117401-4-stephen@networkplumber.org>
References: <20240615160215.117401-4-stephen@networkplumber.org>
Content-Type: text/plain
X-BeenThere: test-report@dpdk.org
X-Mailman-Version: 2.1.29
Precedence: list
List-Id: automatic DPDK test reports <test-report.dpdk.org>
List-Unsubscribe: <https://mails.dpdk.org/options/test-report>,
 <mailto:test-report-request@dpdk.org?subject=unsubscribe>
List-Archive: <http://mails.dpdk.org/archives/test-report/>
List-Post: <mailto:test-report@dpdk.org>
List-Help: <mailto:test-report-request@dpdk.org?subject=help>
List-Subscribe: <https://mails.dpdk.org/listinfo/test-report>,
 <mailto:test-report-request@dpdk.org?subject=subscribe>
Errors-To: test-report-bounces@dpdk.org

Test-Label: iol-unit-arm64-testing
Test-Status: SUCCESS
http://dpdk.org/patch/141169

_Testing PASS_

Submitter: Stephen Hemminger <stephen@networkplumber.org>
Date: Saturday, June 15 2024 16:00:14 
DPDK git baseline: Repo:dpdk
  Branch: master
  CommitID:cef922c9e0c53b05a7b939116b386993570c9bf9

141167-141169 --> testing pass

Test environment and result as below:

+-----------------------------+----------------+--------------+---------------------------+------------------------------+
|         Environment         | dpdk_unit_test | lpm_autotest | cryptodev_sw_zuc_autotest | cryptodev_sw_snow3g_autotest |
+=============================+================+==============+===========================+==============================+
| 32-bit Ubuntu 20.04.4 (ARM) | PASS           | SKIPPED      | SKIPPED                   | SKIPPED                      |
+-----------------------------+----------------+--------------+---------------------------+------------------------------+
| Debian 11 (Buster) (ARM)    | PASS           | SKIPPED      | SKIPPED                   | SKIPPED                      |
+-----------------------------+----------------+--------------+---------------------------+------------------------------+
| Debian 12 (arm)             | PASS           | SKIPPED      | PASS                      | PASS                         |
+-----------------------------+----------------+--------------+---------------------------+------------------------------+
| Fedora 37 (ARM)             | PASS           | SKIPPED      | SKIPPED                   | SKIPPED                      |
+-----------------------------+----------------+--------------+---------------------------+------------------------------+
| Fedora 38 (ARM)             | PASS           | SKIPPED      | SKIPPED                   | SKIPPED                      |
+-----------------------------+----------------+--------------+---------------------------+------------------------------+
| CentOS Stream 9 (ARM)       | PASS           | SKIPPED      | SKIPPED                   | SKIPPED                      |
+-----------------------------+----------------+--------------+---------------------------+------------------------------+
| Fedora 40 (ARM)             | PASS           | SKIPPED      | SKIPPED                   | SKIPPED                      |
+-----------------------------+----------------+--------------+---------------------------+------------------------------+
| Fedora 39 (ARM)             | PASS           | SKIPPED      | SKIPPED                   | SKIPPED                      |
+-----------------------------+----------------+--------------+---------------------------+------------------------------+
| Fedora 39 (ARM Clang)       | PASS           | SKIPPED      | SKIPPED                   | SKIPPED                      |
+-----------------------------+----------------+--------------+---------------------------+------------------------------+
| Fedora 40 (ARM Clang)       | PASS           | SKIPPED      | SKIPPED                   | SKIPPED                      |
+-----------------------------+----------------+--------------+---------------------------+------------------------------+
| Ubuntu 20.04 ARM SVE        | SKIPPED        | PASS         | SKIPPED                   | SKIPPED                      |
+-----------------------------+----------------+--------------+---------------------------+------------------------------+


32-bit Ubuntu 20.04.4 (ARM)
	Kernel: 5.4.0-155-generic aarch64
	Compiler: gcc 9.4

Debian 11 (Buster) (ARM)
	Kernel: Container Host Kernel
	Compiler: gcc 10.2.1

Debian 12 (arm)
	Kernel: Container Host Kernel
	Compiler: gcc 12.2.0

Fedora 37 (ARM)
	Kernel: Depends on container host
	Compiler: gcc 12.3.1

Fedora 38 (ARM)
	Kernel: Depends on container host
	Compiler: gcc 13.2.1

CentOS Stream 9 (ARM)
	Kernel: Container Host Kernel
	Compiler: gcc 11.4.1

Fedora 40 (ARM)
	Kernel: Depends on container host
	Compiler: gcc 14.1.1

Fedora 39 (ARM)
	Kernel: Depends on container host
	Compiler: gcc 13.2.1

Fedora 39 (ARM Clang)
	Kernel: Depends on container host
	Compiler: clang 17.0.6

Fedora 40 (ARM Clang)
	Kernel: Depends on container host
	Compiler: clang 18.1.6

Ubuntu 20.04 ARM SVE
	Kernel: 5.4.0-167-generic
	Compiler: gcc (Ubuntu 10.5.0-1ubuntu1~20.04) 10.5.0

To view detailed results, visit:
https://lab.dpdk.org/results/dashboard/patchsets/30200/

UNH-IOL DPDK Community Lab

To manage your email subscriptions, visit: 
https://lab.dpdk.org/results/dashboard/preferences/subscriptions/