From mboxrd@z Thu Jan  1 00:00:00 1970
Return-Path: <test-report-bounces@dpdk.org>
Received: from mails.dpdk.org (mails.dpdk.org [217.70.189.124])
	by inbox.dpdk.org (Postfix) with ESMTP id 288104546C
	for <public@inbox.dpdk.org>; Sat, 15 Jun 2024 20:54:02 +0200 (CEST)
Received: from mails.dpdk.org (localhost [127.0.0.1])
	by mails.dpdk.org (Postfix) with ESMTP id 223DB402BC;
	Sat, 15 Jun 2024 20:54:02 +0200 (CEST)
Received: from mail-yb1-f227.google.com (mail-yb1-f227.google.com
 [209.85.219.227])
 by mails.dpdk.org (Postfix) with ESMTP id 1562C40294
 for <test-report@dpdk.org>; Sat, 15 Jun 2024 20:53:57 +0200 (CEST)
Received: by mail-yb1-f227.google.com with SMTP id
 3f1490d57ef6-dfdb6122992so3204949276.3
 for <test-report@dpdk.org>; Sat, 15 Jun 2024 11:53:57 -0700 (PDT)
DKIM-Signature: v=1; a=rsa-sha256; c=relaxed/relaxed;
 d=iol.unh.edu; s=unh-iol; t=1718477636; x=1719082436; darn=dpdk.org;
 h=references:in-reply-to:cc:to:from:subject:message-id:date:from:to
 :cc:subject:date:message-id:reply-to;
 bh=CmgskulAcHo37Lp2U7uUGI81rqQggg3Zz11E9IoqKV8=;
 b=fvwANS/sZPi0JMHMWqo+lbCfEddLOaddhIPsW6Jj6+D7DcePP7Wh56S3i6Rs7fm5uy
 byiX/m0TNm+EbUK3uNeGCLngXJNBCAVa9zbW7pvx1g0wf/aQ5yURhPwGWlLRZXy2FVks
 hVN1agsatX+9lrSysuKFSEPA2aWlIu9T9vPAY=
X-Google-DKIM-Signature: v=1; a=rsa-sha256; c=relaxed/relaxed;
 d=1e100.net; s=20230601; t=1718477636; x=1719082436;
 h=references:in-reply-to:cc:to:from:subject:message-id:date
 :x-gm-message-state:from:to:cc:subject:date:message-id:reply-to;
 bh=CmgskulAcHo37Lp2U7uUGI81rqQggg3Zz11E9IoqKV8=;
 b=FWplnYL+hVTKxpCdT5pSW0T5pabAY2JV6G7xLmKCukbGCphmtC4OsIGpaD8EYsMqpz
 N2oKcJB2sOU6E0KPM+seV921h/0G/5+ZpwCYKJPptXwUa440j3NlDJRFkHnnSMtGRri5
 9E4CSSa291KQxPVCSk/FgS7mGfNiAXpk7TqO9xB50lYdQsS1YoOx99qjp+F06t9VICqS
 mSQrQFM+g53+6qe+JMAtlhcA2WHsHd7iWu43rUBCS4xEBZbKAIU6h5/8cnEMk9bN1+gO
 Gb7VgMa052M/x0ebkgg86DVOKvUpuPto2BkrMuTam9IpwdOJ8ks5pS37MbXbnJ9tF69Y
 cWiw==
X-Gm-Message-State: AOJu0Yx+DFLho+rJPHNwzqnIFj2nzoDbLmHRqihSl2G1XHdWfn50q68a
 ns47xXE5HDtXi1NbKNShhlTthlipF+C6ify1hKe3Ia1koRmnt2Mb2lOP5jk0KAUDXNnBguGeuEZ
 9fdWSw/kwkx/k4o5AnDzAc5ikd1+SJahrDCoGhmoB
X-Google-Smtp-Source: AGHT+IHuEQepYOG/A1WrvjOKg3KED/ikU0GOcfVtIHG868yjFaq8fBDw1zv0xl81r3LNFP340KkD/Sh5/UQf
X-Received: by 2002:a25:f607:0:b0:dff:320f:edca with SMTP id
 3f1490d57ef6-dff320fefe0mr1417742276.18.1718477636400; 
 Sat, 15 Jun 2024 11:53:56 -0700 (PDT)
Received: from postal.iol.unh.edu (postal.iol.unh.edu. [132.177.123.84])
 by smtp-relay.gmail.com with ESMTPS id
 3f1490d57ef6-dff3daf2cf2sm1999276.32.2024.06.15.11.53.56
 (version=TLS1_2 cipher=ECDHE-ECDSA-AES128-GCM-SHA256 bits=128/128);
 Sat, 15 Jun 2024 11:53:56 -0700 (PDT)
X-Relaying-Domain: iol.unh.edu
Date: Sat, 15 Jun 2024 11:53:56 -0700 (PDT)
Message-ID: <666de344.050a0220.a1ace.00beSMTPIN_ADDED_MISSING@mx.google.com>
Received: from [172.21.0.6] (unknown [172.18.0.240])
 by postal.iol.unh.edu (Postfix) with ESMTP id 0A031605C373;
 Sat, 15 Jun 2024 14:53:56 -0400 (EDT)
Subject: |SUCCESS| pw141161-141166 [PATCH] [v1,6/6] app/crypto-perf: support 
From: dpdklab@iol.unh.edu
To: Test Report <test-report@dpdk.org>
Cc: dpdk-test-reports@iol.unh.edu
In-Reply-To: <20240615115309.2678-7-gmuthukrishn@marvell.com>
References: <20240615115309.2678-7-gmuthukrishn@marvell.com>
Content-Type: text/plain
X-BeenThere: test-report@dpdk.org
X-Mailman-Version: 2.1.29
Precedence: list
List-Id: automatic DPDK test reports <test-report.dpdk.org>
List-Unsubscribe: <https://mails.dpdk.org/options/test-report>,
 <mailto:test-report-request@dpdk.org?subject=unsubscribe>
List-Archive: <http://mails.dpdk.org/archives/test-report/>
List-Post: <mailto:test-report@dpdk.org>
List-Help: <mailto:test-report-request@dpdk.org?subject=help>
List-Subscribe: <https://mails.dpdk.org/listinfo/test-report>,
 <mailto:test-report-request@dpdk.org?subject=subscribe>
Errors-To: test-report-bounces@dpdk.org

Test-Label: iol-abi-testing
Test-Status: SUCCESS
http://dpdk.org/patch/141166

_Testing PASS_

Submitter: Gowrishankar Muthukrishnan <gmuthukrishn@marvell.com>
Date: Saturday, June 15 2024 11:53:07 
DPDK git baseline: Repo:dpdk
  Branch: master
  CommitID:6909b48776badc05542a410ebd34bcfec4c248bf

141161-141166 --> testing pass

Test environment and result as below:

+------------------+----------+
|   Environment    | abi_test |
+==================+==========+
| Debian Bullseye  | PASS     |
+------------------+----------+
| Fedora 38        | PASS     |
+------------------+----------+
| CentOS Stream 9  | PASS     |
+------------------+----------+
| Fedora 39        | PASS     |
+------------------+----------+
| Ubuntu 24.04     | PASS     |
+------------------+----------+
| CentOS Stream 8  | PASS     |
+------------------+----------+
| RHEL9            | PASS     |
+------------------+----------+
| Ubuntu 22.04     | PASS     |
+------------------+----------+
| Fedora 37        | PASS     |
+------------------+----------+
| RHEL8            | PASS     |
+------------------+----------+
| Debian 12        | PASS     |
+------------------+----------+
| Fedora 40        | PASS     |
+------------------+----------+
| openSUSE Leap 15 | PASS     |
+------------------+----------+


Debian Bullseye
	Kernel: 5.4.0-167-generic
	Compiler: gcc 10.2.1-6

Fedora 38
	Kernel: Depends on container host
	Compiler: clang 16.0.6

CentOS Stream 9
	Kernel: 5.4.0-167-generic
	Compiler: gcc 11.4.1 20230605

Fedora 39
	Kernel: Depends on container host
	Compiler: clang 17.0.6

Ubuntu 24.04
	Kernel: 5.4.0-167-generic
	Compiler: gcc 13.2.0

CentOS Stream 8
	Kernel: 5.4.0-167-generic
	Compiler: gcc 8.5.0 20210514

RHEL9
	Kernel: Depends on container host
	Compiler: gcc 11.4.1

Ubuntu 22.04
	Kernel: 5.4.0-167-generic
	Compiler: gcc 11.4.0

Fedora 37
	Kernel: Depends on container host system
	Compiler: gcc 12.3.1

RHEL8
	Kernel: 5.4.0-167-generic
	Compiler: gcc 8.5.0 20210514 (Red Hat 8.5.0-20)

Debian 12
	Kernel: Container Host Kernel
	Compiler: gcc 12.2.0

Fedora 40
	Kernel: Depends on container host
	Compiler: clang 18.1.6

openSUSE Leap 15
	Kernel: 5.4.0-167-generic
	Compiler: gcc 7.5.0

To view detailed results, visit:
https://lab.dpdk.org/results/dashboard/patchsets/30199/

UNH-IOL DPDK Community Lab

To manage your email subscriptions, visit: 
https://lab.dpdk.org/results/dashboard/preferences/subscriptions/