From mboxrd@z Thu Jan  1 00:00:00 1970
Return-Path: <test-report-bounces@dpdk.org>
Received: from mails.dpdk.org (mails.dpdk.org [217.70.189.124])
	by inbox.dpdk.org (Postfix) with ESMTP id 2C7C5424D1
	for <public@inbox.dpdk.org>; Sat, 15 Jun 2024 21:10:28 +0200 (CEST)
Received: from mails.dpdk.org (localhost [127.0.0.1])
	by mails.dpdk.org (Postfix) with ESMTP id 2527A402BC;
	Sat, 15 Jun 2024 21:10:28 +0200 (CEST)
Received: from mail-oo1-f97.google.com (mail-oo1-f97.google.com
 [209.85.161.97]) by mails.dpdk.org (Postfix) with ESMTP id 6DFBA40294
 for <test-report@dpdk.org>; Sat, 15 Jun 2024 21:10:26 +0200 (CEST)
Received: by mail-oo1-f97.google.com with SMTP id
 006d021491bc7-5b9778bb7c8so1619730eaf.3
 for <test-report@dpdk.org>; Sat, 15 Jun 2024 12:10:26 -0700 (PDT)
DKIM-Signature: v=1; a=rsa-sha256; c=relaxed/relaxed;
 d=iol.unh.edu; s=unh-iol; t=1718478625; x=1719083425; darn=dpdk.org;
 h=references:in-reply-to:cc:to:from:subject:message-id:date:from:to
 :cc:subject:date:message-id:reply-to;
 bh=HGdBG15RM8h3OMDqXYxG994MSznQN2O2SE4Uk3HkNag=;
 b=ILoQfQMZxpwZHXHk/fnZor0aIZzwIPy+gmJpQUl3LRDBhklcV0T8mKuDmrVnr02fQR
 jdxMA+c1uZ958c7NYICvspBomqe4IT8eZOMz1SCwVUyeLBZQhO43SfQrS6RVq8qOJZHy
 7K7H7OH33dKC/1Pxg7fyGgxmsTDriHyP5+h1A=
X-Google-DKIM-Signature: v=1; a=rsa-sha256; c=relaxed/relaxed;
 d=1e100.net; s=20230601; t=1718478625; x=1719083425;
 h=references:in-reply-to:cc:to:from:subject:message-id:date
 :x-gm-message-state:from:to:cc:subject:date:message-id:reply-to;
 bh=HGdBG15RM8h3OMDqXYxG994MSznQN2O2SE4Uk3HkNag=;
 b=PAE/xfBWGxb9+mOvxIZoNoejoxyYJVL5VMDFtXSp6+mjyLZktxlfYOs14y2P4+9eB6
 Csgy7yFbNSqzUTNxtyEErRAYaySjWthCBcjCJHXCu76HPQigv+Njf3ugNFPeRJ0BUWEt
 9b8kYzwmTvwa9KmXNC7jmJICw29lj2vC40ApKVzS250JgRw4Es5JHTc6IU8IBjsfqu2S
 ToMsE+GAzzCQDDhCF/LeIAMYtH9adkx58HrHbSD9wPomVqsIevlUv2IRdHmqk8XOd8vN
 11HZ9c4wFtLivQwEwuBCbGdrymUbVwQSUyPGprGhSagaxQ38OWwG2wR+NbXZqPXiB/cY
 ha7Q==
X-Gm-Message-State: AOJu0YycZoEADMYnk5qj+LASzTlzcwNf7f5wQDvj3WkKMv0Thj7FedmM
 HxmTWfxHsEFJIzQBlukH+BiQAqDlfUamzmVUJFLnJMOdVglOvpGUmydGAgpk70E5Q/8TX25cCdM
 jC/gxAp51RxXa7xYyyVMVt94SI1rXl8UQ1d+G0XhzXUKcM0a0FWrqtiky
X-Google-Smtp-Source: AGHT+IGhfmrNBwnNKPDSv8zK2lQD6HBzgMysC0vJlpL+Y5VtHQN1Xm59aNjdAhRdGTKLu/dcSZ57QM6Lo0dP
X-Received: by 2002:a05:6820:1693:b0:5ba:ffcb:c759 with SMTP id
 006d021491bc7-5bdadc3026bmr6825380eaf.4.1718478623617; 
 Sat, 15 Jun 2024 12:10:23 -0700 (PDT)
Received: from postal.iol.unh.edu (postal.iol.unh.edu.
 [2606:4100:3880:1234::84]) by smtp-relay.gmail.com with ESMTPS id
 006d021491bc7-5bd5e197e3esm211521eaf.12.2024.06.15.12.10.23
 (version=TLS1_2 cipher=ECDHE-ECDSA-AES128-GCM-SHA256 bits=128/128);
 Sat, 15 Jun 2024 12:10:23 -0700 (PDT)
X-Relaying-Domain: iol.unh.edu
Date: Sat, 15 Jun 2024 12:10:23 -0700 (PDT)
Message-ID: <666de71f.050a0220.b208d.dd50SMTPIN_ADDED_MISSING@mx.google.com>
Received: from [172.21.0.7] (unknown [172.18.0.240])
 by postal.iol.unh.edu (Postfix) with ESMTP id 1BC99605C373;
 Sat, 15 Jun 2024 15:10:23 -0400 (EDT)
Subject: |SUCCESS| pw141161-141166 [PATCH] [v1,6/6] app/crypto-perf: support 
From: dpdklab@iol.unh.edu
To: Test Report <test-report@dpdk.org>
Cc: dpdk-test-reports@iol.unh.edu
In-Reply-To: <20240615115309.2678-7-gmuthukrishn@marvell.com>
References: <20240615115309.2678-7-gmuthukrishn@marvell.com>
Content-Type: text/plain
X-BeenThere: test-report@dpdk.org
X-Mailman-Version: 2.1.29
Precedence: list
List-Id: automatic DPDK test reports <test-report.dpdk.org>
List-Unsubscribe: <https://mails.dpdk.org/options/test-report>,
 <mailto:test-report-request@dpdk.org?subject=unsubscribe>
List-Archive: <http://mails.dpdk.org/archives/test-report/>
List-Post: <mailto:test-report@dpdk.org>
List-Help: <mailto:test-report-request@dpdk.org?subject=help>
List-Subscribe: <https://mails.dpdk.org/listinfo/test-report>,
 <mailto:test-report-request@dpdk.org?subject=subscribe>
Errors-To: test-report-bounces@dpdk.org

Test-Label: iol-unit-amd64-testing
Test-Status: SUCCESS
http://dpdk.org/patch/141166

_Testing PASS_

Submitter: Gowrishankar Muthukrishnan <gmuthukrishn@marvell.com>
Date: Saturday, June 15 2024 11:53:07 
DPDK git baseline: Repo:dpdk
  Branch: master
  CommitID:6909b48776badc05542a410ebd34bcfec4c248bf

141161-141166 --> testing pass

Test environment and result as below:

+---------------------+----------------+
|     Environment     | dpdk_unit_test |
+=====================+================+
| Windows Server 2019 | PASS           |
+---------------------+----------------+
| Windows Server 2022 | PASS           |
+---------------------+----------------+
| Debian 12           | PASS           |
+---------------------+----------------+
| CentOS Stream 8     | PASS           |
+---------------------+----------------+
| Debian Bullseye     | PASS           |
+---------------------+----------------+
| CentOS Stream 9     | PASS           |
+---------------------+----------------+
| Fedora 38           | PASS           |
+---------------------+----------------+
| Fedora 37           | PASS           |
+---------------------+----------------+
| Fedora 39           | PASS           |
+---------------------+----------------+
| Fedora 40           | PASS           |
+---------------------+----------------+
| Ubuntu 20.04        | PASS           |
+---------------------+----------------+


Windows Server 2019
	Kernel: 10.0.17763
	Compiler: clang 14.0 and gcc 8.1.0 (MinGW)

Windows Server 2022
	Kernel: 10.0.20348.2031
	Compiler: clang 15.0.7, gcc 8.1.0 (MinGW), and MSVC VS 17.9

Debian 12
	Kernel: Container Host Kernel
	Compiler: gcc 12.2.0

CentOS Stream 8
	Kernel: 5.4.0-167-generic
	Compiler: gcc 8.5.0 20210514

Debian Bullseye
	Kernel: 5.4.0-167-generic
	Compiler: gcc 10.2.1-6

CentOS Stream 9
	Kernel: 5.4.0-167-generic
	Compiler: gcc 11.4.1 20230605

Fedora 38
	Kernel: Depends on container host
	Compiler: gcc 13.2.1

Fedora 37
	Kernel: Depends on container host system
	Compiler: gcc 12.3.1

Fedora 39
	Kernel: Depends on container host
	Compiler: clang 17.0.6

Fedora 40
	Kernel: Depends on container host
	Compiler: clang 18.1.6

Ubuntu 20.04
	Kernel: 5.4.0-167-generic
	Compiler: gcc 9.4.0-1ubuntu1~20.04.1

To view detailed results, visit:
https://lab.dpdk.org/results/dashboard/patchsets/30199/

UNH-IOL DPDK Community Lab

To manage your email subscriptions, visit: 
https://lab.dpdk.org/results/dashboard/preferences/subscriptions/