From mboxrd@z Thu Jan  1 00:00:00 1970
Return-Path: <test-report-bounces@dpdk.org>
Received: from mails.dpdk.org (mails.dpdk.org [217.70.189.124])
	by inbox.dpdk.org (Postfix) with ESMTP id 1BCA545479
	for <public@inbox.dpdk.org>; Sun, 16 Jun 2024 10:03:05 +0200 (CEST)
Received: from mails.dpdk.org (localhost [127.0.0.1])
	by mails.dpdk.org (Postfix) with ESMTP id 1FF7940270;
	Sun, 16 Jun 2024 10:03:05 +0200 (CEST)
Received: from mail-yb1-f227.google.com (mail-yb1-f227.google.com
 [209.85.219.227])
 by mails.dpdk.org (Postfix) with ESMTP id 2347A40042
 for <test-report@dpdk.org>; Sun, 16 Jun 2024 10:03:04 +0200 (CEST)
Received: by mail-yb1-f227.google.com with SMTP id
 3f1490d57ef6-dfdff9771f8so3618767276.1
 for <test-report@dpdk.org>; Sun, 16 Jun 2024 01:03:04 -0700 (PDT)
DKIM-Signature: v=1; a=rsa-sha256; c=relaxed/relaxed;
 d=iol.unh.edu; s=unh-iol; t=1718524983; x=1719129783; darn=dpdk.org;
 h=references:in-reply-to:cc:to:from:subject:message-id:date:from:to
 :cc:subject:date:message-id:reply-to;
 bh=YzLz3G+Eq0oHXvKRfaDNYU2PUIo4xD19WMlZqdKjE6c=;
 b=Qm4CNv4TIkJpfwkPr58fEtVMp2TIhZtWnmQ65foVuHotdis9u02XKp8fl8rUO4K2+W
 2+D9adsFh5I/VvnqKYPj/zeNR5NZIdrbD+yTnDIhYTUAvRqpSMS/7h+OPRnVETV9HdLU
 XISafKMyNd+PcDd/GDy8813RsgrZXR9HFpaCo=
X-Google-DKIM-Signature: v=1; a=rsa-sha256; c=relaxed/relaxed;
 d=1e100.net; s=20230601; t=1718524983; x=1719129783;
 h=references:in-reply-to:cc:to:from:subject:message-id:date
 :x-gm-message-state:from:to:cc:subject:date:message-id:reply-to;
 bh=YzLz3G+Eq0oHXvKRfaDNYU2PUIo4xD19WMlZqdKjE6c=;
 b=g4bI58Wvcq7D8D+NePR1uELskCwh7DW/4oGEQAbgxmMUqrJ6pUH2si3N1JSwuvQtZ0
 6zzStoBY9/8ZrDjBEzVDA1u0ffzB3lCrOEwUQY+KS8w/sWSS6Vct2CGE95Y1PICmIoXY
 jwMEF49OUD4eZ9gdwIan2Crtv3WWLAANl5825exyFsgOnzhQCklU0UvQY4wWtLGVyDqn
 yFo6IIbZ9JmlP24guLcG0qeGxv700ltpzoPVr4TDxSc7PN6AY3HkDI12tp2c+BangUTX
 x5zNxGksSx5nVvTLt/Hkw9xsFHJttmi3If7TBVDK9tR1VOZZVmiXoNjVrHbXq255AiWM
 92tA==
X-Gm-Message-State: AOJu0Yz7XmP15xhIhqbnb9m9+59bmooHIGlPG1kszxwHDjaUHukO16UE
 R3LU49RHhdX7cUv4orIflHofZcbc0q+NTE5YFpkm0HAeOacpFT0MY8BW2Ce6ztKJ2DAV3YPbd8u
 abK1evrPKXlBU1EOGjyERkG/QRfPdPGyvccfbOMleONzLZbOAfdCceAzk
X-Google-Smtp-Source: AGHT+IHnRfXPXZnaljkt6KGvIDwl7Smi9p9cl5SO2uvpZ2vc519wlD7DfG4KNAg6e83QKc84vUgMnDUfHym3
X-Received: by 2002:a25:ab04:0:b0:dee:4e47:808c with SMTP id
 3f1490d57ef6-dff153b1c88mr6403160276.30.1718524983448; 
 Sun, 16 Jun 2024 01:03:03 -0700 (PDT)
Received: from postal.iol.unh.edu (postal.iol.unh.edu.
 [2606:4100:3880:1234::84]) by smtp-relay.gmail.com with ESMTPS id
 3f1490d57ef6-dff247d5d9fsm201010276.12.2024.06.16.01.03.03
 (version=TLS1_2 cipher=ECDHE-ECDSA-AES128-GCM-SHA256 bits=128/128);
 Sun, 16 Jun 2024 01:03:03 -0700 (PDT)
X-Relaying-Domain: iol.unh.edu
Date: Sun, 16 Jun 2024 01:03:03 -0700 (PDT)
Message-ID: <666e9c37.050a0220.1391f.bfefSMTPIN_ADDED_MISSING@mx.google.com>
Received: from [172.21.0.7] (unknown [172.18.0.240])
 by postal.iol.unh.edu (Postfix) with ESMTP id 141F46050A9C;
 Sun, 16 Jun 2024 04:03:03 -0400 (EDT)
Subject: |SUCCESS| pw141170-141173 [PATCH] [v1,4/4] test/crypto: add modex te
From: dpdklab@iol.unh.edu
To: Test Report <test-report@dpdk.org>
Cc: dpdk-test-reports@iol.unh.edu
In-Reply-To: <20240616044223.2841-5-gmuthukrishn@marvell.com>
References: <20240616044223.2841-5-gmuthukrishn@marvell.com>
Content-Type: text/plain
X-BeenThere: test-report@dpdk.org
X-Mailman-Version: 2.1.29
Precedence: list
List-Id: automatic DPDK test reports <test-report.dpdk.org>
List-Unsubscribe: <https://mails.dpdk.org/options/test-report>,
 <mailto:test-report-request@dpdk.org?subject=unsubscribe>
List-Archive: <http://mails.dpdk.org/archives/test-report/>
List-Post: <mailto:test-report@dpdk.org>
List-Help: <mailto:test-report-request@dpdk.org?subject=help>
List-Subscribe: <https://mails.dpdk.org/listinfo/test-report>,
 <mailto:test-report-request@dpdk.org?subject=subscribe>
Errors-To: test-report-bounces@dpdk.org

Test-Label: iol-abi-testing
Test-Status: SUCCESS
http://dpdk.org/patch/141173

_Testing PASS_

Submitter: Gowrishankar Muthukrishnan <gmuthukrishn@marvell.com>
Date: Sunday, June 16 2024 04:42:20 
DPDK git baseline: Repo:dpdk
  Branch: master
  CommitID:6909b48776badc05542a410ebd34bcfec4c248bf

141170-141173 --> testing pass

Test environment and result as below:

+------------------+----------+
|   Environment    | abi_test |
+==================+==========+
| CentOS Stream 8  | PASS     |
+------------------+----------+
| Debian Bullseye  | PASS     |
+------------------+----------+
| Fedora 39        | PASS     |
+------------------+----------+
| CentOS Stream 9  | PASS     |
+------------------+----------+
| Fedora 40        | PASS     |
+------------------+----------+
| Fedora 38        | PASS     |
+------------------+----------+
| Fedora 37        | PASS     |
+------------------+----------+
| Debian 12        | PASS     |
+------------------+----------+
| RHEL8            | PASS     |
+------------------+----------+
| openSUSE Leap 15 | PASS     |
+------------------+----------+
| RHEL9            | PASS     |
+------------------+----------+
| Ubuntu 22.04     | PASS     |
+------------------+----------+
| Ubuntu 24.04     | PASS     |
+------------------+----------+


CentOS Stream 8
	Kernel: 5.4.0-167-generic
	Compiler: gcc 8.5.0 20210514

Debian Bullseye
	Kernel: 5.4.0-167-generic
	Compiler: gcc 10.2.1-6

Fedora 39
	Kernel: Depends on container host
	Compiler: gcc 13.2.1

CentOS Stream 9
	Kernel: 5.4.0-167-generic
	Compiler: gcc 11.4.1 20230605

Fedora 40
	Kernel: Depends on container host
	Compiler: clang 18.1.6

Fedora 38
	Kernel: Depends on container host
	Compiler: clang 16.0.6

Fedora 37
	Kernel: Depends on container host system
	Compiler: gcc 12.3.1

Debian 12
	Kernel: Container Host Kernel
	Compiler: gcc 12.2.0

RHEL8
	Kernel: 5.4.0-167-generic
	Compiler: gcc 8.5.0 20210514 (Red Hat 8.5.0-20)

openSUSE Leap 15
	Kernel: 5.4.0-167-generic
	Compiler: gcc 7.5.0

RHEL9
	Kernel: Depends on container host
	Compiler: gcc 11.4.1

Ubuntu 22.04
	Kernel: 5.4.0-167-generic
	Compiler: gcc 11.4.0

Ubuntu 24.04
	Kernel: 5.4.0-167-generic
	Compiler: gcc 13.2.0

To view detailed results, visit:
https://lab.dpdk.org/results/dashboard/patchsets/30201/

UNH-IOL DPDK Community Lab

To manage your email subscriptions, visit: 
https://lab.dpdk.org/results/dashboard/preferences/subscriptions/