From mboxrd@z Thu Jan  1 00:00:00 1970
Return-Path: <test-report-bounces@dpdk.org>
Received: from mails.dpdk.org (mails.dpdk.org [217.70.189.124])
	by inbox.dpdk.org (Postfix) with ESMTP id 89F344547F
	for <public@inbox.dpdk.org>; Mon, 17 Jun 2024 10:09:18 +0200 (CEST)
Received: from mails.dpdk.org (localhost [127.0.0.1])
	by mails.dpdk.org (Postfix) with ESMTP id 842A0402AC;
	Mon, 17 Jun 2024 10:09:18 +0200 (CEST)
Received: from mail-pg1-f227.google.com (mail-pg1-f227.google.com
 [209.85.215.227])
 by mails.dpdk.org (Postfix) with ESMTP id 1B6CC40263
 for <test-report@dpdk.org>; Mon, 17 Jun 2024 10:09:17 +0200 (CEST)
Received: by mail-pg1-f227.google.com with SMTP id
 41be03b00d2f7-6e41550ae5bso2891958a12.3
 for <test-report@dpdk.org>; Mon, 17 Jun 2024 01:09:17 -0700 (PDT)
DKIM-Signature: v=1; a=rsa-sha256; c=relaxed/relaxed;
 d=iol.unh.edu; s=unh-iol; t=1718611756; x=1719216556; darn=dpdk.org;
 h=references:in-reply-to:cc:to:from:subject:message-id:date:from:to
 :cc:subject:date:message-id:reply-to;
 bh=Vwh36ywpTXK2Hwj7GSdOdTauANUNOBLhPXJjO/3x5N4=;
 b=ZTkBCC1q2fNp4xePy0vFmbgiTT/saDliG/XjYAPOVlUX+KDAn+DREE7SmBJxrVbaZ8
 6oleEIWklQ+JNlxyUOVNlbS35OtFI++aLF/E7Xa2Qxs4N3ByxgGabCagirs6YFsq679E
 iX3e3UuUd0pC6b3BeWpJQPkps0fzydgmRSDts=
X-Google-DKIM-Signature: v=1; a=rsa-sha256; c=relaxed/relaxed;
 d=1e100.net; s=20230601; t=1718611756; x=1719216556;
 h=references:in-reply-to:cc:to:from:subject:message-id:date
 :x-gm-message-state:from:to:cc:subject:date:message-id:reply-to;
 bh=Vwh36ywpTXK2Hwj7GSdOdTauANUNOBLhPXJjO/3x5N4=;
 b=h4HlHAlnLLTDgDXbhpLdDBWFqMZsrMfRJ09PtY5VFi2gvCw3iqaDBMUIN2Wk2rjRph
 7ovnYN9V41LAOOuy3Q8NLQQaCrnNwUDlQAALUCrCgtw7wvHSegP9ckZHMV9cimj5jriz
 fuQpz2gmnmQGzlrx9ekK3bLvuVKHNOEr1XLh2VBRgIei+OF0UJH2tsveoQ5r+8KVd1w/
 p1b3YVPaxNgnsvIiDOcVSIEYz0zZFcgrKQU93J77OHPty0QlORmPIQnOSgQY/aoU9dVf
 sTKt8tT1Lfm1EW2z0p0evCSU0h21Co4x4WcNn1xJEkv+zL/dFwRcWj+TYpWnFzMGPAek
 /dlw==
X-Gm-Message-State: AOJu0YyTaB4sdzx2WcBjRT9QfJ1L+DiYd9xqNqqT2wg6bT5AjJYhPEOV
 Mj8Y0b4E0WIh22txNuLIoSecM9zxhSTS04bfIY/v1Z7rJNLKw3ZuqL9ZKXw60Kd7kJ2/OsIT01o
 /7VIa87gC8pB1Kzo/j7gmrBHGQmuwpK4VYxthhr0o
X-Google-Smtp-Source: AGHT+IHTI26zb7aDk1qQn6AUGE/oFpLwpfWdOeOUceAsHOe3S5N7FbdbHTOykoO0Ko0BVyEpp3C6YnzmJwb8
X-Received: by 2002:a17:90a:ba05:b0:2c5:22a5:fc78 with SMTP id
 98e67ed59e1d1-2c522a6049cmr1935271a91.21.1718611756044; 
 Mon, 17 Jun 2024 01:09:16 -0700 (PDT)
Received: from postal.iol.unh.edu (postal.iol.unh.edu. [132.177.123.84])
 by smtp-relay.gmail.com with ESMTPS id
 98e67ed59e1d1-2c4c466ff62sm514875a91.13.2024.06.17.01.09.15
 (version=TLS1_2 cipher=ECDHE-ECDSA-AES128-GCM-SHA256 bits=128/128);
 Mon, 17 Jun 2024 01:09:16 -0700 (PDT)
X-Relaying-Domain: iol.unh.edu
Date: Mon, 17 Jun 2024 01:09:16 -0700 (PDT)
Message-ID: <666fef2c.170a0220.41ddc.2da1SMTPIN_ADDED_MISSING@mx.google.com>
Received: from [172.21.0.6] (unknown [172.18.0.240])
 by postal.iol.unh.edu (Postfix) with ESMTP id 22D35605C373;
 Mon, 17 Jun 2024 04:09:15 -0400 (EDT)
Subject: |SUCCESS| pw141175-141181 [PATCH] [7/7] test/security: use single se
From: dpdklab@iol.unh.edu
To: Test Report <test-report@dpdk.org>
Cc: dpdk-test-reports@iol.unh.edu
In-Reply-To: <20240617055841.2359729-8-asasidharan@marvell.com>
References: <20240617055841.2359729-8-asasidharan@marvell.com>
Content-Type: text/plain
X-BeenThere: test-report@dpdk.org
X-Mailman-Version: 2.1.29
Precedence: list
List-Id: automatic DPDK test reports <test-report.dpdk.org>
List-Unsubscribe: <https://mails.dpdk.org/options/test-report>,
 <mailto:test-report-request@dpdk.org?subject=unsubscribe>
List-Archive: <http://mails.dpdk.org/archives/test-report/>
List-Post: <mailto:test-report@dpdk.org>
List-Help: <mailto:test-report-request@dpdk.org?subject=help>
List-Subscribe: <https://mails.dpdk.org/listinfo/test-report>,
 <mailto:test-report-request@dpdk.org?subject=subscribe>
Errors-To: test-report-bounces@dpdk.org

Test-Label: iol-unit-arm64-testing
Test-Status: SUCCESS
http://dpdk.org/patch/141181

_Testing PASS_

Submitter: Aakash Sasidharan <asasidharan@marvell.com>
Date: Monday, June 17 2024 05:58:41 
DPDK git baseline: Repo:dpdk
  Branch: master
  CommitID:6909b48776badc05542a410ebd34bcfec4c248bf

141175-141181 --> testing pass

Test environment and result as below:

+-----------------------------+----------------+------------------------------+--------------+---------------------------+
|         Environment         | dpdk_unit_test | cryptodev_sw_snow3g_autotest | lpm_autotest | cryptodev_sw_zuc_autotest |
+=============================+================+==============================+==============+===========================+
| Debian 11 (Buster) (ARM)    | PASS           | SKIPPED                      | SKIPPED      | SKIPPED                   |
+-----------------------------+----------------+------------------------------+--------------+---------------------------+
| CentOS Stream 9 (ARM)       | PASS           | SKIPPED                      | SKIPPED      | SKIPPED                   |
+-----------------------------+----------------+------------------------------+--------------+---------------------------+
| Debian 12 (arm)             | PASS           | PASS                         | SKIPPED      | PASS                      |
+-----------------------------+----------------+------------------------------+--------------+---------------------------+
| Fedora 38 (ARM)             | PASS           | SKIPPED                      | SKIPPED      | SKIPPED                   |
+-----------------------------+----------------+------------------------------+--------------+---------------------------+
| Fedora 39 (ARM)             | PASS           | SKIPPED                      | SKIPPED      | SKIPPED                   |
+-----------------------------+----------------+------------------------------+--------------+---------------------------+
| Fedora 37 (ARM)             | PASS           | SKIPPED                      | SKIPPED      | SKIPPED                   |
+-----------------------------+----------------+------------------------------+--------------+---------------------------+
| 32-bit Ubuntu 20.04.4 (ARM) | PASS           | SKIPPED                      | SKIPPED      | SKIPPED                   |
+-----------------------------+----------------+------------------------------+--------------+---------------------------+
| Fedora 40 (ARM)             | PASS           | SKIPPED                      | SKIPPED      | SKIPPED                   |
+-----------------------------+----------------+------------------------------+--------------+---------------------------+
| Fedora 38 (ARM Clang)       | PASS           | SKIPPED                      | SKIPPED      | SKIPPED                   |
+-----------------------------+----------------+------------------------------+--------------+---------------------------+
| RHEL9 (ARM)                 | PASS           | SKIPPED                      | SKIPPED      | SKIPPED                   |
+-----------------------------+----------------+------------------------------+--------------+---------------------------+
| Fedora 39 (ARM Clang)       | PASS           | SKIPPED                      | SKIPPED      | SKIPPED                   |
+-----------------------------+----------------+------------------------------+--------------+---------------------------+
| Ubuntu 22.04 (ARM)          | PASS           | SKIPPED                      | SKIPPED      | SKIPPED                   |
+-----------------------------+----------------+------------------------------+--------------+---------------------------+
| Ubuntu 20.04 ARM SVE        | SKIPPED        | SKIPPED                      | PASS         | SKIPPED                   |
+-----------------------------+----------------+------------------------------+--------------+---------------------------+


Debian 11 (Buster) (ARM)
	Kernel: Container Host Kernel
	Compiler: gcc 10.2.1

CentOS Stream 9 (ARM)
	Kernel: Container Host Kernel
	Compiler: gcc 11.4.1

Debian 12 (arm)
	Kernel: Container Host Kernel
	Compiler: gcc 12.2.0

Fedora 38 (ARM)
	Kernel: Depends on container host
	Compiler: gcc 13.2.1

Fedora 39 (ARM)
	Kernel: Depends on container host
	Compiler: gcc 13.2.1

Fedora 37 (ARM)
	Kernel: Depends on container host
	Compiler: gcc 12.3.1

32-bit Ubuntu 20.04.4 (ARM)
	Kernel: 5.4.0-155-generic aarch64
	Compiler: gcc 9.4

Fedora 40 (ARM)
	Kernel: Depends on container host
	Compiler: gcc 14.1.1

Fedora 38 (ARM Clang)
	Kernel: Depends on container host
	Compiler: clang 16.0.6

RHEL9 (ARM)
	Kernel: Depends on container host
	Compiler: gcc 11.4.1

Fedora 39 (ARM Clang)
	Kernel: Depends on container host
	Compiler: clang 17.0.6

Ubuntu 22.04 (ARM)
	Kernel: Container Host Kernel
	Compiler: gcc 11.4.0

Ubuntu 20.04 ARM SVE
	Kernel: 5.4.0-167-generic
	Compiler: gcc (Ubuntu 10.5.0-1ubuntu1~20.04) 10.5.0

To view detailed results, visit:
https://lab.dpdk.org/results/dashboard/patchsets/30203/

UNH-IOL DPDK Community Lab

To manage your email subscriptions, visit: 
https://lab.dpdk.org/results/dashboard/preferences/subscriptions/