From mboxrd@z Thu Jan  1 00:00:00 1970
Return-Path: <test-report-bounces@dpdk.org>
Received: from mails.dpdk.org (mails.dpdk.org [217.70.189.124])
	by inbox.dpdk.org (Postfix) with ESMTP id E48B04547F
	for <public@inbox.dpdk.org>; Mon, 17 Jun 2024 10:12:30 +0200 (CEST)
Received: from mails.dpdk.org (localhost [127.0.0.1])
	by mails.dpdk.org (Postfix) with ESMTP id E012040E20;
	Mon, 17 Jun 2024 10:12:30 +0200 (CEST)
Received: from mail-oo1-f99.google.com (mail-oo1-f99.google.com
 [209.85.161.99]) by mails.dpdk.org (Postfix) with ESMTP id 5EEDE402AC
 for <test-report@dpdk.org>; Mon, 17 Jun 2024 10:12:29 +0200 (CEST)
Received: by mail-oo1-f99.google.com with SMTP id
 006d021491bc7-5b97a9a9b4bso1992801eaf.0
 for <test-report@dpdk.org>; Mon, 17 Jun 2024 01:12:29 -0700 (PDT)
DKIM-Signature: v=1; a=rsa-sha256; c=relaxed/relaxed;
 d=iol.unh.edu; s=unh-iol; t=1718611948; x=1719216748; darn=dpdk.org;
 h=references:in-reply-to:cc:to:from:subject:message-id:date:from:to
 :cc:subject:date:message-id:reply-to;
 bh=KIb8WNFGkjDr62DsDIdA+eVCZt251SM3688bgzkRxJo=;
 b=J9r7iaWycNuRULAnIYJZc4xDTc3WMU5MrUy7V1FEt5OekYPQiPPRZ2k53pqcpHH1dj
 LRALlIb+Y3OwYHyAavCx1Y4S9Kp74lwwPn9tqOv4zeO14BFk8xBLDrOr6iCc66DUTh7y
 r77ojUQHAqNuJjK7gzT+SmXY4E6lnvlcY+620=
X-Google-DKIM-Signature: v=1; a=rsa-sha256; c=relaxed/relaxed;
 d=1e100.net; s=20230601; t=1718611948; x=1719216748;
 h=references:in-reply-to:cc:to:from:subject:message-id:date
 :x-gm-message-state:from:to:cc:subject:date:message-id:reply-to;
 bh=KIb8WNFGkjDr62DsDIdA+eVCZt251SM3688bgzkRxJo=;
 b=fvenVOvow+O1Ti8nDjBlRUYE+JKe0TkZHe2pg3rC+cR3eLV3N4D/C1+WHvKXHo4luQ
 4SjE0tQS/bHyFe0WygNoBzgcn6dI9V1iNkYv7L8TlooA6wODyPEVyMQ/DLKBQwXkU7kz
 ouzQLofRCUZYen2dctnpl8JcxFBaUKazqf+KLgbYus5KekLHoaoskjVxkEy0pJHl+r3M
 jzyccnorEsEx0kPNtEaGDe9C6dHbFe26eB/qS6kijPcZ5Y+G3e3/lVRkwsBQgD3ikkvN
 AW3ksZrR5fHXm3N/9Udz19DhhfEerFc1QQf8Ugs3xS4UBekQT72STVPcyQI0mnjmlBt1
 OTQg==
X-Gm-Message-State: AOJu0YxhRxj00G8+mjdcy3odZtQX6Vo0Icb6pynEGOydUo0+nrtku8OA
 0vsqXNFQDC14j3B3kze/EMZwGK3XblxGl7WcoHs73cGYvscBLsbpCTuk65sg/q1dKHxDs3zIKKj
 sK9mWhocUafX+yTABFbAKmevc9OddFny9q3TmQdI4
X-Google-Smtp-Source: AGHT+IHuv2SuHCR7Uo4MBjEVFQFEfj/NQ2PgiJet+3EjTrE+/IBkKcGFq5esqRWcVl4v5UGe+KXNWONwVIgV
X-Received: by 2002:a05:6358:9148:b0:186:b3e5:abb2 with SMTP id
 e5c5f4694b2df-19fb501aad1mr1086952355d.22.1718611948527; 
 Mon, 17 Jun 2024 01:12:28 -0700 (PDT)
Received: from postal.iol.unh.edu (postal.iol.unh.edu. [132.177.123.84])
 by smtp-relay.gmail.com with ESMTPS id
 41be03b00d2f7-6fedcc4a360sm345420a12.5.2024.06.17.01.12.28
 (version=TLS1_2 cipher=ECDHE-ECDSA-AES128-GCM-SHA256 bits=128/128);
 Mon, 17 Jun 2024 01:12:28 -0700 (PDT)
X-Relaying-Domain: iol.unh.edu
Date: Mon, 17 Jun 2024 01:12:28 -0700 (PDT)
Message-ID: <666fefec.630a0220.789f6.7211SMTPIN_ADDED_MISSING@mx.google.com>
Received: from [172.17.0.2] (unknown [172.18.0.217])
 by postal.iol.unh.edu (Postfix) with ESMTP id B9D6A605C373;
 Mon, 17 Jun 2024 04:12:27 -0400 (EDT)
Subject: |SUCCESS| pw141175-141181 [PATCH] [7/7] test/security: use single se
From: dpdklab@iol.unh.edu
To: Test Report <test-report@dpdk.org>
Cc: dpdk-test-reports@iol.unh.edu
In-Reply-To: <20240617055841.2359729-8-asasidharan@marvell.com>
References: <20240617055841.2359729-8-asasidharan@marvell.com>
Content-Type: text/plain
X-BeenThere: test-report@dpdk.org
X-Mailman-Version: 2.1.29
Precedence: list
List-Id: automatic DPDK test reports <test-report.dpdk.org>
List-Unsubscribe: <https://mails.dpdk.org/options/test-report>,
 <mailto:test-report-request@dpdk.org?subject=unsubscribe>
List-Archive: <http://mails.dpdk.org/archives/test-report/>
List-Post: <mailto:test-report@dpdk.org>
List-Help: <mailto:test-report-request@dpdk.org?subject=help>
List-Subscribe: <https://mails.dpdk.org/listinfo/test-report>,
 <mailto:test-report-request@dpdk.org?subject=subscribe>
Errors-To: test-report-bounces@dpdk.org

Test-Label: iol-compile-arm64-testing
Test-Status: SUCCESS
http://dpdk.org/patch/141181

_Testing PASS_

Submitter: Aakash Sasidharan <asasidharan@marvell.com>
Date: Monday, June 17 2024 05:58:41 
DPDK git baseline: Repo:dpdk
  Branch: master
  CommitID:6909b48776badc05542a410ebd34bcfec4c248bf

141175-141181 --> testing pass

Test environment and result as below:

+----------------------------------------+--------------------+
|              Environment               | dpdk_meson_compile |
+========================================+====================+
| Ubuntu 20.04 ARM SVE                   | PASS               |
+----------------------------------------+--------------------+
| Debian 12 with MUSDK                   | PASS               |
+----------------------------------------+--------------------+
| RHEL9 (ARM)                            | PASS               |
+----------------------------------------+--------------------+
| Fedora 37 (ARM)                        | PASS               |
+----------------------------------------+--------------------+
| Fedora 39 (ARM)                        | PASS               |
+----------------------------------------+--------------------+
| Ubuntu 20.04 (ARM)                     | PASS               |
+----------------------------------------+--------------------+
| Ubuntu 24.04 (ARM)                     | PASS               |
+----------------------------------------+--------------------+
| Ubuntu 22.04 (ARM)                     | PASS               |
+----------------------------------------+--------------------+
| Fedora 40 (ARM)                        | PASS               |
+----------------------------------------+--------------------+
| CentOS Stream 9 (ARM)                  | PASS               |
+----------------------------------------+--------------------+
| Debian 11 (Buster) (ARM)               | PASS               |
+----------------------------------------+--------------------+
| Ubuntu 20.04 aarch32 GCC Cross Compile | PASS               |
+----------------------------------------+--------------------+
| Debian 12 (arm)                        | PASS               |
+----------------------------------------+--------------------+
| Fedora 38 (ARM)                        | PASS               |
+----------------------------------------+--------------------+
| Ubuntu 20.04 ARM Clang Cross Compile   | PASS               |
+----------------------------------------+--------------------+
| Fedora 40 (ARM Clang)                  | PASS               |
+----------------------------------------+--------------------+


Ubuntu 20.04 ARM SVE
	Kernel: 5.4.0-167-generic
	Compiler: gcc (Ubuntu 10.5.0-1ubuntu1~20.04) 10.5.0

Debian 12 with MUSDK
	Kernel: Container Host Kernel
	Compiler: gcc 12.2.0

RHEL9 (ARM)
	Kernel: Depends on container host
	Compiler: gcc 11.4.1

Fedora 37 (ARM)
	Kernel: Depends on container host
	Compiler: gcc 12.3.1

Fedora 39 (ARM)
	Kernel: Depends on container host
	Compiler: gcc 13.2.1

Ubuntu 20.04 (ARM)
	Kernel: Container Host Kernel
	Compiler: gcc 9.4.0

Ubuntu 24.04 (ARM)
	Kernel: 5.4.0-167-generic
	Compiler: gcc 13.2.0

Ubuntu 22.04 (ARM)
	Kernel: Container Host Kernel
	Compiler: gcc 11.4.0

Fedora 40 (ARM)
	Kernel: Depends on container host
	Compiler: gcc 14.1.1

CentOS Stream 9 (ARM)
	Kernel: Container Host Kernel
	Compiler: gcc 11.4.1

Debian 11 (Buster) (ARM)
	Kernel: Container Host Kernel
	Compiler: gcc 10.2.1

Ubuntu 20.04 aarch32 GCC Cross Compile
	Kernel: 5.4.0-167-generic
	Compiler: gcc 9.4.0

Debian 12 (arm)
	Kernel: Container Host Kernel
	Compiler: gcc 12.2.0

Fedora 38 (ARM)
	Kernel: Depends on container host
	Compiler: gcc 13.2.1

Ubuntu 20.04 ARM Clang Cross Compile
	Kernel: 5.4.0-72-generic
	Compiler: clang 10.0.0-4ubuntu1

Fedora 40 (ARM Clang)
	Kernel: Depends on container host
	Compiler: clang 18.1.6

To view detailed results, visit:
https://lab.dpdk.org/results/dashboard/patchsets/30203/

UNH-IOL DPDK Community Lab

To manage your email subscriptions, visit: 
https://lab.dpdk.org/results/dashboard/preferences/subscriptions/