From mboxrd@z Thu Jan  1 00:00:00 1970
Return-Path: <test-report-bounces@dpdk.org>
Received: from mails.dpdk.org (mails.dpdk.org [217.70.189.124])
	by inbox.dpdk.org (Postfix) with ESMTP id 8493545480
	for <public@inbox.dpdk.org>; Mon, 17 Jun 2024 12:00:38 +0200 (CEST)
Received: from mails.dpdk.org (localhost [127.0.0.1])
	by mails.dpdk.org (Postfix) with ESMTP id 6BC59402CA;
	Mon, 17 Jun 2024 12:00:38 +0200 (CEST)
Received: from mail-pl1-f225.google.com (mail-pl1-f225.google.com
 [209.85.214.225])
 by mails.dpdk.org (Postfix) with ESMTP id 22C65402AC
 for <test-report@dpdk.org>; Mon, 17 Jun 2024 12:00:37 +0200 (CEST)
Received: by mail-pl1-f225.google.com with SMTP id
 d9443c01a7336-1f6b0a40721so30669385ad.2
 for <test-report@dpdk.org>; Mon, 17 Jun 2024 03:00:37 -0700 (PDT)
DKIM-Signature: v=1; a=rsa-sha256; c=relaxed/relaxed;
 d=iol.unh.edu; s=unh-iol; t=1718618436; x=1719223236; darn=dpdk.org;
 h=references:in-reply-to:cc:to:from:subject:message-id:date:from:to
 :cc:subject:date:message-id:reply-to;
 bh=vexgSkLasvw7vpseOnlVfli0SmAiGQuMfo2D6xq9LZA=;
 b=OWkLQ4x5qv9NLZGgEUbw/ebO8xdyxQX2BS34T8Clqt0KgHu5iq+sftKGJO47zXZlkU
 2URETDMUMbB9d7ldq+Yi2kGVBcVMw2t4Whv53jGajUjLziXDAhZwSGDqjgrnVFK0S/mN
 m13VI/h4NaHiH2RWPBvPGTMRC+VIcQGsS3RXQ=
X-Google-DKIM-Signature: v=1; a=rsa-sha256; c=relaxed/relaxed;
 d=1e100.net; s=20230601; t=1718618436; x=1719223236;
 h=references:in-reply-to:cc:to:from:subject:message-id:date
 :x-gm-message-state:from:to:cc:subject:date:message-id:reply-to;
 bh=vexgSkLasvw7vpseOnlVfli0SmAiGQuMfo2D6xq9LZA=;
 b=XKZ9QiTaKcieFazzHaLogUbo5K4wUojwnP4fDJ+O2hT64Kbocma6zwcm3tRtkFnjSd
 dsP2eVZBeja8C5gLcgQClDHMppyGy7V9e6YSi2nZMaXFVwrcerYHkcAJ+G+TFmzKPdxM
 vMCpqkYAHWNuND8uE32ECS3sjs18mEVIoMV2r7UrmYTo9d1hCYCNTpHsLZpUXg9Uu7y6
 fJv5wAHqlzOft6xiGHz/E+4LVls3b2k6inBdT7IDHEVgBsdqXbZyv6o8E/iVRcJzC3JE
 2H3FgI6HfsdmGeHfNsqvKNXAUI7obb1vRetn2V92MMqAEmqfG33AgnkhRpPKhXltAWUJ
 /vpg==
X-Gm-Message-State: AOJu0YzsGuuZ4ZjSn8WQv5M9YK0uM4E87d0y5pj2MF022Zqst8qos+gb
 h2QcAUA4pyMT42dSmGONG9NEDJkhevqyulUKTSKyLsJXDGNqOfZ+91HPjiCnvEird/bfGeXji9p
 8oiuAWwGgbaYaNxtV6VymyT5MnpWR/Q6j7rvdSFLY9tjZoXRyhz6jh9RW
X-Google-Smtp-Source: AGHT+IGlH6hoVZjD5XLzxjd+a92jGeUxRuVii01+46cnlIfL7/U3QIqeOLABKovSfNAcO7zupnlTC86rqSNN
X-Received: by 2002:a17:902:e80c:b0:1f7:174e:354d with SMTP id
 d9443c01a7336-1f862b1562fmr121756175ad.48.1718618436102; 
 Mon, 17 Jun 2024 03:00:36 -0700 (PDT)
Received: from postal.iol.unh.edu (postal.iol.unh.edu.
 [2606:4100:3880:1234::84]) by smtp-relay.gmail.com with ESMTPS id
 d9443c01a7336-1f855ede7ffsm3638695ad.132.2024.06.17.03.00.35
 (version=TLS1_2 cipher=ECDHE-ECDSA-AES128-GCM-SHA256 bits=128/128);
 Mon, 17 Jun 2024 03:00:36 -0700 (PDT)
X-Relaying-Domain: iol.unh.edu
Date: Mon, 17 Jun 2024 03:00:36 -0700 (PDT)
Message-ID: <66700944.170a0220.358e1.8826SMTPIN_ADDED_MISSING@mx.google.com>
Received: from [172.17.0.3] (unknown [172.18.0.217])
 by postal.iol.unh.edu (Postfix) with ESMTP id 4571C605C373;
 Mon, 17 Jun 2024 06:00:35 -0400 (EDT)
Subject: |SUCCESS| pw141175-141181 [PATCH] [7/7] test/security: use single se
From: dpdklab@iol.unh.edu
To: Test Report <test-report@dpdk.org>
Cc: dpdk-test-reports@iol.unh.edu
In-Reply-To: <20240617055841.2359729-8-asasidharan@marvell.com>
References: <20240617055841.2359729-8-asasidharan@marvell.com>
Content-Type: text/plain
X-BeenThere: test-report@dpdk.org
X-Mailman-Version: 2.1.29
Precedence: list
List-Id: automatic DPDK test reports <test-report.dpdk.org>
List-Unsubscribe: <https://mails.dpdk.org/options/test-report>,
 <mailto:test-report-request@dpdk.org?subject=unsubscribe>
List-Archive: <http://mails.dpdk.org/archives/test-report/>
List-Post: <mailto:test-report@dpdk.org>
List-Help: <mailto:test-report-request@dpdk.org?subject=help>
List-Subscribe: <https://mails.dpdk.org/listinfo/test-report>,
 <mailto:test-report-request@dpdk.org?subject=subscribe>
Errors-To: test-report-bounces@dpdk.org

Test-Label: iol-compile-arm64-testing
Test-Status: SUCCESS
http://dpdk.org/patch/141181

_Testing PASS_

Submitter: Aakash Sasidharan <asasidharan@marvell.com>
Date: Monday, June 17 2024 05:58:41 
DPDK git baseline: Repo:dpdk
  Branch: master
  CommitID:6909b48776badc05542a410ebd34bcfec4c248bf

141175-141181 --> testing pass

Test environment and result as below:

+----------------------------------------+--------------------+
|              Environment               | dpdk_meson_compile |
+========================================+====================+
| Ubuntu 20.04 ARM SVE                   | PASS               |
+----------------------------------------+--------------------+
| Debian 12 with MUSDK                   | PASS               |
+----------------------------------------+--------------------+
| RHEL9 (ARM)                            | PASS               |
+----------------------------------------+--------------------+
| Fedora 37 (ARM)                        | PASS               |
+----------------------------------------+--------------------+
| Fedora 39 (ARM)                        | PASS               |
+----------------------------------------+--------------------+
| Ubuntu 20.04 (ARM)                     | PASS               |
+----------------------------------------+--------------------+
| Ubuntu 24.04 (ARM)                     | PASS               |
+----------------------------------------+--------------------+
| Ubuntu 22.04 (ARM)                     | PASS               |
+----------------------------------------+--------------------+
| Fedora 40 (ARM)                        | PASS               |
+----------------------------------------+--------------------+
| CentOS Stream 9 (ARM)                  | PASS               |
+----------------------------------------+--------------------+
| Debian 11 (Buster) (ARM)               | PASS               |
+----------------------------------------+--------------------+
| Ubuntu 20.04 aarch32 GCC Cross Compile | PASS               |
+----------------------------------------+--------------------+
| Debian 12 (arm)                        | PASS               |
+----------------------------------------+--------------------+
| Fedora 38 (ARM)                        | PASS               |
+----------------------------------------+--------------------+
| Ubuntu 20.04 ARM Clang Cross Compile   | PASS               |
+----------------------------------------+--------------------+
| Fedora 40 (ARM Clang)                  | PASS               |
+----------------------------------------+--------------------+
| Ubuntu 20.04 ARM GCC Cross Compile     | PASS               |
+----------------------------------------+--------------------+
| Fedora 39 (ARM Clang)                  | PASS               |
+----------------------------------------+--------------------+
| Fedora 38 (ARM Clang)                  | PASS               |
+----------------------------------------+--------------------+


Ubuntu 20.04 ARM SVE
	Kernel: 5.4.0-167-generic
	Compiler: gcc (Ubuntu 10.5.0-1ubuntu1~20.04) 10.5.0

Debian 12 with MUSDK
	Kernel: Container Host Kernel
	Compiler: gcc 12.2.0

RHEL9 (ARM)
	Kernel: Depends on container host
	Compiler: gcc 11.4.1

Fedora 37 (ARM)
	Kernel: Depends on container host
	Compiler: gcc 12.3.1

Fedora 39 (ARM)
	Kernel: Depends on container host
	Compiler: gcc 13.2.1

Ubuntu 20.04 (ARM)
	Kernel: Container Host Kernel
	Compiler: gcc 9.4.0

Ubuntu 24.04 (ARM)
	Kernel: 5.4.0-167-generic
	Compiler: gcc 13.2.0

Ubuntu 22.04 (ARM)
	Kernel: Container Host Kernel
	Compiler: gcc 11.4.0

Fedora 40 (ARM)
	Kernel: Depends on container host
	Compiler: gcc 14.1.1

CentOS Stream 9 (ARM)
	Kernel: Container Host Kernel
	Compiler: gcc 11.4.1

Debian 11 (Buster) (ARM)
	Kernel: Container Host Kernel
	Compiler: gcc 10.2.1

Ubuntu 20.04 aarch32 GCC Cross Compile
	Kernel: 5.4.0-167-generic
	Compiler: gcc 9.4.0

Debian 12 (arm)
	Kernel: Container Host Kernel
	Compiler: gcc 12.2.0

Fedora 38 (ARM)
	Kernel: Depends on container host
	Compiler: gcc 13.2.1

Ubuntu 20.04 ARM Clang Cross Compile
	Kernel: 5.4.0-72-generic
	Compiler: clang 10.0.0-4ubuntu1

Fedora 40 (ARM Clang)
	Kernel: Depends on container host
	Compiler: clang 18.1.6

Ubuntu 20.04 ARM GCC Cross Compile
	Kernel: 5.4.0-167-generic
	Compiler: aarch64-linux-gnu-gcc (Ubuntu 9.4.0-1ubuntu1~20.04.2) 9.4.0

Fedora 39 (ARM Clang)
	Kernel: Depends on container host
	Compiler: clang 17.0.6

Fedora 38 (ARM Clang)
	Kernel: Depends on container host
	Compiler: clang 16.0.6

To view detailed results, visit:
https://lab.dpdk.org/results/dashboard/patchsets/30203/

UNH-IOL DPDK Community Lab

To manage your email subscriptions, visit: 
https://lab.dpdk.org/results/dashboard/preferences/subscriptions/