From mboxrd@z Thu Jan  1 00:00:00 1970
Return-Path: <test-report-bounces@dpdk.org>
Received: from mails.dpdk.org (mails.dpdk.org [217.70.189.124])
	by inbox.dpdk.org (Postfix) with ESMTP id 095D745481
	for <public@inbox.dpdk.org>; Mon, 17 Jun 2024 16:56:06 +0200 (CEST)
Received: from mails.dpdk.org (localhost [127.0.0.1])
	by mails.dpdk.org (Postfix) with ESMTP id 046A440687;
	Mon, 17 Jun 2024 16:56:06 +0200 (CEST)
Received: from mail-pl1-f228.google.com (mail-pl1-f228.google.com
 [209.85.214.228])
 by mails.dpdk.org (Postfix) with ESMTP id 08DCF40687
 for <test-report@dpdk.org>; Mon, 17 Jun 2024 16:56:05 +0200 (CEST)
Received: by mail-pl1-f228.google.com with SMTP id
 d9443c01a7336-1f700e4cb92so38246195ad.2
 for <test-report@dpdk.org>; Mon, 17 Jun 2024 07:56:04 -0700 (PDT)
DKIM-Signature: v=1; a=rsa-sha256; c=relaxed/relaxed;
 d=iol.unh.edu; s=unh-iol; t=1718636164; x=1719240964; darn=dpdk.org;
 h=references:in-reply-to:cc:to:from:subject:message-id:date:from:to
 :cc:subject:date:message-id:reply-to;
 bh=VQ53myRpQCSEa2ahDHgAcAzq54zmU5+e8vekAh6bT4M=;
 b=OfV4HBpybFi6lkg8a3Cv/kaNybd1FimEvo5vKypr/LOfJkaVbqokEPRjcgU38adhZy
 2n49dbCiXv8qXFoidebtSUHz8Ne3rzxFPMDDWcevoHBkwWH4F5iiUU6R4q41Yupjg9po
 mi9f8m4xcc4n6T8nOy1YfdIJdzHliTVp+i9Ps=
X-Google-DKIM-Signature: v=1; a=rsa-sha256; c=relaxed/relaxed;
 d=1e100.net; s=20230601; t=1718636164; x=1719240964;
 h=references:in-reply-to:cc:to:from:subject:message-id:date
 :x-gm-message-state:from:to:cc:subject:date:message-id:reply-to;
 bh=VQ53myRpQCSEa2ahDHgAcAzq54zmU5+e8vekAh6bT4M=;
 b=kquVi5w5fuZ7KeS/bxZqvshwy8J1CprE85utUCLP4uYcs917rgdJffe60TQ7Xjgeyg
 soq0q+5Ch23WJrbrG1ogR3zhjKA9hZSStctNcINn70csJkqwS1FyXoP/2N+WBc/+PhPV
 A3X4N2/kwbbXsfOwFfxjs/U6nDv3t4mNlx+dnrxa5anPd5bVnKY/T9pVMZTjAVtMaVN3
 OSCmacObChUhoC/lIB+JfbqHAxp6rrQlsCHtsf7rVXvQV8++fQOqm4bzMW3g7qf3gYHu
 T7EE2VtAhu00JMslxMxzvdySZ5LAcXjIsLjdWrfyvHE+pgrl1avQXSZyq6+VFRqplRow
 lweA==
X-Gm-Message-State: AOJu0YwkPiSWbuLAfZceuUQA+664XPmxG3YeOfcEWltOXwMmwcIPpOkU
 qX4bwI99T62iLewJbYOcQCYMN3NIIjz6JQZqyy+OBVUKbJYH/d8eRIuJDLVBFbkfuzGlJrN/zgl
 mbOtHgq5W/JnaLav+Tp+QQQGpGfbuz4asnVGfW8irfBtzYREJtYmql29T
X-Google-Smtp-Source: AGHT+IFX5tSnnDFQ4uQFNvTcxhrTVAT/aqOWzc6fUNFYJHv7dv6rSRLaBcRjK624rldVKL99QZkJFVHFb4Hj
X-Received: by 2002:a17:902:d492:b0:1f6:828e:869b with SMTP id
 d9443c01a7336-1f862805e2cmr153359405ad.53.1718636164151; 
 Mon, 17 Jun 2024 07:56:04 -0700 (PDT)
Received: from postal.iol.unh.edu (postal.iol.unh.edu.
 [2606:4100:3880:1234::84]) by smtp-relay.gmail.com with ESMTPS id
 d9443c01a7336-1f855e511c6sm3815895ad.56.2024.06.17.07.56.04
 (version=TLS1_2 cipher=ECDHE-ECDSA-AES128-GCM-SHA256 bits=128/128);
 Mon, 17 Jun 2024 07:56:04 -0700 (PDT)
X-Relaying-Domain: iol.unh.edu
Date: Mon, 17 Jun 2024 07:56:04 -0700 (PDT)
Message-ID: <66704e84.170a0220.9ecde.a5ffSMTPIN_ADDED_MISSING@mx.google.com>
Received: from [172.21.0.8] (unknown [172.18.0.240])
 by postal.iol.unh.edu (Postfix) with ESMTP id 3A65E605C373;
 Mon, 17 Jun 2024 10:56:03 -0400 (EDT)
Subject: |SUCCESS| pw141205-141206 [PATCH] [2/2] net/mlx5: fix non-template I
From: dpdklab@iol.unh.edu
To: Test Report <test-report@dpdk.org>
Cc: dpdk-test-reports@iol.unh.edu
In-Reply-To: <20240617140747.169197-3-getelson@nvidia.com>
References: <20240617140747.169197-3-getelson@nvidia.com>
Content-Type: text/plain
X-BeenThere: test-report@dpdk.org
X-Mailman-Version: 2.1.29
Precedence: list
List-Id: automatic DPDK test reports <test-report.dpdk.org>
List-Unsubscribe: <https://mails.dpdk.org/options/test-report>,
 <mailto:test-report-request@dpdk.org?subject=unsubscribe>
List-Archive: <http://mails.dpdk.org/archives/test-report/>
List-Post: <mailto:test-report@dpdk.org>
List-Help: <mailto:test-report-request@dpdk.org?subject=help>
List-Subscribe: <https://mails.dpdk.org/listinfo/test-report>,
 <mailto:test-report-request@dpdk.org?subject=subscribe>
Errors-To: test-report-bounces@dpdk.org

Test-Label: iol-compile-amd64-testing
Test-Status: SUCCESS
http://dpdk.org/patch/141206

_Testing PASS_

Submitter: Gregory Etelson <getelson@nvidia.com>
Date: Monday, June 17 2024 14:07:47 
DPDK git baseline: Repo:dpdk
  Branch: master
  CommitID:c1cdfbcc339c2c951bff95854983a8773d9e5b8e

141205-141206 --> testing pass

Test environment and result as below:

+---------------------+--------------------+----------------------+-------------------+
|     Environment     | dpdk_meson_compile | dpdk_mingw64_compile | dpdk_msvc_compile |
+=====================+====================+======================+===================+
| FreeBSD 13.3        | PASS               | SKIPPED              | SKIPPED           |
+---------------------+--------------------+----------------------+-------------------+
| Windows Server 2019 | PASS               | PASS                 | SKIPPED           |
+---------------------+--------------------+----------------------+-------------------+
| Windows Server 2022 | PASS               | PASS                 | PASS              |
+---------------------+--------------------+----------------------+-------------------+
| FreeBSD 14.1        | PASS               | SKIPPED              | SKIPPED           |
+---------------------+--------------------+----------------------+-------------------+


FreeBSD 13.3
	Kernel: 13.3-RELEASE-p1
	Compiler: clang 17.0.6

Windows Server 2019
	Kernel: 10.0.17763
	Compiler: clang 14.0 and gcc 8.1.0 (MinGW)

Windows Server 2022
	Kernel: 10.0.20348.2031
	Compiler: clang 15.0.7, gcc 8.1.0 (MinGW), and MSVC VS 17.9

FreeBSD 14.1
	Kernel: 14.1
	Compiler: clang 18.1.5

To view detailed results, visit:
https://lab.dpdk.org/results/dashboard/patchsets/30209/

UNH-IOL DPDK Community Lab

To manage your email subscriptions, visit: 
https://lab.dpdk.org/results/dashboard/preferences/subscriptions/