From mboxrd@z Thu Jan  1 00:00:00 1970
Return-Path: <test-report-bounces@dpdk.org>
Received: from mails.dpdk.org (mails.dpdk.org [217.70.189.124])
	by inbox.dpdk.org (Postfix) with ESMTP id BEE3C45482
	for <public@inbox.dpdk.org>; Mon, 17 Jun 2024 17:05:26 +0200 (CEST)
Received: from mails.dpdk.org (localhost [127.0.0.1])
	by mails.dpdk.org (Postfix) with ESMTP id BAFF1402BD;
	Mon, 17 Jun 2024 17:05:26 +0200 (CEST)
Received: from mail-oi1-f228.google.com (mail-oi1-f228.google.com
 [209.85.167.228])
 by mails.dpdk.org (Postfix) with ESMTP id 76652402BD
 for <test-report@dpdk.org>; Mon, 17 Jun 2024 17:05:25 +0200 (CEST)
Received: by mail-oi1-f228.google.com with SMTP id
 5614622812f47-3c9cc681ee4so2217584b6e.0
 for <test-report@dpdk.org>; Mon, 17 Jun 2024 08:05:25 -0700 (PDT)
DKIM-Signature: v=1; a=rsa-sha256; c=relaxed/relaxed;
 d=iol.unh.edu; s=unh-iol; t=1718636725; x=1719241525; darn=dpdk.org;
 h=references:in-reply-to:cc:to:from:subject:message-id:date:from:to
 :cc:subject:date:message-id:reply-to;
 bh=szOzSgplhzQQKj8HD/0xNbwL+YBr6dVuQJWS+1JtLWc=;
 b=gKSnw7d4PUvJW1SkwiGXVskA2nCVwV31svwNlg8oyTxv+x+zLKiecfhiyxFlcP/zeq
 dOkJsOef9qjKt6mnwx+PLAk2stvw453RFTIak626zokFVGaCMhi3vvR2W46U0BYTfI4P
 reGBC0FHwvZkd9EezLe79U/AYp/cJyUcCDqaI=
X-Google-DKIM-Signature: v=1; a=rsa-sha256; c=relaxed/relaxed;
 d=1e100.net; s=20230601; t=1718636725; x=1719241525;
 h=references:in-reply-to:cc:to:from:subject:message-id:date
 :x-gm-message-state:from:to:cc:subject:date:message-id:reply-to;
 bh=szOzSgplhzQQKj8HD/0xNbwL+YBr6dVuQJWS+1JtLWc=;
 b=unNRJQbLWRMp+zpK/Z25b1w8HMYuSNwbcznxv1XMGG5ksPIzQh+CjiZbf4HzCAkYXJ
 Eq/S1UkdZAcQXaCofMYcdCyyeFDVNc27Yz0LQwRv3sakiWgJ5mWh7CDn8ZIiOcNIWEz9
 lv8FNBss5wOByKcG5InUNc6nAeMbJyTsecTEkNjAcPHkbD0hwtveZxR27O4wJlVdUcKW
 6uY0I+RzAbIRhrALX/pDbU/jKmdOLLfHMpWJGUh2Wr8UzPG8WapAcnT2s1ZaIq9InDGK
 AfZLIbDGBnOpg/MffLhbVhr0OYBy2RsorCOsNlwf+lbaBIGKbynGeJzy0lfkK+cFteny
 SXkQ==
X-Gm-Message-State: AOJu0YzmJfHDp3A9VyQmV0RyJ/iT68F/3knX25qfBn+Ohy2zas1glAMC
 wdZFC9ehZfuh8wI1zuYh9/bzEzZ0WavmmDfZyJ7FYiqFn7hWSv+xuSaBRJjfMTvA/1pUuLBsP5X
 8t7klwhy7fptvT0z7oq4lfIi1PkACq0jlL1qPqBoq
X-Google-Smtp-Source: AGHT+IGX6BsbP25dYyxPQmntSqnr1+WgzUNMc9htBNYW99xN/tfqO30DxHtb9Y5zMaI++kcx1lfugVbMaFiW
X-Received: by 2002:a05:6808:2186:b0:3d2:1c91:86df with SMTP id
 5614622812f47-3d24e98ef90mr11232141b6e.36.1718636724756; 
 Mon, 17 Jun 2024 08:05:24 -0700 (PDT)
Received: from postal.iol.unh.edu (postal.iol.unh.edu. [132.177.123.84])
 by smtp-relay.gmail.com with ESMTPS id
 a1e0cc1a2514c-80d78971b66sm332263241.14.2024.06.17.08.05.24
 (version=TLS1_2 cipher=ECDHE-ECDSA-AES128-GCM-SHA256 bits=128/128);
 Mon, 17 Jun 2024 08:05:24 -0700 (PDT)
X-Relaying-Domain: iol.unh.edu
Date: Mon, 17 Jun 2024 08:05:24 -0700 (PDT)
Message-ID: <667050b4.b00a0220.c9fee.601fSMTPIN_ADDED_MISSING@mx.google.com>
Received: from [172.21.0.6] (unknown [172.18.0.240])
 by postal.iol.unh.edu (Postfix) with ESMTP id 6098F605C373;
 Mon, 17 Jun 2024 11:05:24 -0400 (EDT)
Subject: |SUCCESS| pw141205-141206 [PATCH] [2/2] net/mlx5: fix non-template I
From: dpdklab@iol.unh.edu
To: Test Report <test-report@dpdk.org>
Cc: dpdk-test-reports@iol.unh.edu
In-Reply-To: <20240617140747.169197-3-getelson@nvidia.com>
References: <20240617140747.169197-3-getelson@nvidia.com>
Content-Type: text/plain
X-BeenThere: test-report@dpdk.org
X-Mailman-Version: 2.1.29
Precedence: list
List-Id: automatic DPDK test reports <test-report.dpdk.org>
List-Unsubscribe: <https://mails.dpdk.org/options/test-report>,
 <mailto:test-report-request@dpdk.org?subject=unsubscribe>
List-Archive: <http://mails.dpdk.org/archives/test-report/>
List-Post: <mailto:test-report@dpdk.org>
List-Help: <mailto:test-report-request@dpdk.org?subject=help>
List-Subscribe: <https://mails.dpdk.org/listinfo/test-report>,
 <mailto:test-report-request@dpdk.org?subject=subscribe>
Errors-To: test-report-bounces@dpdk.org

Test-Label: iol-abi-testing
Test-Status: SUCCESS
http://dpdk.org/patch/141206

_Testing PASS_

Submitter: Gregory Etelson <getelson@nvidia.com>
Date: Monday, June 17 2024 14:07:47 
DPDK git baseline: Repo:dpdk
  Branch: master
  CommitID:c1cdfbcc339c2c951bff95854983a8773d9e5b8e

141205-141206 --> testing pass

Test environment and result as below:

+------------------+----------+
|   Environment    | abi_test |
+==================+==========+
| Ubuntu 24.04     | PASS     |
+------------------+----------+
| openSUSE Leap 15 | PASS     |
+------------------+----------+
| RHEL9            | PASS     |
+------------------+----------+
| CentOS Stream 9  | PASS     |
+------------------+----------+
| Debian Bullseye  | PASS     |
+------------------+----------+
| Fedora 40        | PASS     |
+------------------+----------+
| CentOS Stream 8  | PASS     |
+------------------+----------+
| RHEL8            | PASS     |
+------------------+----------+
| Fedora 38        | PASS     |
+------------------+----------+
| Fedora 39        | PASS     |
+------------------+----------+


Ubuntu 24.04
	Kernel: 5.4.0-167-generic
	Compiler: gcc 13.2.0

openSUSE Leap 15
	Kernel: 5.4.0-167-generic
	Compiler: gcc 7.5.0

RHEL9
	Kernel: Depends on container host
	Compiler: gcc 11.4.1

CentOS Stream 9
	Kernel: 5.4.0-167-generic
	Compiler: gcc 11.4.1 20230605

Debian Bullseye
	Kernel: 5.4.0-167-generic
	Compiler: gcc 10.2.1-6

Fedora 40
	Kernel: Depends on container host
	Compiler: clang 18.1.6

CentOS Stream 8
	Kernel: 5.4.0-167-generic
	Compiler: gcc 8.5.0 20210514

RHEL8
	Kernel: 5.4.0-167-generic
	Compiler: gcc 8.5.0 20210514 (Red Hat 8.5.0-20)

Fedora 38
	Kernel: Depends on container host
	Compiler: clang 16.0.6

Fedora 39
	Kernel: Depends on container host
	Compiler: clang 17.0.6

To view detailed results, visit:
https://lab.dpdk.org/results/dashboard/patchsets/30209/

UNH-IOL DPDK Community Lab

To manage your email subscriptions, visit: 
https://lab.dpdk.org/results/dashboard/preferences/subscriptions/