From mboxrd@z Thu Jan  1 00:00:00 1970
Return-Path: <test-report-bounces@dpdk.org>
Received: from mails.dpdk.org (mails.dpdk.org [217.70.189.124])
	by inbox.dpdk.org (Postfix) with ESMTP id D031E45483
	for <public@inbox.dpdk.org>; Mon, 17 Jun 2024 18:19:00 +0200 (CEST)
Received: from mails.dpdk.org (localhost [127.0.0.1])
	by mails.dpdk.org (Postfix) with ESMTP id B05B5402BD;
	Mon, 17 Jun 2024 18:19:00 +0200 (CEST)
Received: from mail-ot1-f98.google.com (mail-ot1-f98.google.com
 [209.85.210.98]) by mails.dpdk.org (Postfix) with ESMTP id 6BE6D4029A
 for <test-report@dpdk.org>; Mon, 17 Jun 2024 18:18:59 +0200 (CEST)
Received: by mail-ot1-f98.google.com with SMTP id
 46e09a7af769-6f9c1902459so2857740a34.0
 for <test-report@dpdk.org>; Mon, 17 Jun 2024 09:18:59 -0700 (PDT)
DKIM-Signature: v=1; a=rsa-sha256; c=relaxed/relaxed;
 d=iol.unh.edu; s=unh-iol; t=1718641138; x=1719245938; darn=dpdk.org;
 h=references:in-reply-to:cc:to:from:subject:message-id:date:from:to
 :cc:subject:date:message-id:reply-to;
 bh=se/+0RrARVY4JrKVwtqFFpRSVw0eH2MLFrgavAYulFo=;
 b=GO+1pM8/pRDZs9gfzZ4XUl/RAjwSmn4rsvRszj3qN3//0ynbNkqz/lnE06jhQdZv0q
 1Qu+TCvcZdQcLd/F+aGZotGgQDipFFw5g0RQZMk3uBqCblJJjjVnLTUDPonFIvyBcSyr
 kt1L2DKRnMndvxkVoRpMUoHwIC2DuYDzVWzZI=
X-Google-DKIM-Signature: v=1; a=rsa-sha256; c=relaxed/relaxed;
 d=1e100.net; s=20230601; t=1718641138; x=1719245938;
 h=references:in-reply-to:cc:to:from:subject:message-id:date
 :x-gm-message-state:from:to:cc:subject:date:message-id:reply-to;
 bh=se/+0RrARVY4JrKVwtqFFpRSVw0eH2MLFrgavAYulFo=;
 b=WawpXDiQT3UbZ2C8JdSHUOCLhg8Qufd++qydy2OBc5JWi5JeQMW7EN83Tj1X9ekBH6
 EVB0HWoKMlbHFVcOlZmWE8uhUWc4QSSEUSyY1SD7w5UcPaOpQd8Bv4bPQ3op9HMmvX/H
 cRlEMhERXl6R7rTm7e5nun1DAu7qwXg88LblAzCeqVJ10JFIb9+vF8cyQpP56UokT7FF
 Z5H0emMuZE8+nHlHKG0L76zPWZAixhZ0j/RsymsVLvFOE02ft+UgOhbded6Ee/KZRj8u
 CZbdKv2plYILOappCFRztq6KnUO6Ci1ede4Vz4isZ/opt84MrzY1++zsvjjYo9gj/rW2
 jEVQ==
X-Gm-Message-State: AOJu0YxlXI2QJcnjZ/ozlWQBCz9lrpUDcHp52ni1ltf3wOPb+oXTPzO8
 qB5qGeJ6oVCILyyGaF60HKEqk1a6V+hZSyreheXv3VDrUeycWJzyHNP3lQyvhxMTM3ecA6xMOo4
 /vlzD+lvxD/gAxUx/qF3BLIc9eVdm4rWEHYAGBw9+
X-Google-Smtp-Source: AGHT+IHMFwlBHB0NeyL+Pau3Hkkh6DtfUrj9zRvvBku/fYtL6tVbtOkqj7zAOF/AzyNdNuF816HPqpQ0cBmv
X-Received: by 2002:a05:6870:8287:b0:254:abd6:1a29 with SMTP id
 586e51a60fabf-25842c1520dmr11198025fac.55.1718641138299; 
 Mon, 17 Jun 2024 09:18:58 -0700 (PDT)
Received: from postal.iol.unh.edu (postal.iol.unh.edu. [132.177.123.84])
 by smtp-relay.gmail.com with ESMTPS id
 586e51a60fabf-258de9ad423sm165608fac.25.2024.06.17.09.18.58
 (version=TLS1_2 cipher=ECDHE-ECDSA-AES128-GCM-SHA256 bits=128/128);
 Mon, 17 Jun 2024 09:18:58 -0700 (PDT)
X-Relaying-Domain: iol.unh.edu
Date: Mon, 17 Jun 2024 09:18:58 -0700 (PDT)
Message-ID: <667061f2.050a0220.ecb80.a52cSMTPIN_ADDED_MISSING@mx.google.com>
Received: from [172.21.0.6] (unknown [172.18.0.240])
 by postal.iol.unh.edu (Postfix) with ESMTP id E1DCC605C380;
 Mon, 17 Jun 2024 12:18:57 -0400 (EDT)
Subject: |SUCCESS| pw141205-141206 [PATCH] [2/2] net/mlx5: fix non-template I
From: dpdklab@iol.unh.edu
To: Test Report <test-report@dpdk.org>
Cc: dpdk-test-reports@iol.unh.edu
In-Reply-To: <20240617140747.169197-3-getelson@nvidia.com>
References: <20240617140747.169197-3-getelson@nvidia.com>
Content-Type: text/plain
X-BeenThere: test-report@dpdk.org
X-Mailman-Version: 2.1.29
Precedence: list
List-Id: automatic DPDK test reports <test-report.dpdk.org>
List-Unsubscribe: <https://mails.dpdk.org/options/test-report>,
 <mailto:test-report-request@dpdk.org?subject=unsubscribe>
List-Archive: <http://mails.dpdk.org/archives/test-report/>
List-Post: <mailto:test-report@dpdk.org>
List-Help: <mailto:test-report-request@dpdk.org?subject=help>
List-Subscribe: <https://mails.dpdk.org/listinfo/test-report>,
 <mailto:test-report-request@dpdk.org?subject=subscribe>
Errors-To: test-report-bounces@dpdk.org

Test-Label: iol-unit-amd64-testing
Test-Status: SUCCESS
http://dpdk.org/patch/141206

_Testing PASS_

Submitter: Gregory Etelson <getelson@nvidia.com>
Date: Monday, June 17 2024 14:07:47 
DPDK git baseline: Repo:dpdk
  Branch: master
  CommitID:c1cdfbcc339c2c951bff95854983a8773d9e5b8e

141205-141206 --> testing pass

Test environment and result as below:

+---------------------+----------------+
|     Environment     | dpdk_unit_test |
+=====================+================+
| Windows Server 2019 | PASS           |
+---------------------+----------------+
| Windows Server 2022 | PASS           |
+---------------------+----------------+
| CentOS Stream 9     | PASS           |
+---------------------+----------------+
| Fedora 37           | PASS           |
+---------------------+----------------+
| CentOS Stream 8     | PASS           |
+---------------------+----------------+
| Debian Bullseye     | PASS           |
+---------------------+----------------+
| Fedora 38           | PASS           |
+---------------------+----------------+
| Fedora 39           | PASS           |
+---------------------+----------------+
| Debian 12           | PASS           |
+---------------------+----------------+
| RHEL9               | PASS           |
+---------------------+----------------+
| Fedora 40           | PASS           |
+---------------------+----------------+
| RHEL8               | PASS           |
+---------------------+----------------+
| openSUSE Leap 15    | PASS           |
+---------------------+----------------+


Windows Server 2019
	Kernel: 10.0.17763
	Compiler: clang 14.0 and gcc 8.1.0 (MinGW)

Windows Server 2022
	Kernel: 10.0.20348.2031
	Compiler: clang 15.0.7, gcc 8.1.0 (MinGW), and MSVC VS 17.9

CentOS Stream 9
	Kernel: 5.4.0-167-generic
	Compiler: gcc 11.4.1 20230605

Fedora 37
	Kernel: Depends on container host system
	Compiler: gcc 12.3.1

CentOS Stream 8
	Kernel: 5.4.0-167-generic
	Compiler: gcc 8.5.0 20210514

Debian Bullseye
	Kernel: 5.4.0-167-generic
	Compiler: gcc 10.2.1-6

Fedora 38
	Kernel: Depends on container host
	Compiler: gcc 13.2.1

Fedora 39
	Kernel: Depends on container host
	Compiler: gcc 13.2.1

Debian 12
	Kernel: Container Host Kernel
	Compiler: gcc 12.2.0

RHEL9
	Kernel: Depends on container host
	Compiler: gcc 11.4.1

Fedora 40
	Kernel: Depends on container host
	Compiler: clang 18.1.6

RHEL8
	Kernel: 5.4.0-167-generic
	Compiler: gcc 8.5.0 20210514 (Red Hat 8.5.0-20)

openSUSE Leap 15
	Kernel: 5.4.0-167-generic
	Compiler: gcc 7.5.0

To view detailed results, visit:
https://lab.dpdk.org/results/dashboard/patchsets/30209/

UNH-IOL DPDK Community Lab

To manage your email subscriptions, visit: 
https://lab.dpdk.org/results/dashboard/preferences/subscriptions/