From mboxrd@z Thu Jan  1 00:00:00 1970
Return-Path: <test-report-bounces@dpdk.org>
Received: from mails.dpdk.org (mails.dpdk.org [217.70.189.124])
	by inbox.dpdk.org (Postfix) with ESMTP id 355AC45485
	for <public@inbox.dpdk.org>; Mon, 17 Jun 2024 18:56:05 +0200 (CEST)
Received: from mails.dpdk.org (localhost [127.0.0.1])
	by mails.dpdk.org (Postfix) with ESMTP id 31F78402BD;
	Mon, 17 Jun 2024 18:56:05 +0200 (CEST)
Received: from mail-pl1-f227.google.com (mail-pl1-f227.google.com
 [209.85.214.227])
 by mails.dpdk.org (Postfix) with ESMTP id 931FA4029A
 for <test-report@dpdk.org>; Mon, 17 Jun 2024 18:56:03 +0200 (CEST)
Received: by mail-pl1-f227.google.com with SMTP id
 d9443c01a7336-1f862f7c7edso27701955ad.3
 for <test-report@dpdk.org>; Mon, 17 Jun 2024 09:56:03 -0700 (PDT)
DKIM-Signature: v=1; a=rsa-sha256; c=relaxed/relaxed;
 d=iol.unh.edu; s=unh-iol; t=1718643363; x=1719248163; darn=dpdk.org;
 h=references:in-reply-to:cc:to:from:subject:message-id:date:from:to
 :cc:subject:date:message-id:reply-to;
 bh=aRe2dOnEBrW3JJq7fLAIthp18TiuYfJ07RxYZwY3SCU=;
 b=UmlnGPF6k3j3uqR4hRTFm1zi+m15OX1NR8NT7hmAbOlq2k6c5pi2edGLKKSPW+HpbG
 FTGBEk4i78Bh9sZSXzReHa/CKH9ISKNOUG2PF/dXk35fsvL/wn5qvgwDWjGV/TSKMwmE
 O7ClamETaLhvJ+g4Gp+Yc9eLWxiB+OD3gJHxw=
X-Google-DKIM-Signature: v=1; a=rsa-sha256; c=relaxed/relaxed;
 d=1e100.net; s=20230601; t=1718643363; x=1719248163;
 h=references:in-reply-to:cc:to:from:subject:message-id:date
 :x-gm-message-state:from:to:cc:subject:date:message-id:reply-to;
 bh=aRe2dOnEBrW3JJq7fLAIthp18TiuYfJ07RxYZwY3SCU=;
 b=iNJxQe7xGJzzWfuKkAUTR3/jPu/BFsIcuocmil5C16yOisg6HMkObMKxvhAxO566th
 VUvgLOZuuV0dwMHmDWR8lHGgtvCFnMJEuMCoFB4xs/SnqRYbXEfWkfnzqXG8UT+rsCUk
 +6tXAI1UNSRyqRFzAurTrVBLWZd7Z4i6llvEpH1wJvwTrnj0RolEAqportED9DZvjnH+
 IWlieyvC6QhQ5/K56UBCQp7vsI/aAZmaiOrB7w6vMEp0TOzL3aKX++l4eQIICYf6ehvD
 oYZCZRtzjGh1/N/KnNWIeRxJspEPl8T180WoLb1FH2X8/R7BFLT6y4K2YrOS2N9MCa0S
 Jc2w==
X-Gm-Message-State: AOJu0YzQCMBZezqpgqHjb2sdDAqiGbK/xwblGXJcUIxvTKFi4IZY1egi
 TWpiYmj91vZZQKzZFKPG4NVAAFPwS6MfMhVcdPdo+4wW3l01n/xntRpxBp+cOYsY7KlSktAA8aE
 JLPBatqC+yVjHFf98Ia24CP5yUS11foC+fyn0Kj6UGMjBThlR7FcXfVyH
X-Google-Smtp-Source: AGHT+IHcu81pUoqXs5wWjMyltKBYw+kpcpe1afX3VsSMdFVFOS7z42TzMhBklAFyn5kMxeKyV1TE8U99kXMi
X-Received: by 2002:a17:903:2b06:b0:1f4:5dc0:5fe8 with SMTP id
 d9443c01a7336-1f8625ce5ddmr94311535ad.15.1718643362685; 
 Mon, 17 Jun 2024 09:56:02 -0700 (PDT)
Received: from postal.iol.unh.edu (postal.iol.unh.edu.
 [2606:4100:3880:1234::84]) by smtp-relay.gmail.com with ESMTPS id
 d9443c01a7336-1f855edc41bsm3872165ad.117.2024.06.17.09.56.02
 (version=TLS1_2 cipher=ECDHE-ECDSA-AES128-GCM-SHA256 bits=128/128);
 Mon, 17 Jun 2024 09:56:02 -0700 (PDT)
X-Relaying-Domain: iol.unh.edu
Date: Mon, 17 Jun 2024 09:56:02 -0700 (PDT)
Message-ID: <66706aa2.170a0220.189c0.adf4SMTPIN_ADDED_MISSING@mx.google.com>
Received: from [172.21.0.6] (unknown [172.18.0.240])
 by postal.iol.unh.edu (Postfix) with ESMTP id D978D605C380;
 Mon, 17 Jun 2024 12:56:01 -0400 (EDT)
Subject: |SUCCESS| pw141205-141206 [PATCH] [2/2] net/mlx5: fix non-template I
From: dpdklab@iol.unh.edu
To: Test Report <test-report@dpdk.org>
Cc: dpdk-test-reports@iol.unh.edu
In-Reply-To: <20240617140747.169197-3-getelson@nvidia.com>
References: <20240617140747.169197-3-getelson@nvidia.com>
Content-Type: text/plain
X-BeenThere: test-report@dpdk.org
X-Mailman-Version: 2.1.29
Precedence: list
List-Id: automatic DPDK test reports <test-report.dpdk.org>
List-Unsubscribe: <https://mails.dpdk.org/options/test-report>,
 <mailto:test-report-request@dpdk.org?subject=unsubscribe>
List-Archive: <http://mails.dpdk.org/archives/test-report/>
List-Post: <mailto:test-report@dpdk.org>
List-Help: <mailto:test-report-request@dpdk.org?subject=help>
List-Subscribe: <https://mails.dpdk.org/listinfo/test-report>,
 <mailto:test-report-request@dpdk.org?subject=subscribe>
Errors-To: test-report-bounces@dpdk.org

Test-Label: iol-unit-amd64-testing
Test-Status: SUCCESS
http://dpdk.org/patch/141206

_Testing PASS_

Submitter: Gregory Etelson <getelson@nvidia.com>
Date: Monday, June 17 2024 14:07:47 
DPDK git baseline: Repo:dpdk
  Branch: master
  CommitID:c1cdfbcc339c2c951bff95854983a8773d9e5b8e

141205-141206 --> testing pass

Test environment and result as below:

+---------------------+----------------+
|     Environment     | dpdk_unit_test |
+=====================+================+
| Windows Server 2019 | PASS           |
+---------------------+----------------+
| Windows Server 2022 | PASS           |
+---------------------+----------------+
| CentOS Stream 9     | PASS           |
+---------------------+----------------+
| Fedora 37           | PASS           |
+---------------------+----------------+
| CentOS Stream 8     | PASS           |
+---------------------+----------------+
| Debian Bullseye     | PASS           |
+---------------------+----------------+
| Fedora 38           | PASS           |
+---------------------+----------------+
| Fedora 39           | PASS           |
+---------------------+----------------+
| Debian 12           | PASS           |
+---------------------+----------------+
| RHEL9               | PASS           |
+---------------------+----------------+
| Fedora 40           | PASS           |
+---------------------+----------------+
| RHEL8               | PASS           |
+---------------------+----------------+
| openSUSE Leap 15    | PASS           |
+---------------------+----------------+
| Ubuntu 22.04        | PASS           |
+---------------------+----------------+
| Ubuntu 24.04        | PASS           |
+---------------------+----------------+
| Ubuntu 20.04        | PASS           |
+---------------------+----------------+


Windows Server 2019
	Kernel: 10.0.17763
	Compiler: clang 14.0 and gcc 8.1.0 (MinGW)

Windows Server 2022
	Kernel: 10.0.20348.2031
	Compiler: clang 15.0.7, gcc 8.1.0 (MinGW), and MSVC VS 17.9

CentOS Stream 9
	Kernel: 5.4.0-167-generic
	Compiler: gcc 11.4.1 20230605

Fedora 37
	Kernel: Depends on container host system
	Compiler: gcc 12.3.1

CentOS Stream 8
	Kernel: 5.4.0-167-generic
	Compiler: gcc 8.5.0 20210514

Debian Bullseye
	Kernel: 5.4.0-167-generic
	Compiler: gcc 10.2.1-6

Fedora 38
	Kernel: Depends on container host
	Compiler: gcc 13.2.1

Fedora 39
	Kernel: Depends on container host
	Compiler: gcc 13.2.1

Debian 12
	Kernel: Container Host Kernel
	Compiler: gcc 12.2.0

RHEL9
	Kernel: Depends on container host
	Compiler: gcc 11.4.1

Fedora 40
	Kernel: Depends on container host
	Compiler: clang 18.1.6

RHEL8
	Kernel: 5.4.0-167-generic
	Compiler: gcc 8.5.0 20210514 (Red Hat 8.5.0-20)

openSUSE Leap 15
	Kernel: 5.4.0-167-generic
	Compiler: gcc 7.5.0

Ubuntu 22.04
	Kernel: 5.4.0-167-generic
	Compiler: gcc 11.4.0

Ubuntu 24.04
	Kernel: 5.4.0-167-generic
	Compiler: gcc 13.2.0

Ubuntu 20.04
	Kernel: 5.4.0-167-generic
	Compiler: gcc 9.4.0-1ubuntu1~20.04.1

To view detailed results, visit:
https://lab.dpdk.org/results/dashboard/patchsets/30209/

UNH-IOL DPDK Community Lab

To manage your email subscriptions, visit: 
https://lab.dpdk.org/results/dashboard/preferences/subscriptions/