From mboxrd@z Thu Jan  1 00:00:00 1970
Return-Path: <test-report-bounces@dpdk.org>
Received: from mails.dpdk.org (mails.dpdk.org [217.70.189.124])
	by inbox.dpdk.org (Postfix) with ESMTP id 2D51F45485
	for <public@inbox.dpdk.org>; Mon, 17 Jun 2024 19:02:28 +0200 (CEST)
Received: from mails.dpdk.org (localhost [127.0.0.1])
	by mails.dpdk.org (Postfix) with ESMTP id 2B321402DA;
	Mon, 17 Jun 2024 19:02:28 +0200 (CEST)
Received: from mail-pf1-f228.google.com (mail-pf1-f228.google.com
 [209.85.210.228])
 by mails.dpdk.org (Postfix) with ESMTP id 5958440A82
 for <test-report@dpdk.org>; Mon, 17 Jun 2024 19:02:01 +0200 (CEST)
Received: by mail-pf1-f228.google.com with SMTP id
 d2e1a72fcca58-70423e8e6c9so3989325b3a.0
 for <test-report@dpdk.org>; Mon, 17 Jun 2024 10:02:01 -0700 (PDT)
DKIM-Signature: v=1; a=rsa-sha256; c=relaxed/relaxed;
 d=iol.unh.edu; s=unh-iol; t=1718643720; x=1719248520; darn=dpdk.org;
 h=references:in-reply-to:cc:to:from:subject:message-id:date:from:to
 :cc:subject:date:message-id:reply-to;
 bh=yfHPjc8xJ3voIi1OWZSYAyfxHQP8P9WMznDIFCinSJA=;
 b=Z2quD1DssPRwPn0wwxwrruRXbJ60b1RPy+eLPnkeEP17WS6plX2Lr9XveKdAajj0Jo
 brpOg5Zsdivw2KN5wUbFhbKFB2G2ZzscHGOYMg5V3+q69oTrlW1435nMN7Y11wuizcK7
 p775dSE+tpfibGhlunQYGhKiLkCcO7V0JiE7M=
X-Google-DKIM-Signature: v=1; a=rsa-sha256; c=relaxed/relaxed;
 d=1e100.net; s=20230601; t=1718643720; x=1719248520;
 h=references:in-reply-to:cc:to:from:subject:message-id:date
 :x-gm-message-state:from:to:cc:subject:date:message-id:reply-to;
 bh=yfHPjc8xJ3voIi1OWZSYAyfxHQP8P9WMznDIFCinSJA=;
 b=U9fHfhi5acRBll686BJy/9s7kKESS16c2WMUaXwK3AovqtNSBrFsk8BoSYoOsP0jac
 owa/wWvR2FYW7TMZ48y10k4qGwr7ig0anSlySuNvGjyCnnlN6iLzEEc078GTYzw/dkO5
 FgLBPx9HMZiXaMTS1YNgMfua/Ydyyl+6/FtOt4VJkn9hvOjXdFcflhIlMcJ86rs8vzsA
 c8DscuspXc0XT7ixCsT5eTgnwrxVMdV4C0OGUE2zUj2bRlfcUjZjqE/k4cUsMxrtvKwc
 e71kzkk0f3DRyLv3FQMZeu9kxL44JyQGRYimSeeHrXNsmgix8xEOqgBFyDwOyqC0SNNL
 cBTg==
X-Gm-Message-State: AOJu0Yz2ewwXHjYVj+q034UL9JNckYGHvepnnPgtPs2g3UntbZlKS3/a
 mCjhM47jaa9/y+gEpeYeCkBRINrRgfAEo6yyeyn9o+9sbKgJ0RMpK2TG/NB/PO6qII++/uTpWpO
 JIqxqQV9jNMkrzyJzSnX6NmewhqBkFjPyQmExWclAjDmOwtP4Jh3aMGgC
X-Google-Smtp-Source: AGHT+IH+iLycVka0HaR833sII9HQgSNJ8vE30p8Izo/w0PmeDdZNVPFlJxYT/i81rtM5H1B2HeQyeGR+zsS7
X-Received: by 2002:a05:6a20:9186:b0:1b8:7cd7:7a9d with SMTP id
 adf61e73a8af0-1bae83c6ccbmr10536840637.44.1718643720468; 
 Mon, 17 Jun 2024 10:02:00 -0700 (PDT)
Received: from postal.iol.unh.edu (postal.iol.unh.edu.
 [2606:4100:3880:1234::84]) by smtp-relay.gmail.com with ESMTPS id
 d2e1a72fcca58-705ccb7e30dsm423988b3a.25.2024.06.17.10.02.00
 (version=TLS1_2 cipher=ECDHE-ECDSA-AES128-GCM-SHA256 bits=128/128);
 Mon, 17 Jun 2024 10:02:00 -0700 (PDT)
X-Relaying-Domain: iol.unh.edu
Date: Mon, 17 Jun 2024 10:02:00 -0700 (PDT)
Message-ID: <66706c08.050a0220.ffab8.ca8eSMTPIN_ADDED_MISSING@mx.google.com>
Received: from [172.21.0.6] (unknown [172.18.0.240])
 by postal.iol.unh.edu (Postfix) with ESMTP id 8B9E7605C380;
 Mon, 17 Jun 2024 13:01:59 -0400 (EDT)
Subject: |SUCCESS| pw141203 [PATCH] common/cnxk: fix flow aging application e
From: dpdklab@iol.unh.edu
To: Test Report <test-report@dpdk.org>
Cc: dpdk-test-reports@iol.unh.edu
In-Reply-To: <20240617112754.4080314-1-psatheesh@marvell.com>
References: <20240617112754.4080314-1-psatheesh@marvell.com>
Content-Type: text/plain
X-BeenThere: test-report@dpdk.org
X-Mailman-Version: 2.1.29
Precedence: list
List-Id: automatic DPDK test reports <test-report.dpdk.org>
List-Unsubscribe: <https://mails.dpdk.org/options/test-report>,
 <mailto:test-report-request@dpdk.org?subject=unsubscribe>
List-Archive: <http://mails.dpdk.org/archives/test-report/>
List-Post: <mailto:test-report@dpdk.org>
List-Help: <mailto:test-report-request@dpdk.org?subject=help>
List-Subscribe: <https://mails.dpdk.org/listinfo/test-report>,
 <mailto:test-report-request@dpdk.org?subject=subscribe>
Errors-To: test-report-bounces@dpdk.org

Test-Label: iol-compile-amd64-testing
Test-Status: SUCCESS
http://dpdk.org/patch/141203

_Testing PASS_

Submitter: Satheesh Paul Antonysamy <psatheesh@marvell.com>
Date: Monday, June 17 2024 11:27:54 
DPDK git baseline: Repo:dpdk
  Branch: master
  CommitID:0b3953bc4b95fb6b0c7c2ccb258175635868b5a5

141203 --> testing pass

Test environment and result as below:

+---------------------+--------------------+----------------------+-------------------+
|     Environment     | dpdk_meson_compile | dpdk_mingw64_compile | dpdk_msvc_compile |
+=====================+====================+======================+===================+
| FreeBSD 13.3        | PASS               | SKIPPED              | SKIPPED           |
+---------------------+--------------------+----------------------+-------------------+
| Windows Server 2019 | PASS               | PASS                 | SKIPPED           |
+---------------------+--------------------+----------------------+-------------------+
| FreeBSD 14.1        | PASS               | SKIPPED              | SKIPPED           |
+---------------------+--------------------+----------------------+-------------------+
| Windows Server 2022 | PASS               | PASS                 | PASS              |
+---------------------+--------------------+----------------------+-------------------+


FreeBSD 13.3
	Kernel: 13.3-RELEASE-p1
	Compiler: clang 17.0.6

Windows Server 2019
	Kernel: 10.0.17763
	Compiler: clang 14.0 and gcc 8.1.0 (MinGW)

FreeBSD 14.1
	Kernel: 14.1
	Compiler: clang 18.1.5

Windows Server 2022
	Kernel: 10.0.20348.2031
	Compiler: clang 15.0.7, gcc 8.1.0 (MinGW), and MSVC VS 17.9

To view detailed results, visit:
https://lab.dpdk.org/results/dashboard/patchsets/30207/

UNH-IOL DPDK Community Lab

To manage your email subscriptions, visit: 
https://lab.dpdk.org/results/dashboard/preferences/subscriptions/