From mboxrd@z Thu Jan  1 00:00:00 1970
Return-Path: <test-report-bounces@dpdk.org>
Received: from mails.dpdk.org (mails.dpdk.org [217.70.189.124])
	by inbox.dpdk.org (Postfix) with ESMTP id 489D445485
	for <public@inbox.dpdk.org>; Mon, 17 Jun 2024 19:05:25 +0200 (CEST)
Received: from mails.dpdk.org (localhost [127.0.0.1])
	by mails.dpdk.org (Postfix) with ESMTP id 45BD6402DA;
	Mon, 17 Jun 2024 19:05:25 +0200 (CEST)
Received: from mail-io1-f97.google.com (mail-io1-f97.google.com
 [209.85.166.97]) by mails.dpdk.org (Postfix) with ESMTP id E879B402BD
 for <test-report@dpdk.org>; Mon, 17 Jun 2024 19:05:23 +0200 (CEST)
Received: by mail-io1-f97.google.com with SMTP id
 ca18e2360f4ac-7e238fa7b10so189795239f.0
 for <test-report@dpdk.org>; Mon, 17 Jun 2024 10:05:23 -0700 (PDT)
DKIM-Signature: v=1; a=rsa-sha256; c=relaxed/relaxed;
 d=iol.unh.edu; s=unh-iol; t=1718643923; x=1719248723; darn=dpdk.org;
 h=references:in-reply-to:cc:to:from:subject:message-id:date:from:to
 :cc:subject:date:message-id:reply-to;
 bh=LiTFVBZHTEgD7G32LHzNDRiJbo65w2puVQ3wSGimSgU=;
 b=bUuRt1wuOTlUfzPZxNqpsTWzBxfEDKvHTNcedoQ9c1JusFJg9daivG4MoXxkXrmjqE
 fQtasVIE8/FKZU1cBSGfE/9FnGoUvYiwN0eDwCP8Wdh0EuwNm7MA96iGoaHv0n3an8BU
 iWQsbLiZ/iN57SOA3kHGigHK2NQikDHlMmOGY=
X-Google-DKIM-Signature: v=1; a=rsa-sha256; c=relaxed/relaxed;
 d=1e100.net; s=20230601; t=1718643923; x=1719248723;
 h=references:in-reply-to:cc:to:from:subject:message-id:date
 :x-gm-message-state:from:to:cc:subject:date:message-id:reply-to;
 bh=LiTFVBZHTEgD7G32LHzNDRiJbo65w2puVQ3wSGimSgU=;
 b=URbmnO0uPSVh9Hz7B0lzkECM4tldDKIM7B/ywVO4l0LeC9ULpjr3zjdx38s30PNbt1
 El9xNGD6//aYneKZTwW9P0qUYASuAsciSTtHt+PI0n/sO1G5VRWvr6t/IZy5hShmEpWA
 qRQS/Cl/Iu8wQCfUk5V01k2UtoMDIDf79AjpXDtgT1nXg1GwdLvRzXVkt5A6cXw1t/Jb
 MP5q7gCuWn1mr372LnVGoX9itmHlVXGkAMBqRP+/XOeiytnnbUXAXD2cHcG6GnOfZgnJ
 1pBayoZXr1Qr6XUbMNFKb3FXnjH1/YE6Ns92WXPFzMyb6Yzv0NnCqlTpHp20eWcmGO3N
 7M2Q==
X-Gm-Message-State: AOJu0YzRF6s+7N1YzWRzoey4AZ2XjlJnIJvvsKE12aqQFckkARSA4QcU
 My+fpcxwUpwzNwc6Z6sFDdVcU+3zbQSuF6I7uvDzVEQOwQetBPAr8fmRERp9cmNsX9s4QEcsE/v
 byKklYCYk3Iw4z20wYYJ8ynF+TubKDMC5p1SoecO8Q73pOeYIDIne8q+g
X-Google-Smtp-Source: AGHT+IG+KkoKOhXyD7WM40wyDzJmETYewKCcBrTCrZd71j1F+dtt+AkZrM9R3UUlHykLu4CgqA8rDpBTuU6U
X-Received: by 2002:a05:6602:3414:b0:7eb:81d6:c914 with SMTP id
 ca18e2360f4ac-7ebeb491eb1mr1210385239f.4.1718643923373; 
 Mon, 17 Jun 2024 10:05:23 -0700 (PDT)
Received: from postal.iol.unh.edu (postal.iol.unh.edu.
 [2606:4100:3880:1234::84]) by smtp-relay.gmail.com with ESMTPS id
 8926c6da1cb9f-4b9569a8030sm190619173.40.2024.06.17.10.05.23
 (version=TLS1_2 cipher=ECDHE-ECDSA-AES128-GCM-SHA256 bits=128/128);
 Mon, 17 Jun 2024 10:05:23 -0700 (PDT)
X-Relaying-Domain: iol.unh.edu
Date: Mon, 17 Jun 2024 10:05:23 -0700 (PDT)
Message-ID: <66706cd3.020a0220.8fa0.b6f8SMTPIN_ADDED_MISSING@mx.google.com>
Received: from [172.21.0.8] (unknown [172.18.0.240])
 by postal.iol.unh.edu (Postfix) with ESMTP id D620D605C380;
 Mon, 17 Jun 2024 13:05:22 -0400 (EDT)
Subject: |SUCCESS| pw141203 [PATCH] common/cnxk: fix flow aging application e
From: dpdklab@iol.unh.edu
To: Test Report <test-report@dpdk.org>
Cc: dpdk-test-reports@iol.unh.edu
In-Reply-To: <20240617112754.4080314-1-psatheesh@marvell.com>
References: <20240617112754.4080314-1-psatheesh@marvell.com>
Content-Type: text/plain
X-BeenThere: test-report@dpdk.org
X-Mailman-Version: 2.1.29
Precedence: list
List-Id: automatic DPDK test reports <test-report.dpdk.org>
List-Unsubscribe: <https://mails.dpdk.org/options/test-report>,
 <mailto:test-report-request@dpdk.org?subject=unsubscribe>
List-Archive: <http://mails.dpdk.org/archives/test-report/>
List-Post: <mailto:test-report@dpdk.org>
List-Help: <mailto:test-report-request@dpdk.org?subject=help>
List-Subscribe: <https://mails.dpdk.org/listinfo/test-report>,
 <mailto:test-report-request@dpdk.org?subject=subscribe>
Errors-To: test-report-bounces@dpdk.org

Test-Label: iol-abi-testing
Test-Status: SUCCESS
http://dpdk.org/patch/141203

_Testing PASS_

Submitter: Satheesh Paul Antonysamy <psatheesh@marvell.com>
Date: Monday, June 17 2024 11:27:54 
DPDK git baseline: Repo:dpdk
  Branch: master
  CommitID:0b3953bc4b95fb6b0c7c2ccb258175635868b5a5

141203 --> testing pass

Test environment and result as below:

+-----------------+----------+
|   Environment   | abi_test |
+=================+==========+
| CentOS Stream 9 | PASS     |
+-----------------+----------+
| Fedora 40       | PASS     |
+-----------------+----------+
| Debian Bullseye | PASS     |
+-----------------+----------+
| CentOS Stream 8 | PASS     |
+-----------------+----------+
| Fedora 38       | PASS     |
+-----------------+----------+
| Fedora 37       | PASS     |
+-----------------+----------+
| Debian 12       | PASS     |
+-----------------+----------+


CentOS Stream 9
	Kernel: 5.4.0-167-generic
	Compiler: gcc 11.4.1 20230605

Fedora 40
	Kernel: Depends on container host
	Compiler: clang 18.1.6

Debian Bullseye
	Kernel: 5.4.0-167-generic
	Compiler: gcc 10.2.1-6

CentOS Stream 8
	Kernel: 5.4.0-167-generic
	Compiler: gcc 8.5.0 20210514

Fedora 38
	Kernel: Depends on container host
	Compiler: clang 16.0.6

Fedora 37
	Kernel: Depends on container host system
	Compiler: gcc 12.3.1

Debian 12
	Kernel: Container Host Kernel
	Compiler: gcc 12.2.0

To view detailed results, visit:
https://lab.dpdk.org/results/dashboard/patchsets/30207/

UNH-IOL DPDK Community Lab

To manage your email subscriptions, visit: 
https://lab.dpdk.org/results/dashboard/preferences/subscriptions/