From mboxrd@z Thu Jan  1 00:00:00 1970
Return-Path: <test-report-bounces@dpdk.org>
Received: from mails.dpdk.org (mails.dpdk.org [217.70.189.124])
	by inbox.dpdk.org (Postfix) with ESMTP id 0827445484
	for <public@inbox.dpdk.org>; Mon, 17 Jun 2024 20:58:58 +0200 (CEST)
Received: from mails.dpdk.org (localhost [127.0.0.1])
	by mails.dpdk.org (Postfix) with ESMTP id 042CC402DA;
	Mon, 17 Jun 2024 20:58:58 +0200 (CEST)
Received: from mail-io1-f98.google.com (mail-io1-f98.google.com
 [209.85.166.98]) by mails.dpdk.org (Postfix) with ESMTP id ADFFB402BD
 for <test-report@dpdk.org>; Mon, 17 Jun 2024 20:58:56 +0200 (CEST)
Received: by mail-io1-f98.google.com with SMTP id
 ca18e2360f4ac-7e21b6e98bdso181662039f.0
 for <test-report@dpdk.org>; Mon, 17 Jun 2024 11:58:56 -0700 (PDT)
DKIM-Signature: v=1; a=rsa-sha256; c=relaxed/relaxed;
 d=iol.unh.edu; s=unh-iol; t=1718650736; x=1719255536; darn=dpdk.org;
 h=references:in-reply-to:cc:to:from:subject:message-id:date:from:to
 :cc:subject:date:message-id:reply-to;
 bh=8PLfy6BMOM2ahw2E7zQY4Y+M5r60ECYBWTDBap6ljBQ=;
 b=bowxXe4y4CLI387KD/sZ0tKSnSsiSRlMx2c05FGhe4tPwyYg7g5lxkeMW93lwic/Lp
 cZc9l16zz7wGObb+SMPU5DyEkuHXM4Tm75NcoxkRvq5qpKLIdnWYb4Jw+dLKTNMB0MHA
 JLCVGcjoNOrkvqF9wS0p0sckjDPSUXH66qi40=
X-Google-DKIM-Signature: v=1; a=rsa-sha256; c=relaxed/relaxed;
 d=1e100.net; s=20230601; t=1718650736; x=1719255536;
 h=references:in-reply-to:cc:to:from:subject:message-id:date
 :x-gm-message-state:from:to:cc:subject:date:message-id:reply-to;
 bh=8PLfy6BMOM2ahw2E7zQY4Y+M5r60ECYBWTDBap6ljBQ=;
 b=PnT2PapN+2gFpixAgksq1Rc519xqaJXhxidtuPsHskTQguEwCUfqBC4vP2ion7iwJY
 tVeF/yCP8Bqxa46pTb7Osc6tp3okImr0sMHK07B3JQTMRnjNUjSpPfSZ84Jf6sGn4gHT
 7EU4cOuVAQTbeLJMnRSA8EKcqcPBNlikApsUwCa8h5ZHtO9PQBQRyllwbviF2q6YDS0b
 oNSp0gRRm6F9WuaIbteRV17HRunpqDApp0Yskze3X9Q5mvPShGngGlf2od9vlWgRcR3s
 zjZtVSCDkDlMekOdqPPbqc1Gyy3z8amvy8pMjXy2ZjZunjVFeyToF7eEfG9AoCo7OvFN
 z/Tg==
X-Gm-Message-State: AOJu0YyyDk13KgwiNmHJW0Gje3tnF0/DdmkgKzjkpXXTYZ5MN9L97lZD
 eeY3CpqqWrUv5T4OOyazVcxICx4+ZTXsFFFWYaWXaZY21QRPRx8r889b1nJfbV4gWQ4NI6akitK
 v0EQyh0ISX/s0dkbvFLcjDJWM/8GOWt23KexyQYHr
X-Google-Smtp-Source: AGHT+IGQ3ucBum67REWOCt1AxYUGX2qa//RzX3+rDP/Zwy+6uQFM3vN4yMSxU+7/IK1fXUUOu3r1jjbw6EBV
X-Received: by 2002:a05:6602:6d02:b0:7eb:89ba:44fe with SMTP id
 ca18e2360f4ac-7ebeb647388mr1023444439f.17.1718650735877; 
 Mon, 17 Jun 2024 11:58:55 -0700 (PDT)
Received: from postal.iol.unh.edu (postal.iol.unh.edu. [132.177.123.84])
 by smtp-relay.gmail.com with ESMTPS id
 ca18e2360f4ac-7ebdba82f22sm29400139f.21.2024.06.17.11.58.55
 (version=TLS1_2 cipher=ECDHE-ECDSA-AES128-GCM-SHA256 bits=128/128);
 Mon, 17 Jun 2024 11:58:55 -0700 (PDT)
X-Relaying-Domain: iol.unh.edu
Date: Mon, 17 Jun 2024 11:58:55 -0700 (PDT)
Message-ID: <6670876f.050a0220.bfcee.35fcSMTPIN_ADDED_MISSING@mx.google.com>
Received: from [172.21.0.6] (unknown [172.18.0.240])
 by postal.iol.unh.edu (Postfix) with ESMTP id 69849605C380;
 Mon, 17 Jun 2024 14:58:55 -0400 (EDT)
Subject: |SUCCESS| pw141203 [PATCH] common/cnxk: fix flow aging application e
From: dpdklab@iol.unh.edu
To: Test Report <test-report@dpdk.org>
Cc: dpdk-test-reports@iol.unh.edu
In-Reply-To: <20240617112754.4080314-1-psatheesh@marvell.com>
References: <20240617112754.4080314-1-psatheesh@marvell.com>
Content-Type: text/plain
X-BeenThere: test-report@dpdk.org
X-Mailman-Version: 2.1.29
Precedence: list
List-Id: automatic DPDK test reports <test-report.dpdk.org>
List-Unsubscribe: <https://mails.dpdk.org/options/test-report>,
 <mailto:test-report-request@dpdk.org?subject=unsubscribe>
List-Archive: <http://mails.dpdk.org/archives/test-report/>
List-Post: <mailto:test-report@dpdk.org>
List-Help: <mailto:test-report-request@dpdk.org?subject=help>
List-Subscribe: <https://mails.dpdk.org/listinfo/test-report>,
 <mailto:test-report-request@dpdk.org?subject=subscribe>
Errors-To: test-report-bounces@dpdk.org

Test-Label: iol-unit-amd64-testing
Test-Status: SUCCESS
http://dpdk.org/patch/141203

_Testing PASS_

Submitter: Satheesh Paul Antonysamy <psatheesh@marvell.com>
Date: Monday, June 17 2024 11:27:54 
DPDK git baseline: Repo:dpdk
  Branch: master
  CommitID:0b3953bc4b95fb6b0c7c2ccb258175635868b5a5

141203 --> testing pass

Test environment and result as below:

+---------------------+----------------+
|     Environment     | dpdk_unit_test |
+=====================+================+
| Windows Server 2019 | PASS           |
+---------------------+----------------+
| Windows Server 2022 | PASS           |
+---------------------+----------------+
| CentOS Stream 9     | PASS           |
+---------------------+----------------+
| Debian Bullseye     | PASS           |
+---------------------+----------------+
| Debian 12           | PASS           |
+---------------------+----------------+
| CentOS Stream 8     | PASS           |
+---------------------+----------------+
| Fedora 37           | PASS           |
+---------------------+----------------+
| Fedora 38           | PASS           |
+---------------------+----------------+
| Fedora 39           | PASS           |
+---------------------+----------------+
| Fedora 40           | PASS           |
+---------------------+----------------+
| RHEL9               | PASS           |
+---------------------+----------------+
| RHEL8               | PASS           |
+---------------------+----------------+
| openSUSE Leap 15    | PASS           |
+---------------------+----------------+
| Ubuntu 20.04        | PASS           |
+---------------------+----------------+
| Ubuntu 24.04        | PASS           |
+---------------------+----------------+
| Ubuntu 22.04        | PASS           |
+---------------------+----------------+


Windows Server 2019
	Kernel: 10.0.17763
	Compiler: clang 14.0 and gcc 8.1.0 (MinGW)

Windows Server 2022
	Kernel: 10.0.20348.2031
	Compiler: clang 15.0.7, gcc 8.1.0 (MinGW), and MSVC VS 17.9

CentOS Stream 9
	Kernel: 5.4.0-167-generic
	Compiler: gcc 11.4.1 20230605

Debian Bullseye
	Kernel: 5.4.0-167-generic
	Compiler: gcc 10.2.1-6

Debian 12
	Kernel: Container Host Kernel
	Compiler: gcc 12.2.0

CentOS Stream 8
	Kernel: 5.4.0-167-generic
	Compiler: gcc 8.5.0 20210514

Fedora 37
	Kernel: Depends on container host system
	Compiler: gcc 12.3.1

Fedora 38
	Kernel: Depends on container host
	Compiler: gcc 13.2.1

Fedora 39
	Kernel: Depends on container host
	Compiler: gcc 13.2.1

Fedora 40
	Kernel: Depends on container host
	Compiler: gcc 14.1.1

RHEL9
	Kernel: Depends on container host
	Compiler: gcc 11.4.1

RHEL8
	Kernel: 5.4.0-167-generic
	Compiler: gcc 8.5.0 20210514 (Red Hat 8.5.0-20)

openSUSE Leap 15
	Kernel: 5.4.0-167-generic
	Compiler: gcc 7.5.0

Ubuntu 20.04
	Kernel: 5.4.0-167-generic
	Compiler: gcc 9.4.0-1ubuntu1~20.04.1

Ubuntu 24.04
	Kernel: 5.4.0-167-generic
	Compiler: gcc 13.2.0

Ubuntu 22.04
	Kernel: 5.4.0-167-generic
	Compiler: gcc 11.4.0

To view detailed results, visit:
https://lab.dpdk.org/results/dashboard/patchsets/30207/

UNH-IOL DPDK Community Lab

To manage your email subscriptions, visit: 
https://lab.dpdk.org/results/dashboard/preferences/subscriptions/