From mboxrd@z Thu Jan  1 00:00:00 1970
Return-Path: <test-report-bounces@dpdk.org>
Received: from mails.dpdk.org (mails.dpdk.org [217.70.189.124])
	by inbox.dpdk.org (Postfix) with ESMTP id A72E645481
	for <public@inbox.dpdk.org>; Tue, 18 Jun 2024 00:38:54 +0200 (CEST)
Received: from mails.dpdk.org (localhost [127.0.0.1])
	by mails.dpdk.org (Postfix) with ESMTP id A2BBE402B0;
	Tue, 18 Jun 2024 00:38:54 +0200 (CEST)
Received: from mail-qv1-f98.google.com (mail-qv1-f98.google.com
 [209.85.219.98]) by mails.dpdk.org (Postfix) with ESMTP id 52D7E4027B
 for <test-report@dpdk.org>; Tue, 18 Jun 2024 00:38:53 +0200 (CEST)
Received: by mail-qv1-f98.google.com with SMTP id
 6a1803df08f44-6b09072c9d9so38389526d6.1
 for <test-report@dpdk.org>; Mon, 17 Jun 2024 15:38:53 -0700 (PDT)
DKIM-Signature: v=1; a=rsa-sha256; c=relaxed/relaxed;
 d=iol.unh.edu; s=unh-iol; t=1718663932; x=1719268732; darn=dpdk.org;
 h=references:in-reply-to:cc:to:from:subject:message-id:date:from:to
 :cc:subject:date:message-id:reply-to;
 bh=3lVl9s/FTT7T0f8+WqHXHjlokquFsJqfp1l+SuOJvMk=;
 b=XbgkzB/PC9k1jhsEJKzum4emjq5i7CiZhoIvkxsYEJVfACMOLatsuETfHsY/w+Z0mZ
 NiG5vg0gJXhb33K3tE5yUrMcXJ29EkDua5rQo53z+M0cLh8h5nmHW5DJOD2RfDNtQ29e
 uo8K4QAI87PO5MRV9vdpzR6SInDbTmlsGxY6w=
X-Google-DKIM-Signature: v=1; a=rsa-sha256; c=relaxed/relaxed;
 d=1e100.net; s=20230601; t=1718663932; x=1719268732;
 h=references:in-reply-to:cc:to:from:subject:message-id:date
 :x-gm-message-state:from:to:cc:subject:date:message-id:reply-to;
 bh=3lVl9s/FTT7T0f8+WqHXHjlokquFsJqfp1l+SuOJvMk=;
 b=VhajbPlE5J9tUydy48VUKdvn+D20MPy+PGQl2f2+V4Sieo1TI6OkZtRuZsYRGYU0q9
 iTTUabXYLf3bRKU48JKVH6Hp6fFEOi28q+InxMrxHmS3a9boNsYM2MvLLxJU7bwfySaE
 xetpjaMSPoj2qYQ4QCzkRXnoNlxJl7EUuj9EXMyuDWIOiwVlbipxmgiKgwIs+p06Lfd9
 GDUXXw+BOoJs+pAZacOlPnQZKVuDuK+lKjpSHyemV2KbcY4CkCc8wm7NRd/og5tenzLS
 4TgqTJ0ylVPkG8m9moUePSwqPU6nn7vx6UJMnN7PO4/J5+OtchzuKujKvfvPTXM9h+Am
 tg/g==
X-Gm-Message-State: AOJu0YzMtQDtF1irVsWCh4znjTSKokFxGVNorRto0EGIkO6DCrzEj2uh
 QZ70YfnfNEdkSqDtXKnBkgeUKzQd3n+e7FhiZRMg175mxDs+V4nxHLTFx7F++E37Z8flTgadhkF
 U0lefeq9lMu4KrRIZSbtJ9uYghxtwJBUqdncXnvtXL/LlwG9lrPvJB6az
X-Google-Smtp-Source: AGHT+IHaa158pyGrRm4f2JLvQXiniuEj/8xK6oIAsRVVIeFbt++3IHtR2QbcnayiWR/+RPo6CVxTBPCxdCv0
X-Received: by 2002:ad4:5ccf:0:b0:6ab:9c77:c32c with SMTP id
 6a1803df08f44-6b2e230dcbfmr20545876d6.10.1718663932746; 
 Mon, 17 Jun 2024 15:38:52 -0700 (PDT)
Received: from postal.iol.unh.edu (postal.iol.unh.edu.
 [2606:4100:3880:1234::84]) by smtp-relay.gmail.com with ESMTPS id
 6a1803df08f44-6b2a5a39abasm4546376d6.18.2024.06.17.15.38.52
 (version=TLS1_2 cipher=ECDHE-ECDSA-AES128-GCM-SHA256 bits=128/128);
 Mon, 17 Jun 2024 15:38:52 -0700 (PDT)
X-Relaying-Domain: iol.unh.edu
Date: Mon, 17 Jun 2024 15:38:52 -0700 (PDT)
Message-ID: <6670bafc.050a0220.79007.e612SMTPIN_ADDED_MISSING@mx.google.com>
Received: from [172.21.0.6] (unknown [172.18.0.240])
 by postal.iol.unh.edu (Postfix) with ESMTP id 65250605C380;
 Mon, 17 Jun 2024 18:38:52 -0400 (EDT)
Subject: |SUCCESS| pw141227-141229 [PATCH] [v2,3/3] dts: queue suite conf sch
From: dpdklab@iol.unh.edu
To: Test Report <test-report@dpdk.org>
Cc: dpdk-test-reports@iol.unh.edu
In-Reply-To: <20240617194638.12926-8-dmarx@iol.unh.edu>
References: <20240617194638.12926-8-dmarx@iol.unh.edu>
Content-Type: text/plain
X-BeenThere: test-report@dpdk.org
X-Mailman-Version: 2.1.29
Precedence: list
List-Id: automatic DPDK test reports <test-report.dpdk.org>
List-Unsubscribe: <https://mails.dpdk.org/options/test-report>,
 <mailto:test-report-request@dpdk.org?subject=unsubscribe>
List-Archive: <http://mails.dpdk.org/archives/test-report/>
List-Post: <mailto:test-report@dpdk.org>
List-Help: <mailto:test-report-request@dpdk.org?subject=help>
List-Subscribe: <https://mails.dpdk.org/listinfo/test-report>,
 <mailto:test-report-request@dpdk.org?subject=subscribe>
Errors-To: test-report-bounces@dpdk.org

Test-Label: iol-abi-testing
Test-Status: SUCCESS
http://dpdk.org/patch/141229

_Testing PASS_

Submitter: Dean Marx <dmarx@iol.unh.edu>
Date: Monday, June 17 2024 19:46:42 
DPDK git baseline: Repo:dpdk
  Branch: master
  CommitID:2a3b212fafaab648cf8abf771da427c991cd5de8

141227-141229 --> testing pass

Test environment and result as below:

+------------------+----------+
|   Environment    | abi_test |
+==================+==========+
| Fedora 38        | PASS     |
+------------------+----------+
| Fedora 39        | PASS     |
+------------------+----------+
| Fedora 40        | PASS     |
+------------------+----------+
| Debian Bullseye  | PASS     |
+------------------+----------+
| CentOS Stream 8  | PASS     |
+------------------+----------+
| CentOS Stream 9  | PASS     |
+------------------+----------+
| openSUSE Leap 15 | PASS     |
+------------------+----------+
| Debian 12        | PASS     |
+------------------+----------+
| Fedora 37        | PASS     |
+------------------+----------+
| RHEL8            | PASS     |
+------------------+----------+
| RHEL9            | PASS     |
+------------------+----------+
| Ubuntu 22.04     | PASS     |
+------------------+----------+
| Ubuntu 24.04     | PASS     |
+------------------+----------+


Fedora 38
	Kernel: Depends on container host
	Compiler: clang 16.0.6

Fedora 39
	Kernel: Depends on container host
	Compiler: clang 17.0.6

Fedora 40
	Kernel: Depends on container host
	Compiler: clang 18.1.6

Debian Bullseye
	Kernel: 5.4.0-167-generic
	Compiler: gcc 10.2.1-6

CentOS Stream 8
	Kernel: 5.4.0-167-generic
	Compiler: gcc 8.5.0 20210514

CentOS Stream 9
	Kernel: 5.4.0-167-generic
	Compiler: gcc 11.4.1 20230605

openSUSE Leap 15
	Kernel: 5.4.0-167-generic
	Compiler: gcc 7.5.0

Debian 12
	Kernel: Container Host Kernel
	Compiler: gcc 12.2.0

Fedora 37
	Kernel: Depends on container host system
	Compiler: gcc 12.3.1

RHEL8
	Kernel: 5.4.0-167-generic
	Compiler: gcc 8.5.0 20210514 (Red Hat 8.5.0-20)

RHEL9
	Kernel: Depends on container host
	Compiler: gcc 11.4.1

Ubuntu 22.04
	Kernel: 5.4.0-167-generic
	Compiler: gcc 11.4.0

Ubuntu 24.04
	Kernel: 5.4.0-167-generic
	Compiler: gcc 13.2.0

To view detailed results, visit:
https://lab.dpdk.org/results/dashboard/patchsets/30216/

UNH-IOL DPDK Community Lab

To manage your email subscriptions, visit: 
https://lab.dpdk.org/results/dashboard/preferences/subscriptions/