From mboxrd@z Thu Jan  1 00:00:00 1970
Return-Path: <test-report-bounces@dpdk.org>
Received: from mails.dpdk.org (mails.dpdk.org [217.70.189.124])
	by inbox.dpdk.org (Postfix) with ESMTP id 0C30945481
	for <public@inbox.dpdk.org>; Tue, 18 Jun 2024 01:49:29 +0200 (CEST)
Received: from mails.dpdk.org (localhost [127.0.0.1])
	by mails.dpdk.org (Postfix) with ESMTP id 0668F402B0;
	Tue, 18 Jun 2024 01:49:29 +0200 (CEST)
Received: from mail-pl1-f228.google.com (mail-pl1-f228.google.com
 [209.85.214.228])
 by mails.dpdk.org (Postfix) with ESMTP id 0A2094027B
 for <test-report@dpdk.org>; Tue, 18 Jun 2024 01:49:28 +0200 (CEST)
Received: by mail-pl1-f228.google.com with SMTP id
 d9443c01a7336-1f44b441b08so36113745ad.0
 for <test-report@dpdk.org>; Mon, 17 Jun 2024 16:49:27 -0700 (PDT)
DKIM-Signature: v=1; a=rsa-sha256; c=relaxed/relaxed;
 d=iol.unh.edu; s=unh-iol; t=1718668167; x=1719272967; darn=dpdk.org;
 h=references:in-reply-to:cc:to:from:subject:message-id:date:from:to
 :cc:subject:date:message-id:reply-to;
 bh=WB5zzzXY4Ye35dG+a43o5wJXNXBoGS9JAmOrb94Syi8=;
 b=Oa2d7jZGQg1gkXrgDFxUTZ9eunY+CzL297AWDIlnpJwrxuH+h53/aYD3SD4g6oeFF0
 VtjQpWQIvc0seVhWrBITBm39OEral5IL4ZWJcjvAVnF9bcU7uZW/g4Ki6QJSQP3Q0Pty
 RJYCR08nL4YfTS7aEr/8y6Quc2UnpQh5OUY40=
X-Google-DKIM-Signature: v=1; a=rsa-sha256; c=relaxed/relaxed;
 d=1e100.net; s=20230601; t=1718668167; x=1719272967;
 h=references:in-reply-to:cc:to:from:subject:message-id:date
 :x-gm-message-state:from:to:cc:subject:date:message-id:reply-to;
 bh=WB5zzzXY4Ye35dG+a43o5wJXNXBoGS9JAmOrb94Syi8=;
 b=FFg81FQYNKe+I2t/mdk2kvWAfdi1LoSEUS0AHdLds5evB0w+3Q6cpIo4U5AcvI23sV
 WWkP8/l+mIkReQMDuve2+QIx9Ee87uWgdaO/Fyt9wKLlRL3gD8UJ8+ta2wFo0iUpXd82
 rTSefvQ4O11EdzPovt5fnqZIFibKT3T+Btym/GMRM9GschKYiQGkk4dkC0EzvNpVtc+I
 Q2L7a5FyFTKLA+gE9iFyHi79U++TjiFaVStHG042ziY+BylXz7cso2ZEkOGavHaLk541
 bCqA08NwGOr+2EIUjzYVCFlJfqu0ETaJPskvmo9L0VodVQFbYjNeqFTgunyb+OTrrg6a
 ROPw==
X-Gm-Message-State: AOJu0YymtyPKwNbNby/L5kN6WMR/j3mTQIJ5cbpKFWgi9SNBCoy0qP4Z
 igZchnUAZx2sF9Zq5KwOdqsIHYxK4Tp6P0jKNdGD03/yprbf+GXnELzNe+pJgWlr/wGECoFed2/
 uoUXcYIAD0bRw/5x4VefXNY9nQphiaquOIwJEukZoxpIfU+9N0Tcxq9ni
X-Google-Smtp-Source: AGHT+IEGvn1W+CcCU72cISw3jn48kRoBtQYcM1vgCuQSsg52+ZvIRJ0ko9ETxML7bjSGJSVlP+5tXNx218HV
X-Received: by 2002:a17:902:ec8a:b0:1f7:b24:c271 with SMTP id
 d9443c01a7336-1f8625da0ebmr111206605ad.21.1718668167031; 
 Mon, 17 Jun 2024 16:49:27 -0700 (PDT)
Received: from postal.iol.unh.edu (postal.iol.unh.edu.
 [2606:4100:3880:1234::84]) by smtp-relay.gmail.com with ESMTPS id
 d9443c01a7336-1f855e20cdbsm4062235ad.24.2024.06.17.16.49.26
 (version=TLS1_2 cipher=ECDHE-ECDSA-AES128-GCM-SHA256 bits=128/128);
 Mon, 17 Jun 2024 16:49:27 -0700 (PDT)
X-Relaying-Domain: iol.unh.edu
Date: Mon, 17 Jun 2024 16:49:27 -0700 (PDT)
Message-ID: <6670cb87.170a0220.27788.b485SMTPIN_ADDED_MISSING@mx.google.com>
Received: from [172.21.0.6] (unknown [172.18.0.240])
 by postal.iol.unh.edu (Postfix) with ESMTP id 17ABF605C380;
 Mon, 17 Jun 2024 19:49:26 -0400 (EDT)
Subject: |SUCCESS| pw141154-141156 [PATCH] [v3,3/3] Config schema
From: dpdklab@iol.unh.edu
To: Test Report <test-report@dpdk.org>
Cc: dpdk-test-reports@iol.unh.edu
In-Reply-To: <20240614150238.26374-4-dmarx@iol.unh.edu>
References: <20240614150238.26374-4-dmarx@iol.unh.edu>
Content-Type: text/plain
X-BeenThere: test-report@dpdk.org
X-Mailman-Version: 2.1.29
Precedence: list
List-Id: automatic DPDK test reports <test-report.dpdk.org>
List-Unsubscribe: <https://mails.dpdk.org/options/test-report>,
 <mailto:test-report-request@dpdk.org?subject=unsubscribe>
List-Archive: <http://mails.dpdk.org/archives/test-report/>
List-Post: <mailto:test-report@dpdk.org>
List-Help: <mailto:test-report-request@dpdk.org?subject=help>
List-Subscribe: <https://mails.dpdk.org/listinfo/test-report>,
 <mailto:test-report-request@dpdk.org?subject=subscribe>
Errors-To: test-report-bounces@dpdk.org

Test-Label: iol-compile-arm64-testing
Test-Status: SUCCESS
http://dpdk.org/patch/141156

_Testing PASS_

Submitter: Dean Marx <dmarx@iol.unh.edu>
Date: Friday, June 14 2024 15:02:38 
DPDK git baseline: Repo:dpdk
  Branch: master
  CommitID:2a3b212fafaab648cf8abf771da427c991cd5de8

141154-141156 --> testing pass

Test environment and result as below:

+----------------------------------------+--------------------+
|              Environment               | dpdk_meson_compile |
+========================================+====================+
| Ubuntu 20.04 ARM SVE                   | PASS               |
+----------------------------------------+--------------------+
| RHEL9 (ARM)                            | PASS               |
+----------------------------------------+--------------------+
| Debian 12 with MUSDK                   | PASS               |
+----------------------------------------+--------------------+
| Fedora 37 (ARM)                        | PASS               |
+----------------------------------------+--------------------+
| Fedora 38 (ARM)                        | PASS               |
+----------------------------------------+--------------------+
| Fedora 39 (ARM)                        | PASS               |
+----------------------------------------+--------------------+
| Ubuntu 22.04 (ARM)                     | PASS               |
+----------------------------------------+--------------------+
| Fedora 40 (ARM)                        | PASS               |
+----------------------------------------+--------------------+
| Ubuntu 20.04 ARM GCC Cross Compile     | PASS               |
+----------------------------------------+--------------------+
| Ubuntu 20.04 (ARM)                     | PASS               |
+----------------------------------------+--------------------+
| CentOS Stream 9 (ARM)                  | PASS               |
+----------------------------------------+--------------------+
| Ubuntu 24.04 (ARM)                     | PASS               |
+----------------------------------------+--------------------+
| Ubuntu 20.04 aarch32 GCC Cross Compile | PASS               |
+----------------------------------------+--------------------+
| Debian 12 (arm)                        | PASS               |
+----------------------------------------+--------------------+
| Ubuntu 20.04 ARM Clang Cross Compile   | PASS               |
+----------------------------------------+--------------------+
| Fedora 40 (ARM Clang)                  | PASS               |
+----------------------------------------+--------------------+
| Fedora 38 (ARM Clang)                  | PASS               |
+----------------------------------------+--------------------+


Ubuntu 20.04 ARM SVE
	Kernel: 5.4.0-167-generic
	Compiler: gcc (Ubuntu 10.5.0-1ubuntu1~20.04) 10.5.0

RHEL9 (ARM)
	Kernel: Depends on container host
	Compiler: gcc 11.4.1

Debian 12 with MUSDK
	Kernel: Container Host Kernel
	Compiler: gcc 12.2.0

Fedora 37 (ARM)
	Kernel: Depends on container host
	Compiler: gcc 12.3.1

Fedora 38 (ARM)
	Kernel: Depends on container host
	Compiler: gcc 13.2.1

Fedora 39 (ARM)
	Kernel: Depends on container host
	Compiler: gcc 13.2.1

Ubuntu 22.04 (ARM)
	Kernel: Container Host Kernel
	Compiler: gcc 11.4.0

Fedora 40 (ARM)
	Kernel: Depends on container host
	Compiler: gcc 14.1.1

Ubuntu 20.04 ARM GCC Cross Compile
	Kernel: 5.4.0-167-generic
	Compiler: aarch64-linux-gnu-gcc (Ubuntu 9.4.0-1ubuntu1~20.04.2) 9.4.0

Ubuntu 20.04 (ARM)
	Kernel: Container Host Kernel
	Compiler: gcc 9.4.0

CentOS Stream 9 (ARM)
	Kernel: Container Host Kernel
	Compiler: gcc 11.4.1

Ubuntu 24.04 (ARM)
	Kernel: 5.4.0-167-generic
	Compiler: gcc 13.2.0

Ubuntu 20.04 aarch32 GCC Cross Compile
	Kernel: 5.4.0-167-generic
	Compiler: gcc 9.4.0

Debian 12 (arm)
	Kernel: Container Host Kernel
	Compiler: gcc 12.2.0

Ubuntu 20.04 ARM Clang Cross Compile
	Kernel: 5.4.0-72-generic
	Compiler: clang 10.0.0-4ubuntu1

Fedora 40 (ARM Clang)
	Kernel: Depends on container host
	Compiler: clang 18.1.6

Fedora 38 (ARM Clang)
	Kernel: Depends on container host
	Compiler: clang 16.0.6

To view detailed results, visit:
https://lab.dpdk.org/results/dashboard/patchsets/30194/

UNH-IOL DPDK Community Lab

To manage your email subscriptions, visit: 
https://lab.dpdk.org/results/dashboard/preferences/subscriptions/