From mboxrd@z Thu Jan  1 00:00:00 1970
Return-Path: <test-report-bounces@dpdk.org>
Received: from mails.dpdk.org (mails.dpdk.org [217.70.189.124])
	by inbox.dpdk.org (Postfix) with ESMTP id BC2E545485
	for <public@inbox.dpdk.org>; Tue, 18 Jun 2024 02:19:28 +0200 (CEST)
Received: from mails.dpdk.org (localhost [127.0.0.1])
	by mails.dpdk.org (Postfix) with ESMTP id B85EA402AD;
	Tue, 18 Jun 2024 02:19:28 +0200 (CEST)
Received: from mail-qk1-f226.google.com (mail-qk1-f226.google.com
 [209.85.222.226])
 by mails.dpdk.org (Postfix) with ESMTP id C786F4027B
 for <test-report@dpdk.org>; Tue, 18 Jun 2024 02:19:27 +0200 (CEST)
Received: by mail-qk1-f226.google.com with SMTP id
 af79cd13be357-7965d034cedso316921985a.3
 for <test-report@dpdk.org>; Mon, 17 Jun 2024 17:19:27 -0700 (PDT)
DKIM-Signature: v=1; a=rsa-sha256; c=relaxed/relaxed;
 d=iol.unh.edu; s=unh-iol; t=1718669967; x=1719274767; darn=dpdk.org;
 h=references:in-reply-to:cc:to:from:subject:message-id:date:from:to
 :cc:subject:date:message-id:reply-to;
 bh=TqPQKOxJ0xc1Ha8uvMnxSR8VMnB2Vn8w6S/ps0uA04s=;
 b=NBZb/Ecxsc4zLZ7YMjtnsHuroCDkwg6cqi6xaApNQARl4KmHOM0flf6El9wJUXoVUT
 QiC/+g2v3ocRjNBiJ8q01+WqHr9AELfpUHbXM3AGauXQqs3Fy+I9iRadJoANALqVT+k0
 7l9WTmKe3QEXWiDW+cv0BeUVtXII8hbRvvjvw=
X-Google-DKIM-Signature: v=1; a=rsa-sha256; c=relaxed/relaxed;
 d=1e100.net; s=20230601; t=1718669967; x=1719274767;
 h=references:in-reply-to:cc:to:from:subject:message-id:date
 :x-gm-message-state:from:to:cc:subject:date:message-id:reply-to;
 bh=TqPQKOxJ0xc1Ha8uvMnxSR8VMnB2Vn8w6S/ps0uA04s=;
 b=juGk94PcFExfJDJthv0VjT3l/qc2aiQVKjD1iaPQhv4M4LiZl+lrHIYWKcoUguv1OG
 N5twVkTVNOBA0GueSf8+frDedPfVHBmmj92XpKkc4IK28HmEdQ/2F7U8KmwuBrplrC01
 9AXodNcSe+MqnvdBRxt0JhkOiJzhBXF8IOG+g2o5iXi6YXqlSlP1cgP9J65pSziAZXIR
 D9dH+tlLY3JlZ4biAyf1pvw1ibnVbO04JvSMY4O/mUyjHgmDkwSUOhtGwR7z0/GMZzp5
 bB6sIkqZg0j+jp5tn7Ibk6bdEzZrjyr+UNxJPYSIXyjDTm5JKs4vMsIYIO63NmXTcQoT
 l/yQ==
X-Gm-Message-State: AOJu0YzICHAFFULCJTOIhGG2J87cgUm0rq9XRwa8n18kn1mIcXn92jcs
 2+sSow+APYxaoQAgVjLkociG4ZEyMvV+imvSh+hDxbjvqa0wn4W7WyVfuLAje8t2jm0y/D9V0k7
 4nuergYKxR3tCO8UkG/BKrbdGyg+L/m2hJ+L6Hqra
X-Google-Smtp-Source: AGHT+IH3uWv7YPRENlAx1Hi5kesbPZLxWaaKCAvCcKbs7QUOCgIsIh+2iIay9TYA+mYqPUjuiAIY0RsnYXrO
X-Received: by 2002:a05:6214:202e:b0:6b0:5c89:a86e with SMTP id
 6a1803df08f44-6b2afcd3eadmr161733206d6.28.1718669967192; 
 Mon, 17 Jun 2024 17:19:27 -0700 (PDT)
Received: from postal.iol.unh.edu (postal.iol.unh.edu. [132.177.123.84])
 by smtp-relay.gmail.com with ESMTPS id
 d75a77b69052e-441f2ebc9a4sm2663361cf.17.2024.06.17.17.19.27
 (version=TLS1_2 cipher=ECDHE-ECDSA-AES128-GCM-SHA256 bits=128/128);
 Mon, 17 Jun 2024 17:19:27 -0700 (PDT)
X-Relaying-Domain: iol.unh.edu
Date: Mon, 17 Jun 2024 17:19:27 -0700 (PDT)
Message-ID: <6670d28f.050a0220.e2943.0e4fSMTPIN_ADDED_MISSING@mx.google.com>
Received: from [172.21.0.6] (unknown [172.18.0.240])
 by postal.iol.unh.edu (Postfix) with ESMTP id CD74C605C380;
 Mon, 17 Jun 2024 20:19:26 -0400 (EDT)
Subject: |SUCCESS| pw141154-141156 [PATCH] [v3,3/3] Config schema
From: dpdklab@iol.unh.edu
To: Test Report <test-report@dpdk.org>
Cc: dpdk-test-reports@iol.unh.edu
In-Reply-To: <20240614150238.26374-4-dmarx@iol.unh.edu>
References: <20240614150238.26374-4-dmarx@iol.unh.edu>
Content-Type: text/plain
X-BeenThere: test-report@dpdk.org
X-Mailman-Version: 2.1.29
Precedence: list
List-Id: automatic DPDK test reports <test-report.dpdk.org>
List-Unsubscribe: <https://mails.dpdk.org/options/test-report>,
 <mailto:test-report-request@dpdk.org?subject=unsubscribe>
List-Archive: <http://mails.dpdk.org/archives/test-report/>
List-Post: <mailto:test-report@dpdk.org>
List-Help: <mailto:test-report-request@dpdk.org?subject=help>
List-Subscribe: <https://mails.dpdk.org/listinfo/test-report>,
 <mailto:test-report-request@dpdk.org?subject=subscribe>
Errors-To: test-report-bounces@dpdk.org

Test-Label: iol-unit-arm64-testing
Test-Status: SUCCESS
http://dpdk.org/patch/141156

_Testing PASS_

Submitter: Dean Marx <dmarx@iol.unh.edu>
Date: Friday, June 14 2024 15:02:38 
DPDK git baseline: Repo:dpdk
  Branch: master
  CommitID:2a3b212fafaab648cf8abf771da427c991cd5de8

141154-141156 --> testing pass

Test environment and result as below:

+-----------------------------+----------------+--------------+------------------------------+---------------------------+
|         Environment         | dpdk_unit_test | lpm_autotest | cryptodev_sw_snow3g_autotest | cryptodev_sw_zuc_autotest |
+=============================+================+==============+==============================+===========================+
| 32-bit Ubuntu 20.04.4 (ARM) | PASS           | SKIPPED      | SKIPPED                      | SKIPPED                   |
+-----------------------------+----------------+--------------+------------------------------+---------------------------+
| Debian 11 (Buster) (ARM)    | PASS           | SKIPPED      | SKIPPED                      | SKIPPED                   |
+-----------------------------+----------------+--------------+------------------------------+---------------------------+
| CentOS Stream 9 (ARM)       | PASS           | SKIPPED      | SKIPPED                      | SKIPPED                   |
+-----------------------------+----------------+--------------+------------------------------+---------------------------+
| Fedora 37 (ARM)             | PASS           | SKIPPED      | SKIPPED                      | SKIPPED                   |
+-----------------------------+----------------+--------------+------------------------------+---------------------------+
| Fedora 40 (ARM)             | PASS           | SKIPPED      | SKIPPED                      | SKIPPED                   |
+-----------------------------+----------------+--------------+------------------------------+---------------------------+
| Debian 12 (arm)             | PASS           | SKIPPED      | PASS                         | PASS                      |
+-----------------------------+----------------+--------------+------------------------------+---------------------------+
| Fedora 38 (ARM)             | PASS           | SKIPPED      | SKIPPED                      | SKIPPED                   |
+-----------------------------+----------------+--------------+------------------------------+---------------------------+
| Fedora 38 (ARM Clang)       | PASS           | SKIPPED      | SKIPPED                      | SKIPPED                   |
+-----------------------------+----------------+--------------+------------------------------+---------------------------+
| Fedora 39 (ARM Clang)       | PASS           | SKIPPED      | SKIPPED                      | SKIPPED                   |
+-----------------------------+----------------+--------------+------------------------------+---------------------------+
| RHEL9 (ARM)                 | PASS           | SKIPPED      | SKIPPED                      | SKIPPED                   |
+-----------------------------+----------------+--------------+------------------------------+---------------------------+
| Ubuntu 22.04 (ARM)          | PASS           | SKIPPED      | SKIPPED                      | SKIPPED                   |
+-----------------------------+----------------+--------------+------------------------------+---------------------------+
| Ubuntu 24.04 (ARM)          | PASS           | SKIPPED      | SKIPPED                      | SKIPPED                   |
+-----------------------------+----------------+--------------+------------------------------+---------------------------+
| Fedora 40 (ARM Clang)       | PASS           | SKIPPED      | SKIPPED                      | SKIPPED                   |
+-----------------------------+----------------+--------------+------------------------------+---------------------------+
| Fedora 39 (ARM)             | PASS           | SKIPPED      | SKIPPED                      | SKIPPED                   |
+-----------------------------+----------------+--------------+------------------------------+---------------------------+
| Ubuntu 20.04 (ARM)          | PASS           | SKIPPED      | SKIPPED                      | SKIPPED                   |
+-----------------------------+----------------+--------------+------------------------------+---------------------------+
| Ubuntu 20.04 ARM SVE        | SKIPPED        | PASS         | SKIPPED                      | SKIPPED                   |
+-----------------------------+----------------+--------------+------------------------------+---------------------------+


32-bit Ubuntu 20.04.4 (ARM)
	Kernel: 5.4.0-155-generic aarch64
	Compiler: gcc 9.4

Debian 11 (Buster) (ARM)
	Kernel: Container Host Kernel
	Compiler: gcc 10.2.1

CentOS Stream 9 (ARM)
	Kernel: Container Host Kernel
	Compiler: gcc 11.4.1

Fedora 37 (ARM)
	Kernel: Depends on container host
	Compiler: gcc 12.3.1

Fedora 40 (ARM)
	Kernel: Depends on container host
	Compiler: gcc 14.1.1

Debian 12 (arm)
	Kernel: Container Host Kernel
	Compiler: gcc 12.2.0

Fedora 38 (ARM)
	Kernel: Depends on container host
	Compiler: gcc 13.2.1

Fedora 38 (ARM Clang)
	Kernel: Depends on container host
	Compiler: clang 16.0.6

Fedora 39 (ARM Clang)
	Kernel: Depends on container host
	Compiler: clang 17.0.6

RHEL9 (ARM)
	Kernel: Depends on container host
	Compiler: gcc 11.4.1

Ubuntu 22.04 (ARM)
	Kernel: Container Host Kernel
	Compiler: gcc 11.4.0

Ubuntu 24.04 (ARM)
	Kernel: 5.4.0-167-generic
	Compiler: gcc 13.2.0

Fedora 40 (ARM Clang)
	Kernel: Depends on container host
	Compiler: clang 18.1.6

Fedora 39 (ARM)
	Kernel: Depends on container host
	Compiler: gcc 13.2.1

Ubuntu 20.04 (ARM)
	Kernel: Container Host Kernel
	Compiler: gcc 9.4.0

Ubuntu 20.04 ARM SVE
	Kernel: 5.4.0-167-generic
	Compiler: gcc (Ubuntu 10.5.0-1ubuntu1~20.04) 10.5.0

To view detailed results, visit:
https://lab.dpdk.org/results/dashboard/patchsets/30194/

UNH-IOL DPDK Community Lab

To manage your email subscriptions, visit: 
https://lab.dpdk.org/results/dashboard/preferences/subscriptions/