From mboxrd@z Thu Jan  1 00:00:00 1970
Return-Path: <test-report-bounces@dpdk.org>
Received: from mails.dpdk.org (mails.dpdk.org [217.70.189.124])
	by inbox.dpdk.org (Postfix) with ESMTP id BECAA424CD
	for <public@inbox.dpdk.org>; Tue, 18 Jun 2024 05:38:44 +0200 (CEST)
Received: from mails.dpdk.org (localhost [127.0.0.1])
	by mails.dpdk.org (Postfix) with ESMTP id BBE7C4027B;
	Tue, 18 Jun 2024 05:38:44 +0200 (CEST)
Received: from mail-vk1-f227.google.com (mail-vk1-f227.google.com
 [209.85.221.227])
 by mails.dpdk.org (Postfix) with ESMTP id 712CE4026B
 for <test-report@dpdk.org>; Tue, 18 Jun 2024 05:38:43 +0200 (CEST)
Received: by mail-vk1-f227.google.com with SMTP id
 71dfb90a1353d-4ecf8af13edso1477253e0c.0
 for <test-report@dpdk.org>; Mon, 17 Jun 2024 20:38:43 -0700 (PDT)
DKIM-Signature: v=1; a=rsa-sha256; c=relaxed/relaxed;
 d=iol.unh.edu; s=unh-iol; t=1718681923; x=1719286723; darn=dpdk.org;
 h=references:in-reply-to:cc:to:from:subject:message-id:date:from:to
 :cc:subject:date:message-id:reply-to;
 bh=tL54XXuHFlucYEr11ocuYSzQT0aBg05+uGbAZsQzTOA=;
 b=T9R87B5Fd+VG7QEBKIHXUE1wBQGQFcX33t8rvXhjLnHbjM89uJswVVvIZbwbEX6SPR
 zQJXGizMSMtz29fUPvIfR0+flS8rT0WSYxaqDnOxvJFgDWlpoufbuMI8Wo5NgVWdj8Ey
 Z6cY6nsiccQ3skPUs3GuVUCmKv229GDxz365g=
X-Google-DKIM-Signature: v=1; a=rsa-sha256; c=relaxed/relaxed;
 d=1e100.net; s=20230601; t=1718681923; x=1719286723;
 h=references:in-reply-to:cc:to:from:subject:message-id:date
 :x-gm-message-state:from:to:cc:subject:date:message-id:reply-to;
 bh=tL54XXuHFlucYEr11ocuYSzQT0aBg05+uGbAZsQzTOA=;
 b=nQqBDvYEUOjCAiluaQvRKcyk7x711OsksE0R8+6IZl6AqDup0WNMXfUDrXWOufhMob
 DTVyb7vb8N74QLznjdo8xSqrlPlmA215ZlnaBQzPH9oivfKf9MWFTma2zBd2hWufdT0y
 rRcbsG/R3ufV1ZdM+K8QtvdQBYP5YpgaEIJc+ghe/qQD4Y2qnOGITZOSK2lsUzpmWU/k
 I20K+z89VAdVX60nW75ErvnQFxAlGGPm3O7ex7h44xeqYTvdSqOt1PRiLkfrDJfwyrhP
 05b8lxPMMrLL8DpFqfXHIYrCso6v2lgyeE2LvVFeqXIgpaXEbJZ5acRW4Dfr3W94Zt9L
 XKSw==
X-Gm-Message-State: AOJu0YyEGcdaR6pSGWZOywVZT5Z1Ki2BDnsSBmA8RkkPn+dpcU1VbeAc
 vCzmRE41hCJ7D0d06PCFuunJvU/k8FbF4huXFVwkhfgw0yIGAEMOI107w+1GNEDXzNrGcyRZ6/Q
 Cot2yYWjr5E+H8qG7jBXHRynOOJGDHGvu8wjlvc26uWkanKjBq0T5MMnc
X-Google-Smtp-Source: AGHT+IFO1zvOrngiFZIxZrXp4FwE083eDrroYmpbqj2cczK24rXf0zgLa4OqOKhXs2OhTnqV5l2R3Q69caij
X-Received: by 2002:a05:6122:1816:b0:4eb:1a82:2037 with SMTP id
 71dfb90a1353d-4ee4002c83fmr10737992e0c.14.1718681922640; 
 Mon, 17 Jun 2024 20:38:42 -0700 (PDT)
Received: from postal.iol.unh.edu (postal.iol.unh.edu.
 [2606:4100:3880:1234::84]) by smtp-relay.gmail.com with ESMTPS id
 71dfb90a1353d-4ed414327bfsm472967e0c.14.2024.06.17.20.38.42
 (version=TLS1_2 cipher=ECDHE-ECDSA-AES128-GCM-SHA256 bits=128/128);
 Mon, 17 Jun 2024 20:38:42 -0700 (PDT)
X-Relaying-Domain: iol.unh.edu
Date: Mon, 17 Jun 2024 20:38:42 -0700 (PDT)
Message-ID: <66710142.050a0220.d6f4b.fd4fSMTPIN_ADDED_MISSING@mx.google.com>
Received: from [172.21.0.6] (unknown [172.18.0.240])
 by postal.iol.unh.edu (Postfix) with ESMTP id 4C4F8605C380;
 Mon, 17 Jun 2024 23:38:42 -0400 (EDT)
Subject: |SUCCESS| pw141207 [PATCH] vhost: Fix the crash caused by accessing 
From: dpdklab@iol.unh.edu
To: Test Report <test-report@dpdk.org>
Cc: dpdk-test-reports@iol.unh.edu
In-Reply-To: <20240617033539.36949-1-15957197901@163.com>
References: <20240617033539.36949-1-15957197901@163.com>
Content-Type: text/plain
X-BeenThere: test-report@dpdk.org
X-Mailman-Version: 2.1.29
Precedence: list
List-Id: automatic DPDK test reports <test-report.dpdk.org>
List-Unsubscribe: <https://mails.dpdk.org/options/test-report>,
 <mailto:test-report-request@dpdk.org?subject=unsubscribe>
List-Archive: <http://mails.dpdk.org/archives/test-report/>
List-Post: <mailto:test-report@dpdk.org>
List-Help: <mailto:test-report-request@dpdk.org?subject=help>
List-Subscribe: <https://mails.dpdk.org/listinfo/test-report>,
 <mailto:test-report-request@dpdk.org?subject=subscribe>
Errors-To: test-report-bounces@dpdk.org

Test-Label: iol-compile-amd64-testing
Test-Status: SUCCESS
http://dpdk.org/patch/141207

_Testing PASS_

Submitter: zhaoxinxin <15957197901@163.com>
Date: Monday, June 17 2024 03:35:39 
DPDK git baseline: Repo:dpdk
  Branch: master
  CommitID:b303beb6a9b12df49124ee0701027ca72be7aee1

141207 --> testing pass

Test environment and result as below:

+---------------------+--------------------+----------------------+
|     Environment     | dpdk_meson_compile | dpdk_mingw64_compile |
+=====================+====================+======================+
| FreeBSD 13.3        | PASS               | SKIPPED              |
+---------------------+--------------------+----------------------+
| FreeBSD 14.1        | PASS               | SKIPPED              |
+---------------------+--------------------+----------------------+
| Windows Server 2019 | PASS               | PASS                 |
+---------------------+--------------------+----------------------+
| Windows Server 2022 | PASS               | PASS                 |
+---------------------+--------------------+----------------------+


FreeBSD 13.3
	Kernel: 13.3-RELEASE-p1
	Compiler: clang 17.0.6

FreeBSD 14.1
	Kernel: 14.1
	Compiler: clang 18.1.5

Windows Server 2019
	Kernel: 10.0.17763
	Compiler: clang 14.0 and gcc 8.1.0 (MinGW)

Windows Server 2022
	Kernel: 10.0.20348.2031
	Compiler: clang 15.0.7, gcc 8.1.0 (MinGW), and MSVC VS 17.9

To view detailed results, visit:
https://lab.dpdk.org/results/dashboard/patchsets/30210/

UNH-IOL DPDK Community Lab

To manage your email subscriptions, visit: 
https://lab.dpdk.org/results/dashboard/preferences/subscriptions/